Workbook
Name Agg_BB_eur_R: 'Référentiel unitaire'!$Q$20
Name Agg_BB_eur_U: 'Référentiel unitaire'!$Q$21
Name Agg_BB_kg_R: 'Référentiel unitaire'!$Q$18
Name Agg_BB_kg_U: 'Référentiel unitaire'!$Q$19
Name Agg_IBC68_eur_R: 'Référentiel unitaire'!$Q$22
Name Agg_IBC68_eur_U: 'Référentiel unitaire'!$Q$23
Name Agg_IBC69_eur_R: 'Référentiel unitaire'!$Q$24
Name Agg_IBC69_eur_U: 'Référentiel unitaire'!$Q$25
Name Agg_PAL_eur_R: 'Référentiel unitaire'!$Q$16
Name Agg_PAL_eur_U: 'Référentiel unitaire'!$Q$17
Name Agg_PAL_kg_R: 'Référentiel unitaire'!$Q$14
Name Agg_PAL_kg_U: 'Référentiel unitaire'!$Q$15
Name L_BB_Carac: 'Référentiel unitaire'!$U$3:$U$4
Name L_BB_Format: 'Référentiel unitaire'!$R$3:$R$6
Name L_Famille: 'Référentiel unitaire'!$P$3:$P$5
Name L_IBC_Carac: 'Référentiel unitaire'!$T$3:$T$4
Name L_IBC_Format: 'Référentiel unitaire'!$Q$3:$Q$4
Name L_Origine: Données!$A$2:$A$3
Name L_PAL_Carac: 'Référentiel unitaire'!$V$3:$V$5
Name L_PAL_Dosseret: 'Référentiel unitaire'!$W$3:$W$4
Name L_PAL_Format: 'Référentiel unitaire'!$S$3:$S$8
Name L_SansObjet: 'Référentiel unitaire'!$X$3:$X$3
Name L_Usage2: 'Référentiel unitaire'!$Z$3:$Z$4
Name L_Usage3: 'Référentiel unitaire'!$Y$3:$Y$5
Name Ref_Codes: 'Référentiel unitaire'!$A$3:$A$126
Name Ref_Poids: 'Référentiel unitaire'!$K$3:$K$126
Name Ref_Tarif: 'Référentiel unitaire'!$L$3:$L$126

Sheet Tutoriel
B2: Matrice d'aide à la collecte d'information pour la déclaration des mises en marché d'Emballages Professionnels
B8: Objet : Guide d'utilisation de la matrice de recensement des emballages professionnels Cette matrice a pour objectif de recenser l'ensemble de vos emballages professionnels mis sur le marché français. Elle se compose de quatre onglets : - Matrice EPRO Essentielle : Cet onglet vous permet de saisir les informations indispensables à votre future déclaration EPRO. Vous devez y renseigner chaque emballage dont vous êtes le metteur en marché. Ces données correspondent aux obligations fixées par l’État (arrêté relatif aux données des filières REP). Note : Vous pouvez préciser la période de référence dans les cases K2 et L2. Le poids total (colonne L) est calculé automatiquement à partir des colonnes J et K. Le code d'éco-participation Twiice est renseigné automatiquement sur la base des informations des colonnes E à I. - Matrice EPRO Unitaire : Cet onglet vous permet de saisir les données pour votre déclaration à l'unité des IBC / GRV, Big Bags et palettes bois. Pour chaque référence, sélectionnez la famille, puis le format (type d'IBC, tranche de volume du Big Bag ou tranche de surface de plancher de la palette), la caractéristique (classification de l'IBC, toile standard ou doublure / toile lourde du Big Bag, robustesse de la palette), le dosseret pour les palettes, la catégorie d'usage, et saisissez le nombre d'unités de la période de référence. La matrice calcule automatiquement le code éco-participation Twiice, le poids de référence (unités × poids de l'abaque, sauf IBC), le tarif unitaire et l'éco-contribution. La colonne « Contrôle de saisie » doit afficher OK. Les palettes de plus de 3 m² ou non bois se déclarent au poids réel dans l'onglet Matrice EPRO Essentielle. Les lignes "OK" alimentent automatiquement la Calculatrice (lignes 10 - Bois, 64 - PP souple, 68 - IBC neufs et 69 - IBC reconditionnés poche neuve) et l'onglet "Données pour fichier d'import". Pour plus d'information sur les abaques IBC / GRV, BIg Bags et Palettes bois vous pouvez vous référer au guide des tarifs d'éco-contributions 2027 (p.12 à p.14). Note : Pour les IBC / GRV ils sont obligatoirement à déclarer à l'unité. Pour les Big Bags et les palettes bois vous pouvez utiliser la déclaration à l'unité ou la déclaration au poids réel si vous le connaissez en utilisant l'onglet Matrice EPRO Essentielle. - Calculatrice t & budget EPRO : Cet onglet s'alimente automatiquement. Il présente la synthèse de vos emballages par matériau et par usage (unique ou réemployable) ainsi que le budget EPRO correspondant. Attention : Ce tableau n’est pas une grille déclarative d’éco-contributions ; il sert exclusivement à évaluer vos tonnages et votre budget d'éco-contribution total sur la base du barème Twiice 2027. La distinction par usage vous permet d'identifier les emballages éligibles à la prime de réemploi de 50 % (sur le montant de l’éco-contribution) prévue par la filière EPRO pour les emballages réemployables. - Matrice EPRO Avancée : Cet onglet reprend les données de la matrice "Essentielle" et vous permet d’y ajouter des détails techniques complémentaires. Ces informations vous seront utiles pour anticiper d'éventuelles éco-modulations à partir de l'année N+1. Précision : Cette liste exhaustive ne préfigure en rien les futures éco-modulations qui seront officiellement proposées par Twiice. - Données pour fichier d'import : Ce dernier onglet s'alimente automatiquement avec toutes les données nécessaires à la déclaration de vos emballages professionnels dont vous êtes metteur sur le marché. Si vous souhaitez utiliser l'import de masse pour votre déclaration EPRO sur votre espace adhérent MyValobat Adhérent, vous pouvez copier les données des colonnes A, B et C de cet onglet pour les coller sur le fichier dédié "Fichier d'import déclaration". Disponible sur demande auprès de Valobat.
B15: Définition des emballages professionnels Les emballages professionnels regroupent les emballages de vente, de regroupement et de transport utilisés pour la commercialisation de produits consommés ou utilisés par des professionnels. Périmètre de comptabilisation Doivent être comptabilisés les emballages : ① Ceux mis sur le marché national (France Métropolitaine et DROM-COM) ② Les importations d'emballages mis en marché en France ③ Sont exclues les exportations Pour vous aider à identifier votre rôle, vous trouverez ci-dessous un tableau récapitulatif présentant les types d'emballages et les règles permettant de déterminer qui est le « metteur sur le marché ».
B27: #VALUE!
B40: Lexique Type d’emballages Cette catégorie regroupe les typologies d’emballages comme emballage de vente, et les autres emballages (groupement et transport). Emballage de vente : un emballage conçu de manière à constituer au point de vente une unité de vente, elle-même constituée de produits et d’emballages, pour l’utilisateur final; Emballage de groupement : un emballage conçu de manière à constituer au point de vente un groupe d’un certain nombre d’unités de vente, que ce groupe d’unités de vente soit vendu tel quel à l’utilisateur final ou qu’il serve à faciliter le réapprovisionnement des rayons au point de vente ou à créer une unité de stockage ou de distribution, et qui peut être enlevé sans modifier les caractéristiques du produit; Emballage de transport : un emballage conçu de manière à faciliter la manipulation et le transport d’une ou de plus d’une unité de vente ou d’un groupe d’unités de vente, afin d’éviter les dommages au produit liés à leur manipulation et à leur transport, mais à l’exclusion des conteneurs de transport routier, ferroviaire, maritime et aérien; Matériau Le matériau est l’élément principal du calcul de l’éco-contribution. Il est important de rappeler qu’il est nécessaire de déclarer le matériau majoritaire de l’emballage. Si le second matériau de l’emballage fait moins de 5% du poids total de l’emballage, alors il sera nécessaire de déclarer l’emballage dans le matériau majoritaire. Dans l’autre cas, il est nécessaire de séparer la déclaration des matériaux. Catégorie d’usage La catégorie d’usage représente les différents types d’usage d’un emballage selon les définitions du réemploi. 3 catégories d’usage : emballage à usage unique, réemployable et réemployé. Usage unique : Emballage qui n’est pas conçu, créé ou mis sur le marché pour accomplir, pendant sa durée de vie, plusieurs trajets ou rotations en étant retourné à un producteur pour être rempli à nouveau. Réemployable : Emballage conçu, créé et mis sur le marché pour pouvoir accomplir pendant son cycle de vie plusieurs trajets ou rotations pour un usage identique à celui pour lequel il a été conçu. Réemployé : Un emballage réemployable (cf définition précédente) faisant l'objet d'au moins une deuxième utilisation pour un usage de même nature que celui pour lequel il a été conçu, et dont le réemploi est organisé par ou pour le compte du producteur. Classification Cette catégorie permet d’identifier des aspects techniques des emballages ayant un impact sur les obligations réglementaires (réemploi, incorporation…). Sans classification : mon emballage ne répond à aucune spécificité précise (non cités dans la liste) Dangereux : mon emballage est utilisé pour contenir des marchandises dangereuses conformément à la directive 2008/68/CE ; Contact alimentaire : mon emballage est considéré comme sensible au contact alimentaire. Autres contacts sensibles : les emballages pharmaceutiques, cosmétiques, santé / médical et nutrition animale. Eco-modulation Application d’une éco-modulation selon des critères définis par l’ensemble des éco-organismes.
B53: Structure du code éco-contribution Twiice Chaque emballage est identifié par un code d’éco-contribution à 7 chiffres. Ce code est propre à chaque type d’emballage et détermine le barème applicable. Certains éléments du code ont un impact direct sur le montant d’éco-contribution (matériau, usage et éco-modulation). D’autres éléments n’ont pas d’impact financier mais permettent d’évaluer l’atteinte des objectifs réglementaires (type d’emballage et classification).
B59: Vous trouverez ici le texte définitif de l'arrêté périmètre vous permettant d'identifier la filière concernée par les emballages de vente de vos produits : https://www.legifrance.gouv.fr/jorf/id/JORFTEXT000053043132
B62: Pour toute question sur l'utilisation de ce fichier, vous pouvez nous contacter par mail : pierre.cifarelli@valobat.fr

Sheet Matrice EPRO Essentielle
B2: Matrice de collecte de données pour les emballages professionnels en vue de la déclaration EPRO dont vous êtes metteur en marché (les colonnes marquées d'une* représentent les données obligatoires à fournir à l'éco-organisme) | J2: Année de référence : | K2: 2025 | L2: du 01/01/2025 au 31/12/2025
B3: Reference interne | C3: Description ou commentaire | D3: Origine (Import/National) | E3: Type d'emballage (Vente / Regroupement / Transport)* | F3: Catégorie matériaux* | G3: Catégorie d'usage (Unique / Réemployable / Réemployé)* | H3: Classification* | I3: Eco-modulation* | J3: Poids unitaire (kg)* | K3: Volume annuel (unités)* | L3: Poids Total (T) | M3: Code éco-participation Twiice
B4: 1000 | C4: exemple 1 | D4: Import | E4: 1 - Vente | F4: 42 - Papier-carton non complexé | G4: 1 - Usage Unique | H4: 0 - Sans classification | I4: 00 - Sans éco-modulation | J4: 1 | K4: 500 | L4: =J4*K4 -> 500 | M4: =_xlfn.CONCAT(LEFT(E4,1),LEFT(F4,2),LEFT(G4,1),LEFT(H4,1),LEFT(I4,2)) -> 1421000
B5: 1001 | C5: exemple 2 | D5: Import | E5: 2 - Autre (Transport) | F5: 62 - PE souple | G5: 1 - Usage Unique | H5: 0 - Sans classification | I5: 00 - Sans éco-modulation | J5: 0.3 | K5: 1000 | L5: =J5*K5 -> 300 | M5: =_xlfn.CONCAT(LEFT(E5,1),LEFT(F5,2),LEFT(G5,1),LEFT(H5,1),LEFT(I5,2)) -> 2621000
B6: 1002 | C6: exemple 3 | D6: National | E6: 2 - Autre (Transport) | F6: 62 - PE souple | G6: 1 - Usage Unique | H6: 0 - Sans classification | I6: 00 - Sans éco-modulation | J6: 1 | K6: 100 | L6: =J6*K6 -> 100 | M6: =_xlfn.CONCAT(LEFT(E6,1),LEFT(F6,2),LEFT(G6,1),LEFT(H6,1),LEFT(I6,2)) -> 2621000
B7: 1003 | C7: exemple 4 | D7: National | E7: 2 - Autre (Transport) | F7: 42 - Papier-carton non complexé | G7: 1 - Usage Unique | H7: 0 - Sans classification | I7: 00 - Sans éco-modulation | J7: 1 | K7: 50 | L7: =J7*K7 -> 50 | M7: =_xlfn.CONCAT(LEFT(E7,1),LEFT(F7,2),LEFT(G7,1),LEFT(H7,1),LEFT(I7,2)) -> 2421000
B8: 1004 | C8: exemple 5 | D8: Import | E8: 2 - Autre (Transport) | F8: 66 - PET rigide et souple | G8: 1 - Usage Unique | H8: 0 - Sans classification | I8: 00 - Sans éco-modulation | J8: 5 | K8: 50 | L8: =J8*K8 -> 250 | M8: =_xlfn.CONCAT(LEFT(E8,1),LEFT(F8,2),LEFT(G8,1),LEFT(H8,1),LEFT(I8,2)) -> 2661000
B9: 1005 | C9: exemple 6 | D9: National | E9: 2 - Autre (Transport) | F9: 20 - Acier | G9: 1 - Usage Unique | H9: 0 - Sans classification | I9: 00 - Sans éco-modulation | J9: 6 | K9: 50 | L9: =J9*K9 -> 300 | M9: =_xlfn.CONCAT(LEFT(E9,1),LEFT(F9,2),LEFT(G9,1),LEFT(H9,1),LEFT(I9,2)) -> 2201000
B10: 1006 | C10: exemple 7 | D10: Import | E10: 1 - Vente | F10: 67 - PVC rigide et souple | G10: 1 - Usage Unique | H10: 0 - Sans classification | I10: 00 - Sans éco-modulation | J10: 7 | K10: 50 | L10: =J10*K10 -> 350 | M10: =_xlfn.CONCAT(LEFT(E10,1),LEFT(F10,2),LEFT(G10,1),LEFT(H10,1),LEFT(I10,2)) -> 1671000
B11: 1007 | C11: exemple 8 | D11: National | E11: 2 - Autre (Regroupement) | F11: 30 - Aluminium | G11: 1 - Usage Unique | H11: 0 - Sans classification | I11: 00 - Sans éco-modulation | J11: 8 | K11: 50 | L11: =J11*K11 -> 400 | M11: =_xlfn.CONCAT(LEFT(E11,1),LEFT(F11,2),LEFT(G11,1),LEFT(H11,1),LEFT(I11,2)) -> 2301000
B12: 1008 | C12: exemple 9 | D12: Import | E12: 2 - Autre (Regroupement) | F12: 50 - Verre | G12: 1 - Usage Unique | H12: 0 - Sans classification | I12: 00 - Sans éco-modulation | J12: 9 | K12: 50 | L12: =J12*K12 -> 450 | M12: =_xlfn.CONCAT(LEFT(E12,1),LEFT(F12,2),LEFT(G12,1),LEFT(H12,1),LEFT(I12,2)) -> 2501000
B13: 1009 | C13: exemple 10 | D13: National | E13: 2 - Autre (Regroupement) | F13: 30 - Aluminium | G13: 1 - Usage Unique | H13: 0 - Sans classification | I13: 00 - Sans éco-modulation | J13: 10 | K13: 50 | L13: =J13*K13 -> 500 | M13: =_xlfn.CONCAT(LEFT(E13,1),LEFT(F13,2),LEFT(G13,1),LEFT(H13,1),LEFT(I13,2)) -> 2301000
B14: 1010 | C14: exemple 11 | D14: Import | E14: 2 - Autre (Transport) | F14: 10 - Bois | G14: 2 - Réemployable | H14: 0 - Sans classification | I14: 00 - Sans éco-modulation | J14: 11 | K14: 50 | L14: =J14*K14 -> 550 | M14: =_xlfn.CONCAT(LEFT(E14,1),LEFT(F14,2),LEFT(G14,1),LEFT(H14,1),LEFT(I14,2)) -> 2102000
B15: 1011 | C15: exemple 12 | D15: National | E15: 2 - Autre (Transport) | F15: 65 - PS, PSE, XPS | G15: 1 - Usage Unique | H15: 0 - Sans classification | I15: 00 - Sans éco-modulation | J15: 10 | K15: 100 | L15: =J15*K15 -> 1000 | M15: =_xlfn.CONCAT(LEFT(E15,1),LEFT(F15,2),LEFT(G15,1),LEFT(H15,1),LEFT(I15,2)) -> 2651000
... B20: 1016 | C20: exemple 17 | D20: Import | E20: 1 - Vente | F20: 60 - Autres plastiques | G20: 1 - Usage Unique | H20: 0 - Sans classification | I20: 00 - Sans éco-modulation | J20: 10 | K20: 5000 | L20: =J20*K20 -> 50000 | M20: =_xlfn.CONCAT(LEFT(E20,1),LEFT(F20,2),LEFT(G20,1),LEFT(H20,1),LEFT(I20,2)) -> 1601000
L21: =J21*K21 -> 0 | M21: =_xlfn.CONCAT(LEFT(E21,1),LEFT(F21,2),LEFT(G21,1),LEFT(H21,1),LEFT(I21,2))
L22: =J22*K22 -> 0 | M22: =_xlfn.CONCAT(LEFT(E22,1),LEFT(F22,2),LEFT(G22,1),LEFT(H22,1),LEFT(I22,2))
L23: =J23*K23 -> 0 | M23: =_xlfn.CONCAT(LEFT(E23,1),LEFT(F23,2),LEFT(G23,1),LEFT(H23,1),LEFT(I23,2))
L24: =J24*K24 -> 0 | M24: =_xlfn.CONCAT(LEFT(E24,1),LEFT(F24,2),LEFT(G24,1),LEFT(H24,1),LEFT(I24,2))
L25: =J25*K25 -> 0 | M25: =_xlfn.CONCAT(LEFT(E25,1),LEFT(F25,2),LEFT(G25,1),LEFT(H25,1),LEFT(I25,2))
L26: =J26*K26 -> 0 | M26: =_xlfn.CONCAT(LEFT(E26,1),LEFT(F26,2),LEFT(G26,1),LEFT(H26,1),LEFT(I26,2))
L27: =J27*K27 -> 0 | M27: =_xlfn.CONCAT(LEFT(E27,1),LEFT(F27,2),LEFT(G27,1),LEFT(H27,1),LEFT(I27,2))
L28: =J28*K28 -> 0 | M28: =_xlfn.CONCAT(LEFT(E28,1),LEFT(F28,2),LEFT(G28,1),LEFT(H28,1),LEFT(I28,2))
L29: =J29*K29 -> 0 | M29: =_xlfn.CONCAT(LEFT(E29,1),LEFT(F29,2),LEFT(G29,1),LEFT(H29,1),LEFT(I29,2))
L30: =J30*K30 -> 0 | M30: =_xlfn.CONCAT(LEFT(E30,1),LEFT(F30,2),LEFT(G30,1),LEFT(H30,1),LEFT(I30,2))
L31: =J31*K31 -> 0 | M31: =_xlfn.CONCAT(LEFT(E31,1),LEFT(F31,2),LEFT(G31,1),LEFT(H31,1),LEFT(I31,2))
L32: =J32*K32 -> 0 | M32: =_xlfn.CONCAT(LEFT(E32,1),LEFT(F32,2),LEFT(G32,1),LEFT(H32,1),LEFT(I32,2))
... L1000: =J1000*K1000 -> 0 | M1000: =_xlfn.CONCAT(LEFT(E1000,1),LEFT(F1000,2),LEFT(G1000,1),LEFT(H1000,1),LEFT(I1000,2))

Sheet Matrice EPRO Unitaire
B2: Matrice de collecte des emballages déclarés À L'UNITÉ selon les abaques Twiice : IBC / GRV, Big Bags et palettes bois ≤ 3 m² (les colonnes marquées d'une * sont obligatoires ; les colonnes à partir de « Type d'emballage » sont calculées automatiquement) | J2: Année de référence : | K2: ='Matrice EPRO Essentielle'!K2 -> 2025 | L2: ='Matrice EPRO Essentielle'!L2 -> du 01/01/2025 au 31/12/2025
B3: Référence interne | C3: Description ou commentaire | D3: Origine (Import/National) | E3: Famille d'emballage* | F3: Format : type IBC / volume Big Bag / surface de plancher palette* | G3: Caractéristique : classification IBC / toile Big Bag / robustesse palette* | H3: Dosseret (palettes uniquement)* | I3: Catégorie d'usage (Unique / Réemployable / Réemployé)* | J3: Nombre d'unités annuel* | K3: Type d'emballage (calculé) | L3: Poids de référence unitaire (abaque) | M3: Poids Total (T) | N3: Tarif unitaire 2027 (€ / unité) | O3: Éco-contribution estimée (€) | P3: Code éco-participation Twiice | Q3: Contrôle de saisie | R3: Code technique
B4: R01 | C4: Exemple IBC neuf non dangereux | D4: National | E4: IBC / GRV | F4: 68 - IBC neuf | G4: 0 - Sans classification | I4: 1 - Usage Unique | J4: 100 | K4: =IF($Q4="OK",IF($E4="Palette bois","2 - Autre (Regroupement / Transport)","1 - Vente"),"") -> 1 - Vente | L4: =IF($Q4<>"OK","",IF($E4="IBC / GRV","Sans objet",INDEX(Ref_Poids,MATCH($R4,Ref_Codes,0)))) -> Sans objet | M4: =IF(OR($Q4<>"OK",$E4="IBC / GRV"),"",$J4*$L4) | N4: =IF($Q4="OK",INDEX(Ref_Tarif,MATCH($R4,Ref_Codes,0)),"") -> 3 | O4: =IF($Q4="OK",$J4*$N4,"") -> 300 | P4: =IF($Q4="OK",$R4,"") -> 1681000 | Q4: =IF(COUNTA($E4:$J4)=0,"",IF(ISNA(MATCH($E4,L_Famille,0)),"Famille d'emballage à sélectionner dans la liste",IF(AND($E4="Palette bois",$F4=INDEX(L_PAL_Format,6)),"Palette > 3 m² : à déclarer au poids réel dans l'onglet Matrice EPRO Essentielle",IF(OR($F4="",$G4="",$I4="",$J4="",AND($E4="Palette bois",$H4="")),"Ligne incomplète : renseigner tous les champs obligatoires (*)",IF(OR(ISNA(MATCH($F4,CHOOSE(MATCH($E4,L_Famille,0),L_IBC_Format,L_BB_Format,L_PAL_Format),0)),ISNA(MATCH($G4,CHOOSE(MATCH($E4,L_Famille,0),L_IBC_Carac,L_BB_Carac,L_PAL_Carac),0)),ISNA(MATCH($I4,L_Usage3,0)),AND($E4="Palette bois",ISNA(MATCH($H4,L_PAL_Dosseret,0)))),"Valeur incohérente avec la famille : re-sélectionner dans les listes",IF(NOT(ISNUMBER($J4)),"Nombre d'unités : saisir un nombre entier ≥ 1",IF(OR($J4<1,$J4<>INT($J4)),"Nombre d'unités : saisir un nombre entier ≥ 1",IF(ISNA(MATCH($R4,Ref_Codes,0)),"Combinaison non prévue au barème Twiice 2027","OK")))))))) -> OK | R4: =IF(OR($E4="",$F4="",$G4="",$I4=""),"",IFERROR(IF($E4="IBC / GRV","1"&LEFT($F4,2)&LEFT($I4,1)&LEFT($G4,1)&"00",IF($E4="Big Bag","1"&(89+2*MATCH($F4,L_BB_Format,0)+IF($G4=INDEX(L_BB_Carac,2),1,0))&LEFT($I4,1)&"000",IF($E4="Palette bois","2"&(10+MATCH($F4,L_PAL_Format,0))&LEFT($I4,1)&LEFT($G4,1)&IF($H4=INDEX(L_PAL_Dosseret,2),"11","00"),""))),"")) -> 1681000
B5: R02 | C5: Exemple IBC neuf dangereux réemployable | D5: Import | E5: IBC / GRV | F5: 68 - IBC neuf | G5: 1 - Dangereux | I5: 2 - Réemployable | J5: 40 | K5: =IF($Q5="OK",IF($E5="Palette bois","2 - Autre (Regroupement / Transport)","1 - Vente"),"") -> 1 - Vente | L5: =IF($Q5<>"OK","",IF($E5="IBC / GRV","Sans objet",INDEX(Ref_Poids,MATCH($R5,Ref_Codes,0)))) -> Sans objet | M5: =IF(OR($Q5<>"OK",$E5="IBC / GRV"),"",$J5*$L5) | N5: =IF($Q5="OK",INDEX(Ref_Tarif,MATCH($R5,Ref_Codes,0)),"") -> 1.5 | O5: =IF($Q5="OK",$J5*$N5,"") -> 60 | P5: =IF($Q5="OK",$R5,"") -> 1682100 | Q5: =IF(COUNTA($E5:$J5)=0,"",IF(ISNA(MATCH($E5,L_Famille,0)),"Famille d'emballage à sélectionner dans la liste",IF(AND($E5="Palette bois",$F5=INDEX(L_PAL_Format,6)),"Palette > 3 m² : à déclarer au poids réel dans l'onglet Matrice EPRO Essentielle",IF(OR($F5="",$G5="",$I5="",$J5="",AND($E5="Palette bois",$H5="")),"Ligne incomplète : renseigner tous les champs obligatoires (*)",IF(OR(ISNA(MATCH($F5,CHOOSE(MATCH($E5,L_Famille,0),L_IBC_Format,L_BB_Format,L_PAL_Format),0)),ISNA(MATCH($G5,CHOOSE(MATCH($E5,L_Famille,0),L_IBC_Carac,L_BB_Carac,L_PAL_Carac),0)),ISNA(MATCH($I5,L_Usage3,0)),AND($E5="Palette bois",ISNA(MATCH($H5,L_PAL_Dosseret,0)))),"Valeur incohérente avec la famille : re-sélectionner dans les listes",IF(NOT(ISNUMBER($J5)),"Nombre d'unités : saisir un nombre entier ≥ 1",IF(OR($J5<1,$J5<>INT($J5)),"Nombre d'unités : saisir un nombre entier ≥ 1",IF(ISNA(MATCH($R5,Ref_Codes,0)),"Combinaison non prévue au barème Twiice 2027","OK")))))))) -> OK | R5: =IF(OR($E5="",$F5="",$G5="",$I5=""),"",IFERROR(IF($E5="IBC / GRV","1"&LEFT($F5,2)&LEFT($I5,1)&LEFT($G5,1)&"00",IF($E5="Big Bag","1"&(89+2*MATCH($F5,L_BB_Format,0)+IF($G5=INDEX(L_BB_Carac,2),1,0))&LEFT($I5,1)&"000",IF($E5="Palette bois","2"&(10+MATCH($F5,L_PAL_Format,0))&LEFT($I5,1)&LEFT($G5,1)&IF($H5=INDEX(L_PAL_Dosseret,2),"11","00"),""))),"")) -> 1682100
B6: R03 | C6: Exemple IBC reconditionné poche neuve | D6: National | E6: IBC / GRV | F6: 69 - IBC reconditionné (poche neuve) | G6: 0 - Sans classification | I6: 1 - Usage Unique | J6: 20 | K6: =IF($Q6="OK",IF($E6="Palette bois","2 - Autre (Regroupement / Transport)","1 - Vente"),"") -> 1 - Vente | L6: =IF($Q6<>"OK","",IF($E6="IBC / GRV","Sans objet",INDEX(Ref_Poids,MATCH($R6,Ref_Codes,0)))) -> Sans objet | M6: =IF(OR($Q6<>"OK",$E6="IBC / GRV"),"",$J6*$L6) | N6: =IF($Q6="OK",INDEX(Ref_Tarif,MATCH($R6,Ref_Codes,0)),"") -> 1.5 | O6: =IF($Q6="OK",$J6*$N6,"") -> 30 | P6: =IF($Q6="OK",$R6,"") -> 1691000 | Q6: =IF(COUNTA($E6:$J6)=0,"",IF(ISNA(MATCH($E6,L_Famille,0)),"Famille d'emballage à sélectionner dans la liste",IF(AND($E6="Palette bois",$F6=INDEX(L_PAL_Format,6)),"Palette > 3 m² : à déclarer au poids réel dans l'onglet Matrice EPRO Essentielle",IF(OR($F6="",$G6="",$I6="",$J6="",AND($E6="Palette bois",$H6="")),"Ligne incomplète : renseigner tous les champs obligatoires (*)",IF(OR(ISNA(MATCH($F6,CHOOSE(MATCH($E6,L_Famille,0),L_IBC_Format,L_BB_Format,L_PAL_Format),0)),ISNA(MATCH($G6,CHOOSE(MATCH($E6,L_Famille,0),L_IBC_Carac,L_BB_Carac,L_PAL_Carac),0)),ISNA(MATCH($I6,L_Usage3,0)),AND($E6="Palette bois",ISNA(MATCH($H6,L_PAL_Dosseret,0)))),"Valeur incohérente avec la famille : re-sélectionner dans les listes",IF(NOT(ISNUMBER($J6)),"Nombre d'unités : saisir un nombre entier ≥ 1",IF(OR($J6<1,$J6<>INT($J6)),"Nombre d'unités : saisir un nombre entier ≥ 1",IF(ISNA(MATCH($R6,Ref_Codes,0)),"Combinaison non prévue au barème Twiice 2027","OK")))))))) -> OK | R6: =IF(OR($E6="",$F6="",$G6="",$I6=""),"",IFERROR(IF($E6="IBC / GRV","1"&LEFT($F6,2)&LEFT($I6,1)&LEFT($G6,1)&"00",IF($E6="Big Bag","1"&(89+2*MATCH($F6,L_BB_Format,0)+IF($G6=INDEX(L_BB_Carac,2),1,0))&LEFT($I6,1)&"000",IF($E6="Palette bois","2"&(10+MATCH($F6,L_PAL_Format,0))&LEFT($I6,1)&LEFT($G6,1)&IF($H6=INDEX(L_PAL_Dosseret,2),"11","00"),""))),"")) -> 1691000
B7: R04 | C7: Exemple Big Bag ≤ 0,5 m³ standard | D7: Import | E7: Big Bag | F7: Volume ≤ 0,5 m³ | G7: Toile standard | I7: 1 - Usage Unique | J7: 1000 | K7: =IF($Q7="OK",IF($E7="Palette bois","2 - Autre (Regroupement / Transport)","1 - Vente"),"") -> 1 - Vente | L7: =IF($Q7<>"OK","",IF($E7="IBC / GRV","Sans objet",INDEX(Ref_Poids,MATCH($R7,Ref_Codes,0)))) -> 0.8 | M7: =IF(OR($Q7<>"OK",$E7="IBC / GRV"),"",$J7*$L7) -> 800 | N7: =IF($Q7="OK",INDEX(Ref_Tarif,MATCH($R7,Ref_Codes,0)),"") -> 0.212 | O7: =IF($Q7="OK",$J7*$N7,"") -> 212 | P7: =IF($Q7="OK",$R7,"") -> 1911000 | Q7: =IF(COUNTA($E7:$J7)=0,"",IF(ISNA(MATCH($E7,L_Famille,0)),"Famille d'emballage à sélectionner dans la liste",IF(AND($E7="Palette bois",$F7=INDEX(L_PAL_Format,6)),"Palette > 3 m² : à déclarer au poids réel dans l'onglet Matrice EPRO Essentielle",IF(OR($F7="",$G7="",$I7="",$J7="",AND($E7="Palette bois",$H7="")),"Ligne incomplète : renseigner tous les champs obligatoires (*)",IF(OR(ISNA(MATCH($F7,CHOOSE(MATCH($E7,L_Famille,0),L_IBC_Format,L_BB_Format,L_PAL_Format),0)),ISNA(MATCH($G7,CHOOSE(MATCH($E7,L_Famille,0),L_IBC_Carac,L_BB_Carac,L_PAL_Carac),0)),ISNA(MATCH($I7,L_Usage3,0)),AND($E7="Palette bois",ISNA(MATCH($H7,L_PAL_Dosseret,0)))),"Valeur incohérente avec la famille : re-sélectionner dans les listes",IF(NOT(ISNUMBER($J7)),"Nombre d'unités : saisir un nombre entier ≥ 1",IF(OR($J7<1,$J7<>INT($J7)),"Nombre d'unités : saisir un nombre entier ≥ 1",IF(ISNA(MATCH($R7,Ref_Codes,0)),"Combinaison non prévue au barème Twiice 2027","OK")))))))) -> OK | R7: =IF(OR($E7="",$F7="",$G7="",$I7=""),"",IFERROR(IF($E7="IBC / GRV","1"&LEFT($F7,2)&LEFT($I7,1)&LEFT($G7,1)&"00",IF($E7="Big Bag","1"&(89+2*MATCH($F7,L_BB_Format,0)+IF($G7=INDEX(L_BB_Carac,2),1,0))&LEFT($I7,1)&"000",IF($E7="Palette bois","2"&(10+MATCH($F7,L_PAL_Format,0))&LEFT($I7,1)&LEFT($G7,1)&IF($H7=INDEX(L_PAL_Dosseret,2),"11","00"),""))),"")) -> 1911000
B8: R05 | C8: Exemple Big Bag 1,2-1,9 m³ doublure | D8: Import | E8: Big Bag | F8: 1,2 m³ < Volume ≤ 1,9 m³ | G8: Doublure PE / Toile lourde (+45 %) | I8: 1 - Usage Unique | J8: 500 | K8: =IF($Q8="OK",IF($E8="Palette bois","2 - Autre (Regroupement / Transport)","1 - Vente"),"") -> 1 - Vente | L8: =IF($Q8<>"OK","",IF($E8="IBC / GRV","Sans objet",INDEX(Ref_Poids,MATCH($R8,Ref_Codes,0)))) -> 2.9 | M8: =IF(OR($Q8<>"OK",$E8="IBC / GRV"),"",$J8*$L8) -> 1450 | N8: =IF($Q8="OK",INDEX(Ref_Tarif,MATCH($R8,Ref_Codes,0)),"") -> 0.767 | O8: =IF($Q8="OK",$J8*$N8,"") -> 383.5 | P8: =IF($Q8="OK",$R8,"") -> 1961000 | Q8: =IF(COUNTA($E8:$J8)=0,"",IF(ISNA(MATCH($E8,L_Famille,0)),"Famille d'emballage à sélectionner dans la liste",IF(AND($E8="Palette bois",$F8=INDEX(L_PAL_Format,6)),"Palette > 3 m² : à déclarer au poids réel dans l'onglet Matrice EPRO Essentielle",IF(OR($F8="",$G8="",$I8="",$J8="",AND($E8="Palette bois",$H8="")),"Ligne incomplète : renseigner tous les champs obligatoires (*)",IF(OR(ISNA(MATCH($F8,CHOOSE(MATCH($E8,L_Famille,0),L_IBC_Format,L_BB_Format,L_PAL_Format),0)),ISNA(MATCH($G8,CHOOSE(MATCH($E8,L_Famille,0),L_IBC_Carac,L_BB_Carac,L_PAL_Carac),0)),ISNA(MATCH($I8,L_Usage3,0)),AND($E8="Palette bois",ISNA(MATCH($H8,L_PAL_Dosseret,0)))),"Valeur incohérente avec la famille : re-sélectionner dans les listes",IF(NOT(ISNUMBER($J8)),"Nombre d'unités : saisir un nombre entier ≥ 1",IF(OR($J8<1,$J8<>INT($J8)),"Nombre d'unités : saisir un nombre entier ≥ 1",IF(ISNA(MATCH($R8,Ref_Codes,0)),"Combinaison non prévue au barème Twiice 2027","OK")))))))) -> OK | R8: =IF(OR($E8="",$F8="",$G8="",$I8=""),"",IFERROR(IF($E8="IBC / GRV","1"&LEFT($F8,2)&LEFT($I8,1)&LEFT($G8,1)&"00",IF($E8="Big Bag","1"&(89+2*MATCH($F8,L_BB_Format,0)+IF($G8=INDEX(L_BB_Carac,2),1,0))&LEFT($I8,1)&"000",IF($E8="Palette bois","2"&(10+MATCH($F8,L_PAL_Format,0))&LEFT($I8,1)&LEFT($G8,1)&IF($H8=INDEX(L_PAL_Dosseret,2),"11","00"),""))),"")) -> 1961000
B9: R06 | C9: Exemple Big Bag 0,5-1,2 m³ réemployable | D9: National | E9: Big Bag | F9: 0,5 m³ < Volume ≤ 1,2 m³ | G9: Toile standard | I9: 2 - Réemployable | J9: 200 | K9: =IF($Q9="OK",IF($E9="Palette bois","2 - Autre (Regroupement / Transport)","1 - Vente"),"") -> 1 - Vente | L9: =IF($Q9<>"OK","",IF($E9="IBC / GRV","Sans objet",INDEX(Ref_Poids,MATCH($R9,Ref_Codes,0)))) -> 1.5 | M9: =IF(OR($Q9<>"OK",$E9="IBC / GRV"),"",$J9*$L9) -> 300 | N9: =IF($Q9="OK",INDEX(Ref_Tarif,MATCH($R9,Ref_Codes,0)),"") -> 0.1985 | O9: =IF($Q9="OK",$J9*$N9,"") -> 39.7 | P9: =IF($Q9="OK",$R9,"") -> 1932000 | Q9: =IF(COUNTA($E9:$J9)=0,"",IF(ISNA(MATCH($E9,L_Famille,0)),"Famille d'emballage à sélectionner dans la liste",IF(AND($E9="Palette bois",$F9=INDEX(L_PAL_Format,6)),"Palette > 3 m² : à déclarer au poids réel dans l'onglet Matrice EPRO Essentielle",IF(OR($F9="",$G9="",$I9="",$J9="",AND($E9="Palette bois",$H9="")),"Ligne incomplète : renseigner tous les champs obligatoires (*)",IF(OR(ISNA(MATCH($F9,CHOOSE(MATCH($E9,L_Famille,0),L_IBC_Format,L_BB_Format,L_PAL_Format),0)),ISNA(MATCH($G9,CHOOSE(MATCH($E9,L_Famille,0),L_IBC_Carac,L_BB_Carac,L_PAL_Carac),0)),ISNA(MATCH($I9,L_Usage3,0)),AND($E9="Palette bois",ISNA(MATCH($H9,L_PAL_Dosseret,0)))),"Valeur incohérente avec la famille : re-sélectionner dans les listes",IF(NOT(ISNUMBER($J9)),"Nombre d'unités : saisir un nombre entier ≥ 1",IF(OR($J9<1,$J9<>INT($J9)),"Nombre d'unités : saisir un nombre entier ≥ 1",IF(ISNA(MATCH($R9,Ref_Codes,0)),"Combinaison non prévue au barème Twiice 2027","OK")))))))) -> OK | R9: =IF(OR($E9="",$F9="",$G9="",$I9=""),"",IFERROR(IF($E9="IBC / GRV","1"&LEFT($F9,2)&LEFT($I9,1)&LEFT($G9,1)&"00",IF($E9="Big Bag","1"&(89+2*MATCH($F9,L_BB_Format,0)+IF($G9=INDEX(L_BB_Carac,2),1,0))&LEFT($I9,1)&"000",IF($E9="Palette bois","2"&(10+MATCH($F9,L_PAL_Format,0))&LEFT($I9,1)&LEFT($G9,1)&IF($H9=INDEX(L_PAL_Dosseret,2),"11","00"),""))),"")) -> 1932000
B10: R07 | C10: Exemple Big Bag > 1,9 m³ réemployé | D10: National | E10: Big Bag | F10: Volume > 1,9 m³ | G10: Toile standard | I10: 3 - Réemployé | J10: 50 | K10: =IF($Q10="OK",IF($E10="Palette bois","2 - Autre (Regroupement / Transport)","1 - Vente"),"") -> 1 - Vente | L10: =IF($Q10<>"OK","",IF($E10="IBC / GRV","Sans objet",INDEX(Ref_Poids,MATCH($R10,Ref_Codes,0)))) -> 2.4 | M10: =IF(OR($Q10<>"OK",$E10="IBC / GRV"),"",$J10*$L10) -> 120 | N10: =IF($Q10="OK",INDEX(Ref_Tarif,MATCH($R10,Ref_Codes,0)),"") -> 0 | O10: =IF($Q10="OK",$J10*$N10,"") -> 0 | P10: =IF($Q10="OK",$R10,"") -> 1973000 | Q10: =IF(COUNTA($E10:$J10)=0,"",IF(ISNA(MATCH($E10,L_Famille,0)),"Famille d'emballage à sélectionner dans la liste",IF(AND($E10="Palette bois",$F10=INDEX(L_PAL_Format,6)),"Palette > 3 m² : à déclarer au poids réel dans l'onglet Matrice EPRO Essentielle",IF(OR($F10="",$G10="",$I10="",$J10="",AND($E10="Palette bois",$H10="")),"Ligne incomplète : renseigner tous les champs obligatoires (*)",IF(OR(ISNA(MATCH($F10,CHOOSE(MATCH($E10,L_Famille,0),L_IBC_Format,L_BB_Format,L_PAL_Format),0)),ISNA(MATCH($G10,CHOOSE(MATCH($E10,L_Famille,0),L_IBC_Carac,L_BB_Carac,L_PAL_Carac),0)),ISNA(MATCH($I10,L_Usage3,0)),AND($E10="Palette bois",ISNA(MATCH($H10,L_PAL_Dosseret,0)))),"Valeur incohérente avec la famille : re-sélectionner dans les listes",IF(NOT(ISNUMBER($J10)),"Nombre d'unités : saisir un nombre entier ≥ 1",IF(OR($J10<1,$J10<>INT($J10)),"Nombre d'unités : saisir un nombre entier ≥ 1",IF(ISNA(MATCH($R10,Ref_Codes,0)),"Combinaison non prévue au barème Twiice 2027","OK")))))))) -> OK | R10: =IF(OR($E10="",$F10="",$G10="",$I10=""),"",IFERROR(IF($E10="IBC / GRV","1"&LEFT($F10,2)&LEFT($I10,1)&LEFT($G10,1)&"00",IF($E10="Big Bag","1"&(89+2*MATCH($F10,L_BB_Format,0)+IF($G10=INDEX(L_BB_Carac,2),1,0))&LEFT($I10,1)&"000",IF($E10="Palette bois","2"&(10+MATCH($F10,L_PAL_Format,0))&LEFT($I10,1)&LEFT($G10,1)&IF($H10=INDEX(L_PAL_Dosseret,2),"11","00"),""))),"")) -> 1973000
B11: R08 | C11: Exemple Palette lourde/EPAL 0,5-1 m² | D11: National | E11: Palette bois | F11: 0,5 m² < Surface ≤ 1 m² | G11: 4 - Lourde / EPAL | H11: Sans dosseret | I11: 1 - Usage Unique | J11: 1000 | K11: =IF($Q11="OK",IF($E11="Palette bois","2 - Autre (Regroupement / Transport)","1 - Vente"),"") -> 2 - Autre (Regroupement / Transport) | L11: =IF($Q11<>"OK","",IF($E11="IBC / GRV","Sans objet",INDEX(Ref_Poids,MATCH($R11,Ref_Codes,0)))) -> 25 | M11: =IF(OR($Q11<>"OK",$E11="IBC / GRV"),"",$J11*$L11) -> 25000 | N11: =IF($Q11="OK",INDEX(Ref_Tarif,MATCH($R11,Ref_Codes,0)),"") -> 0.198 | O11: =IF($Q11="OK",$J11*$N11,"") -> 198 | P11: =IF($Q11="OK",$R11,"") -> 2121400 | Q11: =IF(COUNTA($E11:$J11)=0,"",IF(ISNA(MATCH($E11,L_Famille,0)),"Famille d'emballage à sélectionner dans la liste",IF(AND($E11="Palette bois",$F11=INDEX(L_PAL_Format,6)),"Palette > 3 m² : à déclarer au poids réel dans l'onglet Matrice EPRO Essentielle",IF(OR($F11="",$G11="",$I11="",$J11="",AND($E11="Palette bois",$H11="")),"Ligne incomplète : renseigner tous les champs obligatoires (*)",IF(OR(ISNA(MATCH($F11,CHOOSE(MATCH($E11,L_Famille,0),L_IBC_Format,L_BB_Format,L_PAL_Format),0)),ISNA(MATCH($G11,CHOOSE(MATCH($E11,L_Famille,0),L_IBC_Carac,L_BB_Carac,L_PAL_Carac),0)),ISNA(MATCH($I11,L_Usage3,0)),AND($E11="Palette bois",ISNA(MATCH($H11,L_PAL_Dosseret,0)))),"Valeur incohérente avec la famille : re-sélectionner dans les listes",IF(NOT(ISNUMBER($J11)),"Nombre d'unités : saisir un nombre entier ≥ 1",IF(OR($J11<1,$J11<>INT($J11)),"Nombre d'unités : saisir un nombre entier ≥ 1",IF(ISNA(MATCH($R11,Ref_Codes,0)),"Combinaison non prévue au barème Twiice 2027","OK")))))))) -> OK | R11: =IF(OR($E11="",$F11="",$G11="",$I11=""),"",IFERROR(IF($E11="IBC / GRV","1"&LEFT($F11,2)&LEFT($I11,1)&LEFT($G11,1)&"00",IF($E11="Big Bag","1"&(89+2*MATCH($F11,L_BB_Format,0)+IF($G11=INDEX(L_BB_Carac,2),1,0))&LEFT($I11,1)&"000",IF($E11="Palette bois","2"&(10+MATCH($F11,L_PAL_Format,0))&LEFT($I11,1)&LEFT($G11,1)&IF($H11=INDEX(L_PAL_Dosseret,2),"11","00"),""))),"")) -> 2121400
B12: R09 | C12: Exemple Palette lourde/EPAL 0,5-1 m² dosseret | D12: National | E12: Palette bois | F12: 0,5 m² < Surface ≤ 1 m² | G12: 4 - Lourde / EPAL | H12: Avec dosseret | I12: 1 - Usage Unique | J12: 100 | K12: =IF($Q12="OK",IF($E12="Palette bois","2 - Autre (Regroupement / Transport)","1 - Vente"),"") -> 2 - Autre (Regroupement / Transport) | L12: =IF($Q12<>"OK","",IF($E12="IBC / GRV","Sans objet",INDEX(Ref_Poids,MATCH($R12,Ref_Codes,0)))) -> 35 | M12: =IF(OR($Q12<>"OK",$E12="IBC / GRV"),"",$J12*$L12) -> 3500 | N12: =IF($Q12="OK",INDEX(Ref_Tarif,MATCH($R12,Ref_Codes,0)),"") -> 0.277 | O12: =IF($Q12="OK",$J12*$N12,"") -> 27.7 | P12: =IF($Q12="OK",$R12,"") -> 2121411 | Q12: =IF(COUNTA($E12:$J12)=0,"",IF(ISNA(MATCH($E12,L_Famille,0)),"Famille d'emballage à sélectionner dans la liste",IF(AND($E12="Palette bois",$F12=INDEX(L_PAL_Format,6)),"Palette > 3 m² : à déclarer au poids réel dans l'onglet Matrice EPRO Essentielle",IF(OR($F12="",$G12="",$I12="",$J12="",AND($E12="Palette bois",$H12="")),"Ligne incomplète : renseigner tous les champs obligatoires (*)",IF(OR(ISNA(MATCH($F12,CHOOSE(MATCH($E12,L_Famille,0),L_IBC_Format,L_BB_Format,L_PAL_Format),0)),ISNA(MATCH($G12,CHOOSE(MATCH($E12,L_Famille,0),L_IBC_Carac,L_BB_Carac,L_PAL_Carac),0)),ISNA(MATCH($I12,L_Usage3,0)),AND($E12="Palette bois",ISNA(MATCH($H12,L_PAL_Dosseret,0)))),"Valeur incohérente avec la famille : re-sélectionner dans les listes",IF(NOT(ISNUMBER($J12)),"Nombre d'unités : saisir un nombre entier ≥ 1",IF(OR($J12<1,$J12<>INT($J12)),"Nombre d'unités : saisir un nombre entier ≥ 1",IF(ISNA(MATCH($R12,Ref_Codes,0)),"Combinaison non prévue au barème Twiice 2027","OK")))))))) -> OK | R12: =IF(OR($E12="",$F12="",$G12="",$I12=""),"",IFERROR(IF($E12="IBC / GRV","1"&LEFT($F12,2)&LEFT($I12,1)&LEFT($G12,1)&"00",IF($E12="Big Bag","1"&(89+2*MATCH($F12,L_BB_Format,0)+IF($G12=INDEX(L_BB_Carac,2),1,0))&LEFT($I12,1)&"000",IF($E12="Palette bois","2"&(10+MATCH($F12,L_PAL_Format,0))&LEFT($I12,1)&LEFT($G12,1)&IF($H12=INDEX(L_PAL_Dosseret,2),"11","00"),""))),"")) -> 2121411
B13: R10 | C13: Exemple Palette légère 2-3 m² réemployable | D13: Import | E13: Palette bois | F13: 2 m² < Surface ≤ 3 m² | G13: 6 - Légère / Perdue | H13: Sans dosseret | I13: 2 - Réemployable | J13: 300 | K13: =IF($Q13="OK",IF($E13="Palette bois","2 - Autre (Regroupement / Transport)","1 - Vente"),"") -> 2 - Autre (Regroupement / Transport) | L13: =IF($Q13<>"OK","",IF($E13="IBC / GRV","Sans objet",INDEX(Ref_Poids,MATCH($R13,Ref_Codes,0)))) -> 45 | M13: =IF(OR($Q13<>"OK",$E13="IBC / GRV"),"",$J13*$L13) -> 13500 | N13: =IF($Q13="OK",INDEX(Ref_Tarif,MATCH($R13,Ref_Codes,0)),"") -> 0.178 | O13: =IF($Q13="OK",$J13*$N13,"") -> 53.4 | P13: =IF($Q13="OK",$R13,"") -> 2152600 | Q13: =IF(COUNTA($E13:$J13)=0,"",IF(ISNA(MATCH($E13,L_Famille,0)),"Famille d'emballage à sélectionner dans la liste",IF(AND($E13="Palette bois",$F13=INDEX(L_PAL_Format,6)),"Palette > 3 m² : à déclarer au poids réel dans l'onglet Matrice EPRO Essentielle",IF(OR($F13="",$G13="",$I13="",$J13="",AND($E13="Palette bois",$H13="")),"Ligne incomplète : renseigner tous les champs obligatoires (*)",IF(OR(ISNA(MATCH($F13,CHOOSE(MATCH($E13,L_Famille,0),L_IBC_Format,L_BB_Format,L_PAL_Format),0)),ISNA(MATCH($G13,CHOOSE(MATCH($E13,L_Famille,0),L_IBC_Carac,L_BB_Carac,L_PAL_Carac),0)),ISNA(MATCH($I13,L_Usage3,0)),AND($E13="Palette bois",ISNA(MATCH($H13,L_PAL_Dosseret,0)))),"Valeur incohérente avec la famille : re-sélectionner dans les listes",IF(NOT(ISNUMBER($J13)),"Nombre d'unités : saisir un nombre entier ≥ 1",IF(OR($J13<1,$J13<>INT($J13)),"Nombre d'unités : saisir un nombre entier ≥ 1",IF(ISNA(MATCH($R13,Ref_Codes,0)),"Combinaison non prévue au barème Twiice 2027","OK")))))))) -> OK | R13: =IF(OR($E13="",$F13="",$G13="",$I13=""),"",IFERROR(IF($E13="IBC / GRV","1"&LEFT($F13,2)&LEFT($I13,1)&LEFT($G13,1)&"00",IF($E13="Big Bag","1"&(89+2*MATCH($F13,L_BB_Format,0)+IF($G13=INDEX(L_BB_Carac,2),1,0))&LEFT($I13,1)&"000",IF($E13="Palette bois","2"&(10+MATCH($F13,L_PAL_Format,0))&LEFT($I13,1)&LEFT($G13,1)&IF($H13=INDEX(L_PAL_Dosseret,2),"11","00"),""))),"")) -> 2152600
K16: =IF($Q16="OK",IF($E16="Palette bois","2 - Autre (Regroupement / Transport)","1 - Vente"),"") | L16: =IF($Q16<>"OK","",IF($E16="IBC / GRV","Sans objet",INDEX(Ref_Poids,MATCH($R16,Ref_Codes,0)))) | M16: =IF(OR($Q16<>"OK",$E16="IBC / GRV"),"",$J16*$L16) | N16: =IF($Q16="OK",INDEX(Ref_Tarif,MATCH($R16,Ref_Codes,0)),"") | O16: =IF($Q16="OK",$J16*$N16,"") | P16: =IF($Q16="OK",$R16,"") | Q16: =IF(COUNTA($E16:$J16)=0,"",IF(ISNA(MATCH($E16,L_Famille,0)),"Famille d'emballage à sélectionner dans la liste",IF(AND($E16="Palette bois",$F16=INDEX(L_PAL_Format,6)),"Palette > 3 m² : à déclarer au poids réel dans l'onglet Matrice EPRO Essentielle",IF(OR($F16="",$G16="",$I16="",$J16="",AND($E16="Palette bois",$H16="")),"Ligne incomplète : renseigner tous les champs obligatoires (*)",IF(OR(ISNA(MATCH($F16,CHOOSE(MATCH($E16,L_Famille,0),L_IBC_Format,L_BB_Format,L_PAL_Format),0)),ISNA(MATCH($G16,CHOOSE(MATCH($E16,L_Famille,0),L_IBC_Carac,L_BB_Carac,L_PAL_Carac),0)),ISNA(MATCH($I16,L_Usage3,0)),AND($E16="Palette bois",ISNA(MATCH($H16,L_PAL_Dosseret,0)))),"Valeur incohérente avec la famille : re-sélectionner dans les listes",IF(NOT(ISNUMBER($J16)),"Nombre d'unités : saisir un nombre entier ≥ 1",IF(OR($J16<1,$J16<>INT($J16)),"Nombre d'unités : saisir un nombre entier ≥ 1",IF(ISNA(MATCH($R16,Ref_Codes,0)),"Combinaison non prévue au barème Twiice 2027","OK")))))))) | R16: =IF(OR($E16="",$F16="",$G16="",$I16=""),"",IFERROR(IF($E16="IBC / GRV","1"&LEFT($F16,2)&LEFT($I16,1)&LEFT($G16,1)&"00",IF($E16="Big Bag","1"&(89+2*MATCH($F16,L_BB_Format,0)+IF($G16=INDEX(L_BB_Carac,2),1,0))&LEFT($I16,1)&"000",IF($E16="Palette bois","2"&(10+MATCH($F16,L_PAL_Format,0))&LEFT($I16,1)&LEFT($G16,1)&IF($H16=INDEX(L_PAL_Dosseret,2),"11","00"),""))),""))
K17: =IF($Q17="OK",IF($E17="Palette bois","2 - Autre (Regroupement / Transport)","1 - Vente"),"") | L17: =IF($Q17<>"OK","",IF($E17="IBC / GRV","Sans objet",INDEX(Ref_Poids,MATCH($R17,Ref_Codes,0)))) | M17: =IF(OR($Q17<>"OK",$E17="IBC / GRV"),"",$J17*$L17) | N17: =IF($Q17="OK",INDEX(Ref_Tarif,MATCH($R17,Ref_Codes,0)),"") | O17: =IF($Q17="OK",$J17*$N17,"") | P17: =IF($Q17="OK",$R17,"") | Q17: =IF(COUNTA($E17:$J17)=0,"",IF(ISNA(MATCH($E17,L_Famille,0)),"Famille d'emballage à sélectionner dans la liste",IF(AND($E17="Palette bois",$F17=INDEX(L_PAL_Format,6)),"Palette > 3 m² : à déclarer au poids réel dans l'onglet Matrice EPRO Essentielle",IF(OR($F17="",$G17="",$I17="",$J17="",AND($E17="Palette bois",$H17="")),"Ligne incomplète : renseigner tous les champs obligatoires (*)",IF(OR(ISNA(MATCH($F17,CHOOSE(MATCH($E17,L_Famille,0),L_IBC_Format,L_BB_Format,L_PAL_Format),0)),ISNA(MATCH($G17,CHOOSE(MATCH($E17,L_Famille,0),L_IBC_Carac,L_BB_Carac,L_PAL_Carac),0)),ISNA(MATCH($I17,L_Usage3,0)),AND($E17="Palette bois",ISNA(MATCH($H17,L_PAL_Dosseret,0)))),"Valeur incohérente avec la famille : re-sélectionner dans les listes",IF(NOT(ISNUMBER($J17)),"Nombre d'unités : saisir un nombre entier ≥ 1",IF(OR($J17<1,$J17<>INT($J17)),"Nombre d'unités : saisir un nombre entier ≥ 1",IF(ISNA(MATCH($R17,Ref_Codes,0)),"Combinaison non prévue au barème Twiice 2027","OK")))))))) | R17: =IF(OR($E17="",$F17="",$G17="",$I17=""),"",IFERROR(IF($E17="IBC / GRV","1"&LEFT($F17,2)&LEFT($I17,1)&LEFT($G17,1)&"00",IF($E17="Big Bag","1"&(89+2*MATCH($F17,L_BB_Format,0)+IF($G17=INDEX(L_BB_Carac,2),1,0))&LEFT($I17,1)&"000",IF($E17="Palette bois","2"&(10+MATCH($F17,L_PAL_Format,0))&LEFT($I17,1)&LEFT($G17,1)&IF($H17=INDEX(L_PAL_Dosseret,2),"11","00"),""))),""))
K18: =IF($Q18="OK",IF($E18="Palette bois","2 - Autre (Regroupement / Transport)","1 - Vente"),"") | L18: =IF($Q18<>"OK","",IF($E18="IBC / GRV","Sans objet",INDEX(Ref_Poids,MATCH($R18,Ref_Codes,0)))) | M18: =IF(OR($Q18<>"OK",$E18="IBC / GRV"),"",$J18*$L18) | N18: =IF($Q18="OK",INDEX(Ref_Tarif,MATCH($R18,Ref_Codes,0)),"") | O18: =IF($Q18="OK",$J18*$N18,"") | P18: =IF($Q18="OK",$R18,"") | Q18: =IF(COUNTA($E18:$J18)=0,"",IF(ISNA(MATCH($E18,L_Famille,0)),"Famille d'emballage à sélectionner dans la liste",IF(AND($E18="Palette bois",$F18=INDEX(L_PAL_Format,6)),"Palette > 3 m² : à déclarer au poids réel dans l'onglet Matrice EPRO Essentielle",IF(OR($F18="",$G18="",$I18="",$J18="",AND($E18="Palette bois",$H18="")),"Ligne incomplète : renseigner tous les champs obligatoires (*)",IF(OR(ISNA(MATCH($F18,CHOOSE(MATCH($E18,L_Famille,0),L_IBC_Format,L_BB_Format,L_PAL_Format),0)),ISNA(MATCH($G18,CHOOSE(MATCH($E18,L_Famille,0),L_IBC_Carac,L_BB_Carac,L_PAL_Carac),0)),ISNA(MATCH($I18,L_Usage3,0)),AND($E18="Palette bois",ISNA(MATCH($H18,L_PAL_Dosseret,0)))),"Valeur incohérente avec la famille : re-sélectionner dans les listes",IF(NOT(ISNUMBER($J18)),"Nombre d'unités : saisir un nombre entier ≥ 1",IF(OR($J18<1,$J18<>INT($J18)),"Nombre d'unités : saisir un nombre entier ≥ 1",IF(ISNA(MATCH($R18,Ref_Codes,0)),"Combinaison non prévue au barème Twiice 2027","OK")))))))) | R18: =IF(OR($E18="",$F18="",$G18="",$I18=""),"",IFERROR(IF($E18="IBC / GRV","1"&LEFT($F18,2)&LEFT($I18,1)&LEFT($G18,1)&"00",IF($E18="Big Bag","1"&(89+2*MATCH($F18,L_BB_Format,0)+IF($G18=INDEX(L_BB_Carac,2),1,0))&LEFT($I18,1)&"000",IF($E18="Palette bois","2"&(10+MATCH($F18,L_PAL_Format,0))&LEFT($I18,1)&LEFT($G18,1)&IF($H18=INDEX(L_PAL_Dosseret,2),"11","00"),""))),""))
K19: =IF($Q19="OK",IF($E19="Palette bois","2 - Autre (Regroupement / Transport)","1 - Vente"),"") | L19: =IF($Q19<>"OK","",IF($E19="IBC / GRV","Sans objet",INDEX(Ref_Poids,MATCH($R19,Ref_Codes,0)))) | M19: =IF(OR($Q19<>"OK",$E19="IBC / GRV"),"",$J19*$L19) | N19: =IF($Q19="OK",INDEX(Ref_Tarif,MATCH($R19,Ref_Codes,0)),"") | O19: =IF($Q19="OK",$J19*$N19,"") | P19: =IF($Q19="OK",$R19,"") | Q19: =IF(COUNTA($E19:$J19)=0,"",IF(ISNA(MATCH($E19,L_Famille,0)),"Famille d'emballage à sélectionner dans la liste",IF(AND($E19="Palette bois",$F19=INDEX(L_PAL_Format,6)),"Palette > 3 m² : à déclarer au poids réel dans l'onglet Matrice EPRO Essentielle",IF(OR($F19="",$G19="",$I19="",$J19="",AND($E19="Palette bois",$H19="")),"Ligne incomplète : renseigner tous les champs obligatoires (*)",IF(OR(ISNA(MATCH($F19,CHOOSE(MATCH($E19,L_Famille,0),L_IBC_Format,L_BB_Format,L_PAL_Format),0)),ISNA(MATCH($G19,CHOOSE(MATCH($E19,L_Famille,0),L_IBC_Carac,L_BB_Carac,L_PAL_Carac),0)),ISNA(MATCH($I19,L_Usage3,0)),AND($E19="Palette bois",ISNA(MATCH($H19,L_PAL_Dosseret,0)))),"Valeur incohérente avec la famille : re-sélectionner dans les listes",IF(NOT(ISNUMBER($J19)),"Nombre d'unités : saisir un nombre entier ≥ 1",IF(OR($J19<1,$J19<>INT($J19)),"Nombre d'unités : saisir un nombre entier ≥ 1",IF(ISNA(MATCH($R19,Ref_Codes,0)),"Combinaison non prévue au barème Twiice 2027","OK")))))))) | R19: =IF(OR($E19="",$F19="",$G19="",$I19=""),"",IFERROR(IF($E19="IBC / GRV","1"&LEFT($F19,2)&LEFT($I19,1)&LEFT($G19,1)&"00",IF($E19="Big Bag","1"&(89+2*MATCH($F19,L_BB_Format,0)+IF($G19=INDEX(L_BB_Carac,2),1,0))&LEFT($I19,1)&"000",IF($E19="Palette bois","2"&(10+MATCH($F19,L_PAL_Format,0))&LEFT($I19,1)&LEFT($G19,1)&IF($H19=INDEX(L_PAL_Dosseret,2),"11","00"),""))),""))
K20: =IF($Q20="OK",IF($E20="Palette bois","2 - Autre (Regroupement / Transport)","1 - Vente"),"") | L20: =IF($Q20<>"OK","",IF($E20="IBC / GRV","Sans objet",INDEX(Ref_Poids,MATCH($R20,Ref_Codes,0)))) | M20: =IF(OR($Q20<>"OK",$E20="IBC / GRV"),"",$J20*$L20) | N20: =IF($Q20="OK",INDEX(Ref_Tarif,MATCH($R20,Ref_Codes,0)),"") | O20: =IF($Q20="OK",$J20*$N20,"") | P20: =IF($Q20="OK",$R20,"") | Q20: =IF(COUNTA($E20:$J20)=0,"",IF(ISNA(MATCH($E20,L_Famille,0)),"Famille d'emballage à sélectionner dans la liste",IF(AND($E20="Palette bois",$F20=INDEX(L_PAL_Format,6)),"Palette > 3 m² : à déclarer au poids réel dans l'onglet Matrice EPRO Essentielle",IF(OR($F20="",$G20="",$I20="",$J20="",AND($E20="Palette bois",$H20="")),"Ligne incomplète : renseigner tous les champs obligatoires (*)",IF(OR(ISNA(MATCH($F20,CHOOSE(MATCH($E20,L_Famille,0),L_IBC_Format,L_BB_Format,L_PAL_Format),0)),ISNA(MATCH($G20,CHOOSE(MATCH($E20,L_Famille,0),L_IBC_Carac,L_BB_Carac,L_PAL_Carac),0)),ISNA(MATCH($I20,L_Usage3,0)),AND($E20="Palette bois",ISNA(MATCH($H20,L_PAL_Dosseret,0)))),"Valeur incohérente avec la famille : re-sélectionner dans les listes",IF(NOT(ISNUMBER($J20)),"Nombre d'unités : saisir un nombre entier ≥ 1",IF(OR($J20<1,$J20<>INT($J20)),"Nombre d'unités : saisir un nombre entier ≥ 1",IF(ISNA(MATCH($R20,Ref_Codes,0)),"Combinaison non prévue au barème Twiice 2027","OK")))))))) | R20: =IF(OR($E20="",$F20="",$G20="",$I20=""),"",IFERROR(IF($E20="IBC / GRV","1"&LEFT($F20,2)&LEFT($I20,1)&LEFT($G20,1)&"00",IF($E20="Big Bag","1"&(89+2*MATCH($F20,L_BB_Format,0)+IF($G20=INDEX(L_BB_Carac,2),1,0))&LEFT($I20,1)&"000",IF($E20="Palette bois","2"&(10+MATCH($F20,L_PAL_Format,0))&LEFT($I20,1)&LEFT($G20,1)&IF($H20=INDEX(L_PAL_Dosseret,2),"11","00"),""))),""))
K21: =IF($Q21="OK",IF($E21="Palette bois","2 - Autre (Regroupement / Transport)","1 - Vente"),"") | L21: =IF($Q21<>"OK","",IF($E21="IBC / GRV","Sans objet",INDEX(Ref_Poids,MATCH($R21,Ref_Codes,0)))) | M21: =IF(OR($Q21<>"OK",$E21="IBC / GRV"),"",$J21*$L21) | N21: =IF($Q21="OK",INDEX(Ref_Tarif,MATCH($R21,Ref_Codes,0)),"") | O21: =IF($Q21="OK",$J21*$N21,"") | P21: =IF($Q21="OK",$R21,"") | Q21: =IF(COUNTA($E21:$J21)=0,"",IF(ISNA(MATCH($E21,L_Famille,0)),"Famille d'emballage à sélectionner dans la liste",IF(AND($E21="Palette bois",$F21=INDEX(L_PAL_Format,6)),"Palette > 3 m² : à déclarer au poids réel dans l'onglet Matrice EPRO Essentielle",IF(OR($F21="",$G21="",$I21="",$J21="",AND($E21="Palette bois",$H21="")),"Ligne incomplète : renseigner tous les champs obligatoires (*)",IF(OR(ISNA(MATCH($F21,CHOOSE(MATCH($E21,L_Famille,0),L_IBC_Format,L_BB_Format,L_PAL_Format),0)),ISNA(MATCH($G21,CHOOSE(MATCH($E21,L_Famille,0),L_IBC_Carac,L_BB_Carac,L_PAL_Carac),0)),ISNA(MATCH($I21,L_Usage3,0)),AND($E21="Palette bois",ISNA(MATCH($H21,L_PAL_Dosseret,0)))),"Valeur incohérente avec la famille : re-sélectionner dans les listes",IF(NOT(ISNUMBER($J21)),"Nombre d'unités : saisir un nombre entier ≥ 1",IF(OR($J21<1,$J21<>INT($J21)),"Nombre d'unités : saisir un nombre entier ≥ 1",IF(ISNA(MATCH($R21,Ref_Codes,0)),"Combinaison non prévue au barème Twiice 2027","OK")))))))) | R21: =IF(OR($E21="",$F21="",$G21="",$I21=""),"",IFERROR(IF($E21="IBC / GRV","1"&LEFT($F21,2)&LEFT($I21,1)&LEFT($G21,1)&"00",IF($E21="Big Bag","1"&(89+2*MATCH($F21,L_BB_Format,0)+IF($G21=INDEX(L_BB_Carac,2),1,0))&LEFT($I21,1)&"000",IF($E21="Palette bois","2"&(10+MATCH($F21,L_PAL_Format,0))&LEFT($I21,1)&LEFT($G21,1)&IF($H21=INDEX(L_PAL_Dosseret,2),"11","00"),""))),""))
K22: =IF($Q22="OK",IF($E22="Palette bois","2 - Autre (Regroupement / Transport)","1 - Vente"),"") | L22: =IF($Q22<>"OK","",IF($E22="IBC / GRV","Sans objet",INDEX(Ref_Poids,MATCH($R22,Ref_Codes,0)))) | M22: =IF(OR($Q22<>"OK",$E22="IBC / GRV"),"",$J22*$L22) | N22: =IF($Q22="OK",INDEX(Ref_Tarif,MATCH($R22,Ref_Codes,0)),"") | O22: =IF($Q22="OK",$J22*$N22,"") | P22: =IF($Q22="OK",$R22,"") | Q22: =IF(COUNTA($E22:$J22)=0,"",IF(ISNA(MATCH($E22,L_Famille,0)),"Famille d'emballage à sélectionner dans la liste",IF(AND($E22="Palette bois",$F22=INDEX(L_PAL_Format,6)),"Palette > 3 m² : à déclarer au poids réel dans l'onglet Matrice EPRO Essentielle",IF(OR($F22="",$G22="",$I22="",$J22="",AND($E22="Palette bois",$H22="")),"Ligne incomplète : renseigner tous les champs obligatoires (*)",IF(OR(ISNA(MATCH($F22,CHOOSE(MATCH($E22,L_Famille,0),L_IBC_Format,L_BB_Format,L_PAL_Format),0)),ISNA(MATCH($G22,CHOOSE(MATCH($E22,L_Famille,0),L_IBC_Carac,L_BB_Carac,L_PAL_Carac),0)),ISNA(MATCH($I22,L_Usage3,0)),AND($E22="Palette bois",ISNA(MATCH($H22,L_PAL_Dosseret,0)))),"Valeur incohérente avec la famille : re-sélectionner dans les listes",IF(NOT(ISNUMBER($J22)),"Nombre d'unités : saisir un nombre entier ≥ 1",IF(OR($J22<1,$J22<>INT($J22)),"Nombre d'unités : saisir un nombre entier ≥ 1",IF(ISNA(MATCH($R22,Ref_Codes,0)),"Combinaison non prévue au barème Twiice 2027","OK")))))))) | R22: =IF(OR($E22="",$F22="",$G22="",$I22=""),"",IFERROR(IF($E22="IBC / GRV","1"&LEFT($F22,2)&LEFT($I22,1)&LEFT($G22,1)&"00",IF($E22="Big Bag","1"&(89+2*MATCH($F22,L_BB_Format,0)+IF($G22=INDEX(L_BB_Carac,2),1,0))&LEFT($I22,1)&"000",IF($E22="Palette bois","2"&(10+MATCH($F22,L_PAL_Format,0))&LEFT($I22,1)&LEFT($G22,1)&IF($H22=INDEX(L_PAL_Dosseret,2),"11","00"),""))),""))
K23: =IF($Q23="OK",IF($E23="Palette bois","2 - Autre (Regroupement / Transport)","1 - Vente"),"") | L23: =IF($Q23<>"OK","",IF($E23="IBC / GRV","Sans objet",INDEX(Ref_Poids,MATCH($R23,Ref_Codes,0)))) | M23: =IF(OR($Q23<>"OK",$E23="IBC / GRV"),"",$J23*$L23) | N23: =IF($Q23="OK",INDEX(Ref_Tarif,MATCH($R23,Ref_Codes,0)),"") | O23: =IF($Q23="OK",$J23*$N23,"") | P23: =IF($Q23="OK",$R23,"") | Q23: =IF(COUNTA($E23:$J23)=0,"",IF(ISNA(MATCH($E23,L_Famille,0)),"Famille d'emballage à sélectionner dans la liste",IF(AND($E23="Palette bois",$F23=INDEX(L_PAL_Format,6)),"Palette > 3 m² : à déclarer au poids réel dans l'onglet Matrice EPRO Essentielle",IF(OR($F23="",$G23="",$I23="",$J23="",AND($E23="Palette bois",$H23="")),"Ligne incomplète : renseigner tous les champs obligatoires (*)",IF(OR(ISNA(MATCH($F23,CHOOSE(MATCH($E23,L_Famille,0),L_IBC_Format,L_BB_Format,L_PAL_Format),0)),ISNA(MATCH($G23,CHOOSE(MATCH($E23,L_Famille,0),L_IBC_Carac,L_BB_Carac,L_PAL_Carac),0)),ISNA(MATCH($I23,L_Usage3,0)),AND($E23="Palette bois",ISNA(MATCH($H23,L_PAL_Dosseret,0)))),"Valeur incohérente avec la famille : re-sélectionner dans les listes",IF(NOT(ISNUMBER($J23)),"Nombre d'unités : saisir un nombre entier ≥ 1",IF(OR($J23<1,$J23<>INT($J23)),"Nombre d'unités : saisir un nombre entier ≥ 1",IF(ISNA(MATCH($R23,Ref_Codes,0)),"Combinaison non prévue au barème Twiice 2027","OK")))))))) | R23: =IF(OR($E23="",$F23="",$G23="",$I23=""),"",IFERROR(IF($E23="IBC / GRV","1"&LEFT($F23,2)&LEFT($I23,1)&LEFT($G23,1)&"00",IF($E23="Big Bag","1"&(89+2*MATCH($F23,L_BB_Format,0)+IF($G23=INDEX(L_BB_Carac,2),1,0))&LEFT($I23,1)&"000",IF($E23="Palette bois","2"&(10+MATCH($F23,L_PAL_Format,0))&LEFT($I23,1)&LEFT($G23,1)&IF($H23=INDEX(L_PAL_Dosseret,2),"11","00"),""))),""))
K24: =IF($Q24="OK",IF($E24="Palette bois","2 - Autre (Regroupement / Transport)","1 - Vente"),"") | L24: =IF($Q24<>"OK","",IF($E24="IBC / GRV","Sans objet",INDEX(Ref_Poids,MATCH($R24,Ref_Codes,0)))) | M24: =IF(OR($Q24<>"OK",$E24="IBC / GRV"),"",$J24*$L24) | N24: =IF($Q24="OK",INDEX(Ref_Tarif,MATCH($R24,Ref_Codes,0)),"") | O24: =IF($Q24="OK",$J24*$N24,"") | P24: =IF($Q24="OK",$R24,"") | Q24: =IF(COUNTA($E24:$J24)=0,"",IF(ISNA(MATCH($E24,L_Famille,0)),"Famille d'emballage à sélectionner dans la liste",IF(AND($E24="Palette bois",$F24=INDEX(L_PAL_Format,6)),"Palette > 3 m² : à déclarer au poids réel dans l'onglet Matrice EPRO Essentielle",IF(OR($F24="",$G24="",$I24="",$J24="",AND($E24="Palette bois",$H24="")),"Ligne incomplète : renseigner tous les champs obligatoires (*)",IF(OR(ISNA(MATCH($F24,CHOOSE(MATCH($E24,L_Famille,0),L_IBC_Format,L_BB_Format,L_PAL_Format),0)),ISNA(MATCH($G24,CHOOSE(MATCH($E24,L_Famille,0),L_IBC_Carac,L_BB_Carac,L_PAL_Carac),0)),ISNA(MATCH($I24,L_Usage3,0)),AND($E24="Palette bois",ISNA(MATCH($H24,L_PAL_Dosseret,0)))),"Valeur incohérente avec la famille : re-sélectionner dans les listes",IF(NOT(ISNUMBER($J24)),"Nombre d'unités : saisir un nombre entier ≥ 1",IF(OR($J24<1,$J24<>INT($J24)),"Nombre d'unités : saisir un nombre entier ≥ 1",IF(ISNA(MATCH($R24,Ref_Codes,0)),"Combinaison non prévue au barème Twiice 2027","OK")))))))) | R24: =IF(OR($E24="",$F24="",$G24="",$I24=""),"",IFERROR(IF($E24="IBC / GRV","1"&LEFT($F24,2)&LEFT($I24,1)&LEFT($G24,1)&"00",IF($E24="Big Bag","1"&(89+2*MATCH($F24,L_BB_Format,0)+IF($G24=INDEX(L_BB_Carac,2),1,0))&LEFT($I24,1)&"000",IF($E24="Palette bois","2"&(10+MATCH($F24,L_PAL_Format,0))&LEFT($I24,1)&LEFT($G24,1)&IF($H24=INDEX(L_PAL_Dosseret,2),"11","00"),""))),""))
K25: =IF($Q25="OK",IF($E25="Palette bois","2 - Autre (Regroupement / Transport)","1 - Vente"),"") | L25: =IF($Q25<>"OK","",IF($E25="IBC / GRV","Sans objet",INDEX(Ref_Poids,MATCH($R25,Ref_Codes,0)))) | M25: =IF(OR($Q25<>"OK",$E25="IBC / GRV"),"",$J25*$L25) | N25: =IF($Q25="OK",INDEX(Ref_Tarif,MATCH($R25,Ref_Codes,0)),"") | O25: =IF($Q25="OK",$J25*$N25,"") | P25: =IF($Q25="OK",$R25,"") | Q25: =IF(COUNTA($E25:$J25)=0,"",IF(ISNA(MATCH($E25,L_Famille,0)),"Famille d'emballage à sélectionner dans la liste",IF(AND($E25="Palette bois",$F25=INDEX(L_PAL_Format,6)),"Palette > 3 m² : à déclarer au poids réel dans l'onglet Matrice EPRO Essentielle",IF(OR($F25="",$G25="",$I25="",$J25="",AND($E25="Palette bois",$H25="")),"Ligne incomplète : renseigner tous les champs obligatoires (*)",IF(OR(ISNA(MATCH($F25,CHOOSE(MATCH($E25,L_Famille,0),L_IBC_Format,L_BB_Format,L_PAL_Format),0)),ISNA(MATCH($G25,CHOOSE(MATCH($E25,L_Famille,0),L_IBC_Carac,L_BB_Carac,L_PAL_Carac),0)),ISNA(MATCH($I25,L_Usage3,0)),AND($E25="Palette bois",ISNA(MATCH($H25,L_PAL_Dosseret,0)))),"Valeur incohérente avec la famille : re-sélectionner dans les listes",IF(NOT(ISNUMBER($J25)),"Nombre d'unités : saisir un nombre entier ≥ 1",IF(OR($J25<1,$J25<>INT($J25)),"Nombre d'unités : saisir un nombre entier ≥ 1",IF(ISNA(MATCH($R25,Ref_Codes,0)),"Combinaison non prévue au barème Twiice 2027","OK")))))))) | R25: =IF(OR($E25="",$F25="",$G25="",$I25=""),"",IFERROR(IF($E25="IBC / GRV","1"&LEFT($F25,2)&LEFT($I25,1)&LEFT($G25,1)&"00",IF($E25="Big Bag","1"&(89+2*MATCH($F25,L_BB_Format,0)+IF($G25=INDEX(L_BB_Carac,2),1,0))&LEFT($I25,1)&"000",IF($E25="Palette bois","2"&(10+MATCH($F25,L_PAL_Format,0))&LEFT($I25,1)&LEFT($G25,1)&IF($H25=INDEX(L_PAL_Dosseret,2),"11","00"),""))),""))
K26: =IF($Q26="OK",IF($E26="Palette bois","2 - Autre (Regroupement / Transport)","1 - Vente"),"") | L26: =IF($Q26<>"OK","",IF($E26="IBC / GRV","Sans objet",INDEX(Ref_Poids,MATCH($R26,Ref_Codes,0)))) | M26: =IF(OR($Q26<>"OK",$E26="IBC / GRV"),"",$J26*$L26) | N26: =IF($Q26="OK",INDEX(Ref_Tarif,MATCH($R26,Ref_Codes,0)),"") | O26: =IF($Q26="OK",$J26*$N26,"") | P26: =IF($Q26="OK",$R26,"") | Q26: =IF(COUNTA($E26:$J26)=0,"",IF(ISNA(MATCH($E26,L_Famille,0)),"Famille d'emballage à sélectionner dans la liste",IF(AND($E26="Palette bois",$F26=INDEX(L_PAL_Format,6)),"Palette > 3 m² : à déclarer au poids réel dans l'onglet Matrice EPRO Essentielle",IF(OR($F26="",$G26="",$I26="",$J26="",AND($E26="Palette bois",$H26="")),"Ligne incomplète : renseigner tous les champs obligatoires (*)",IF(OR(ISNA(MATCH($F26,CHOOSE(MATCH($E26,L_Famille,0),L_IBC_Format,L_BB_Format,L_PAL_Format),0)),ISNA(MATCH($G26,CHOOSE(MATCH($E26,L_Famille,0),L_IBC_Carac,L_BB_Carac,L_PAL_Carac),0)),ISNA(MATCH($I26,L_Usage3,0)),AND($E26="Palette bois",ISNA(MATCH($H26,L_PAL_Dosseret,0)))),"Valeur incohérente avec la famille : re-sélectionner dans les listes",IF(NOT(ISNUMBER($J26)),"Nombre d'unités : saisir un nombre entier ≥ 1",IF(OR($J26<1,$J26<>INT($J26)),"Nombre d'unités : saisir un nombre entier ≥ 1",IF(ISNA(MATCH($R26,Ref_Codes,0)),"Combinaison non prévue au barème Twiice 2027","OK")))))))) | R26: =IF(OR($E26="",$F26="",$G26="",$I26=""),"",IFERROR(IF($E26="IBC / GRV","1"&LEFT($F26,2)&LEFT($I26,1)&LEFT($G26,1)&"00",IF($E26="Big Bag","1"&(89+2*MATCH($F26,L_BB_Format,0)+IF($G26=INDEX(L_BB_Carac,2),1,0))&LEFT($I26,1)&"000",IF($E26="Palette bois","2"&(10+MATCH($F26,L_PAL_Format,0))&LEFT($I26,1)&LEFT($G26,1)&IF($H26=INDEX(L_PAL_Dosseret,2),"11","00"),""))),""))
K27: =IF($Q27="OK",IF($E27="Palette bois","2 - Autre (Regroupement / Transport)","1 - Vente"),"") | L27: =IF($Q27<>"OK","",IF($E27="IBC / GRV","Sans objet",INDEX(Ref_Poids,MATCH($R27,Ref_Codes,0)))) | M27: =IF(OR($Q27<>"OK",$E27="IBC / GRV"),"",$J27*$L27) | N27: =IF($Q27="OK",INDEX(Ref_Tarif,MATCH($R27,Ref_Codes,0)),"") | O27: =IF($Q27="OK",$J27*$N27,"") | P27: =IF($Q27="OK",$R27,"") | Q27: =IF(COUNTA($E27:$J27)=0,"",IF(ISNA(MATCH($E27,L_Famille,0)),"Famille d'emballage à sélectionner dans la liste",IF(AND($E27="Palette bois",$F27=INDEX(L_PAL_Format,6)),"Palette > 3 m² : à déclarer au poids réel dans l'onglet Matrice EPRO Essentielle",IF(OR($F27="",$G27="",$I27="",$J27="",AND($E27="Palette bois",$H27="")),"Ligne incomplète : renseigner tous les champs obligatoires (*)",IF(OR(ISNA(MATCH($F27,CHOOSE(MATCH($E27,L_Famille,0),L_IBC_Format,L_BB_Format,L_PAL_Format),0)),ISNA(MATCH($G27,CHOOSE(MATCH($E27,L_Famille,0),L_IBC_Carac,L_BB_Carac,L_PAL_Carac),0)),ISNA(MATCH($I27,L_Usage3,0)),AND($E27="Palette bois",ISNA(MATCH($H27,L_PAL_Dosseret,0)))),"Valeur incohérente avec la famille : re-sélectionner dans les listes",IF(NOT(ISNUMBER($J27)),"Nombre d'unités : saisir un nombre entier ≥ 1",IF(OR($J27<1,$J27<>INT($J27)),"Nombre d'unités : saisir un nombre entier ≥ 1",IF(ISNA(MATCH($R27,Ref_Codes,0)),"Combinaison non prévue au barème Twiice 2027","OK")))))))) | R27: =IF(OR($E27="",$F27="",$G27="",$I27=""),"",IFERROR(IF($E27="IBC / GRV","1"&LEFT($F27,2)&LEFT($I27,1)&LEFT($G27,1)&"00",IF($E27="Big Bag","1"&(89+2*MATCH($F27,L_BB_Format,0)+IF($G27=INDEX(L_BB_Carac,2),1,0))&LEFT($I27,1)&"000",IF($E27="Palette bois","2"&(10+MATCH($F27,L_PAL_Format,0))&LEFT($I27,1)&LEFT($G27,1)&IF($H27=INDEX(L_PAL_Dosseret,2),"11","00"),""))),""))
... K503: =IF($Q503="OK",IF($E503="Palette bois","2 - Autre (Regroupement / Transport)","1 - Vente"),"") | L503: =IF($Q503<>"OK","",IF($E503="IBC / GRV","Sans objet",INDEX(Ref_Poids,MATCH($R503,Ref_Codes,0)))) | M503: =IF(OR($Q503<>"OK",$E503="IBC / GRV"),"",$J503*$L503) | N503: =IF($Q503="OK",INDEX(Ref_Tarif,MATCH($R503,Ref_Codes,0)),"") | O503: =IF($Q503="OK",$J503*$N503,"") | P503: =IF($Q503="OK",$R503,"") | Q503: =IF(COUNTA($E503:$J503)=0,"",IF(ISNA(MATCH($E503,L_Famille,0)),"Famille d'emballage à sélectionner dans la liste",IF(AND($E503="Palette bois",$F503=INDEX(L_PAL_Format,6)),"Palette > 3 m² : à déclarer au poids réel dans l'onglet Matrice EPRO Essentielle",IF(OR($F503="",$G503="",$I503="",$J503="",AND($E503="Palette bois",$H503="")),"Ligne incomplète : renseigner tous les champs obligatoires (*)",IF(OR(ISNA(MATCH($F503,CHOOSE(MATCH($E503,L_Famille,0),L_IBC_Format,L_BB_Format,L_PAL_Format),0)),ISNA(MATCH($G503,CHOOSE(MATCH($E503,L_Famille,0),L_IBC_Carac,L_BB_Carac,L_PAL_Carac),0)),ISNA(MATCH($I503,L_Usage3,0)),AND($E503="Palette bois",ISNA(MATCH($H503,L_PAL_Dosseret,0)))),"Valeur incohérente avec la famille : re-sélectionner dans les listes",IF(NOT(ISNUMBER($J503)),"Nombre d'unités : saisir un nombre entier ≥ 1",IF(OR($J503<1,$J503<>INT($J503)),"Nombre d'unités : saisir un nombre entier ≥ 1",IF(ISNA(MATCH($R503,Ref_Codes,0)),"Combinaison non prévue au barème Twiice 2027","OK")))))))) | R503: =IF(OR($E503="",$F503="",$G503="",$I503=""),"",IFERROR(IF($E503="IBC / GRV","1"&LEFT($F503,2)&LEFT($I503,1)&LEFT($G503,1)&"00",IF($E503="Big Bag","1"&(89+2*MATCH($F503,L_BB_Format,0)+IF($G503=INDEX(L_BB_Carac,2),1,0))&LEFT($I503,1)&"000",IF($E503="Palette bois","2"&(10+MATCH($F503,L_PAL_Format,0))&LEFT($I503,1)&LEFT($G503,1)&IF($H503=INDEX(L_PAL_Dosseret,2),"11","00"),""))),""))

Sheet Calculatrice t & budget EPRO
A2: Total de vos Emballages Professionnels neufs par matériau (1ère mise en marché) | F2: Année de référence : | G2: ='Matrice EPRO Essentielle'!K2 -> 2025 | H2: ='Matrice EPRO Essentielle'!L2 -> du 01/01/2025 au 31/12/2025
B3: Catégorie matériaux | C3: Catégorie | D3: Réemployable | E3: à Usage Unique | G3: Réemployable | H3: à Usage Unique
D4: Poids total (A) (T) | E4: Poids total (B) (T) | F4: TOTAL (A+B) | G4: Budget EPRO (A) (€) | H4: Budget EPRO (B) (€) | I4: TOTAL (A+B)
B5: Emballages ayant contenu des produits non-dangereux
