Workbook
Name Agg_BB_eur_R: 'Référentiel unitaire'!$Q$20
Name Agg_BB_eur_U: 'Référentiel unitaire'!$Q$21
Name Agg_BB_kg_R: 'Référentiel unitaire'!$Q$18
Name Agg_BB_kg_U: 'Référentiel unitaire'!$Q$19
Name Agg_IBC68_eur_R: 'Référentiel unitaire'!$Q$22
Name Agg_IBC68_eur_U: 'Référentiel unitaire'!$Q$23
Name Agg_IBC69_eur_R: 'Référentiel unitaire'!$Q$24
Name Agg_IBC69_eur_U: 'Référentiel unitaire'!$Q$25
Name Agg_PAL_eur_R: 'Référentiel unitaire'!$Q$16
Name Agg_PAL_eur_U: 'Référentiel unitaire'!$Q$17
Name Agg_PAL_kg_R: 'Référentiel unitaire'!$Q$14
Name Agg_PAL_kg_U: 'Référentiel unitaire'!$Q$15
Name L_BB_Carac: 'Référentiel unitaire'!$U$3:$U$4
Name L_BB_Format: 'Référentiel unitaire'!$R$3:$R$6
Name L_Famille: 'Référentiel unitaire'!$P$3:$P$5
Name L_IBC_Carac: 'Référentiel unitaire'!$T$3:$T$4
Name L_IBC_Format: 'Référentiel unitaire'!$Q$3:$Q$4
Name L_Origine: Données!$A$2:$A$3
Name L_PAL_Carac: 'Référentiel unitaire'!$V$3:$V$5
Name L_PAL_Dosseret: 'Référentiel unitaire'!$W$3:$W$4
Name L_PAL_Format: 'Référentiel unitaire'!$S$3:$S$8
Name L_SansObjet: 'Référentiel unitaire'!$X$3:$X$3
Name L_Usage2: 'Référentiel unitaire'!$Z$3:$Z$4
Name L_Usage3: 'Référentiel unitaire'!$Y$3:$Y$5
Name Ref_Codes: 'Référentiel unitaire'!$A$3:$A$126
Name Ref_Poids: 'Référentiel unitaire'!$K$3:$K$126
Name Ref_Tarif: 'Référentiel unitaire'!$L$3:$L$126

Sheet Tutoriel
B2: Matrice d'aide à la collecte d'information pour la déclaration des mises en marché d'Emballages Professionnels
B8: Objet : Guide d'utilisation de la matrice de recensement des emballages professionnels Cette matrice a pour objectif de recenser l'ensemble de vos emballages professionnels mis sur le marché français. Elle se compose de quatre onglets : - Matrice EPRO Essentielle : Cet onglet vous permet de saisir les informations indispensables à votre future déclaration EPRO. Vous devez y renseigner chaque emballage dont vous êtes le metteur en marché. Ces données correspondent aux obligations fixées par l’État (arrêté relatif aux données des filières REP). Note : Vous pouvez préciser la période de référence dans les cases K2 et L2. Le poids total (colonne L) est calculé automatiquement à partir des colonnes J et K. Le code d'éco-participation Twiice est renseigné automatiquement sur la base des informations des colonnes E à I. - Matrice EPRO Unitaire : Cet onglet vous permet de saisir les données pour votre déclaration à l'unité des IBC / GRV, Big Bags et palettes bois. Pour chaque référence, sélectionnez la famille, puis le format (type d'IBC, tranche de volume du Big Bag ou tranche de surface de plancher de la palette), la caractéristique (classification de l'IBC, toile standard ou doublure / toile lourde du Big Bag, robustesse de la palette), le dosseret pour les palettes, la catégorie d'usage, et saisissez le nombre d'unités de la période de référence. La matrice calcule automatiquement le code éco-participation Twiice, le poids de référence (unités × poids de l'abaque, sauf IBC), le tarif unitaire et l'éco-contribution. La colonne « Contrôle de saisie » doit afficher OK. Les palettes de plus de 3 m² ou non bois se déclarent au poids réel dans l'onglet Matrice EPRO Essentielle. Les lignes "OK" alimentent automatiquement la Calculatrice (lignes 10 - Bois, 64 - PP souple, 68 - IBC neufs et 69 - IBC reconditionnés poche neuve) et l'onglet "Données pour fichier d'import". Pour plus d'information sur les abaques IBC / GRV, BIg Bags et Palettes bois vous pouvez vous référer au guide des tarifs d'éco-contributions 2027 (p.12 à p.14). Note : Pour les IBC / GRV ils sont obligatoirement à déclarer à l'unité. Pour les Big Bags et les palettes bois vous pouvez utiliser la déclaration à l'unité ou la déclaration au poids réel si vous le connaissez en utilisant l'onglet Matrice EPRO Essentielle. - Calculatrice t & budget EPRO : Cet onglet s'alimente automatiquement. Il présente la synthèse de vos emballages par matériau et par usage (unique ou réemployable) ainsi que le budget EPRO correspondant. Attention : Ce tableau n’est pas une grille déclarative d’éco-contributions ; il sert exclusivement à évaluer vos tonnages et votre budget d'éco-contribution total sur la base du barème Twiice 2027. La distinction par usage vous permet d'identifier les emballages éligibles à la prime de réemploi de 50 % (sur le montant de l’éco-contribution) prévue par la filière EPRO pour les emballages réemployables. - Matrice EPRO Avancée : Cet onglet reprend les données de la matrice "Essentielle" et vous permet d’y ajouter des détails techniques complémentaires. Ces informations vous seront utiles pour anticiper d'éventuelles éco-modulations à partir de l'année N+1. Précision : Cette liste exhaustive ne préfigure en rien les futures éco-modulations qui seront officiellement proposées par Twiice. - Données pour fichier d'import : Ce dernier onglet s'alimente automatiquement avec toutes les données nécessaires à la déclaration de vos emballages professionnels dont vous êtes metteur sur le marché. Si vous souhaitez utiliser l'import de masse pour votre déclaration EPRO sur votre espace adhérent MyValobat Adhérent, vous pouvez copier les données des colonnes A, B et C de cet onglet pour les coller sur le fichier dédié "Fichier d'import déclaration". Disponible sur demande auprès de Valobat.
B15: Définition des emballages professionnels Les emballages professionnels regroupent les emballages de vente, de regroupement et de transport utilisés pour la commercialisation de produits consommés ou utilisés par des professionnels. Périmètre de comptabilisation Doivent être comptabilisés les emballages : ① Ceux mis sur le marché national (France Métropolitaine et DROM-COM) ② Les importations d'emballages mis en marché en France ③ Sont exclues les exportations Pour vous aider à identifier votre rôle, vous trouverez ci-dessous un tableau récapitulatif présentant les types d'emballages et les règles permettant de déterminer qui est le « metteur sur le marché ».
B27: #VALUE!
B40: Lexique Type d’emballages Cette catégorie regroupe les typologies d’emballages comme emballage de vente, et les autres emballages (groupement et transport). Emballage de vente : un emballage conçu de manière à constituer au point de vente une unité de vente, elle-même constituée de produits et d’emballages, pour l’utilisateur final; Emballage de groupement : un emballage conçu de manière à constituer au point de vente un groupe d’un certain nombre d’unités de vente, que ce groupe d’unités de vente soit vendu tel quel à l’utilisateur final ou qu’il serve à faciliter le réapprovisionnement des rayons au point de vente ou à créer une unité de stockage ou de distribution, et qui peut être enlevé sans modifier les caractéristiques du produit; Emballage de transport : un emballage conçu de manière à faciliter la manipulation et le transport d’une ou de plus d’une unité de vente ou d’un groupe d’unités de vente, afin d’éviter les dommages au produit liés à leur manipulation et à leur transport, mais à l’exclusion des conteneurs de transport routier, ferroviaire, maritime et aérien; Matériau Le matériau est l’élément principal du calcul de l’éco-contribution. Il est important de rappeler qu’il est nécessaire de déclarer le matériau majoritaire de l’emballage. Si le second matériau de l’emballage fait moins de 5% du poids total de l’emballage, alors il sera nécessaire de déclarer l’emballage dans le matériau majoritaire. Dans l’autre cas, il est nécessaire de séparer la déclaration des matériaux. Catégorie d’usage La catégorie d’usage représente les différents types d’usage d’un emballage selon les définitions du réemploi. 3 catégories d’usage : emballage à usage unique, réemployable et réemployé. Usage unique : Emballage qui n’est pas conçu, créé ou mis sur le marché pour accomplir, pendant sa durée de vie, plusieurs trajets ou rotations en étant retourné à un producteur pour être rempli à nouveau. Réemployable : Emballage conçu, créé et mis sur le marché pour pouvoir accomplir pendant son cycle de vie plusieurs trajets ou rotations pour un usage identique à celui pour lequel il a été conçu. Réemployé : Un emballage réemployable (cf définition précédente) faisant l'objet d'au moins une deuxième utilisation pour un usage de même nature que celui pour lequel il a été conçu, et dont le réemploi est organisé par ou pour le compte du producteur. Classification Cette catégorie permet d’identifier des aspects techniques des emballages ayant un impact sur les obligations réglementaires (réemploi, incorporation…). Sans classification : mon emballage ne répond à aucune spécificité précise (non cités dans la liste) Dangereux : mon emballage est utilisé pour contenir des marchandises dangereuses conformément à la directive 2008/68/CE ; Contact alimentaire : mon emballage est considéré comme sensible au contact alimentaire. Autres contacts sensibles : les emballages pharmaceutiques, cosmétiques, santé / médical et nutrition animale. Eco-modulation Application d’une éco-modulation selon des critères définis par l’ensemble des éco-organismes.
B53: Structure du code éco-contribution Twiice Chaque emballage est identifié par un code d’éco-contribution à 7 chiffres. Ce code est propre à chaque type d’emballage et détermine le barème applicable. Certains éléments du code ont un impact direct sur le montant d’éco-contribution (matériau, usage et éco-modulation). D’autres éléments n’ont pas d’impact financier mais permettent d’évaluer l’atteinte des objectifs réglementaires (type d’emballage et classification).
B59: Vous trouverez ici le texte définitif de l'arrêté périmètre vous permettant d'identifier la filière concernée par les emballages de vente de vos produits : https://www.legifrance.gouv.fr/jorf/id/JORFTEXT000053043132
B62: Pour toute question sur l'utilisation de ce fichier, vous pouvez nous contacter par mail : pierre.cifarelli@valobat.fr

Sheet Matrice EPRO Essentielle
B2: Matrice de collecte de données pour les emballages professionnels en vue de la déclaration EPRO dont vous êtes metteur en marché (les colonnes marquées d'une* représentent les données obligatoires à fournir à l'éco-organisme) | J2: Année de référence : | K2: 2025 | L2: du 01/01/2025 au 31/12/2025
B3: Reference interne | C3: Description ou commentaire | D3: Origine (Import/National) | E3: Type d'emballage (Vente / Regroupement / Transport)* | F3: Catégorie matériaux* | G3: Catégorie d'usage (Unique / Réemployable / Réemployé)* | H3: Classification* | I3: Eco-modulation* | J3: Poids unitaire (kg)* | K3: Volume annuel (unités)* | L3: Poids Total (T) | M3: Code éco-participation Twiice
B4: 1000 | C4: exemple 1 | D4: Import | E4: 1 - Vente | F4: 42 - Papier-carton non complexé | G4: 1 - Usage Unique | H4: 0 - Sans classification | I4: 00 - Sans éco-modulation | J4: 1 | K4: 500 | L4: =J4*K4 -> 500 | M4: =_xlfn.CONCAT(LEFT(E4,1),LEFT(F4,2),LEFT(G4,1),LEFT(H4,1),LEFT(I4,2)) -> 1421000
B5: 1001 | C5: exemple 2 | D5: Import | E5: 2 - Autre (Transport) | F5: 62 - PE souple | G5: 1 - Usage Unique | H5: 0 - Sans classification | I5: 00 - Sans éco-modulation | J5: 0.3 | K5: 1000 | L5: =J5*K5 -> 300 | M5: =_xlfn.CONCAT(LEFT(E5,1),LEFT(F5,2),LEFT(G5,1),LEFT(H5,1),LEFT(I5,2)) -> 2621000
B6: 1002 | C6: exemple 3 | D6: National | E6: 2 - Autre (Transport) | F6: 62 - PE souple | G6: 1 - Usage Unique | H6: 0 - Sans classification | I6: 00 - Sans éco-modulation | J6: 1 | K6: 100 | L6: =J6*K6 -> 100 | M6: =_xlfn.CONCAT(LEFT(E6,1),LEFT(F6,2),LEFT(G6,1),LEFT(H6,1),LEFT(I6,2)) -> 2621000
B7: 1003 | C7: exemple 4 | D7: National | E7: 2 - Autre (Transport) | F7: 42 - Papier-carton non complexé | G7: 1 - Usage Unique | H7: 0 - Sans classification | I7: 00 - Sans éco-modulation | J7: 1 | K7: 50 | L7: =J7*K7 -> 50 | M7: =_xlfn.CONCAT(LEFT(E7,1),LEFT(F7,2),LEFT(G7,1),LEFT(H7,1),LEFT(I7,2)) -> 2421000
B8: 1004 | C8: exemple 5 | D8: Import | E8: 2 - Autre (Transport) | F8: 66 - PET rigide et souple | G8: 1 - Usage Unique | H8: 0 - Sans classification | I8: 00 - Sans éco-modulation | J8: 5 | K8: 50 | L8: =J8*K8 -> 250 | M8: =_xlfn.CONCAT(LEFT(E8,1),LEFT(F8,2),LEFT(G8,1),LEFT(H8,1),LEFT(I8,2)) -> 2661000
B9: 1005 | C9: exemple 6 | D9: National | E9: 2 - Autre (Transport) | F9: 20 - Acier | G9: 1 - Usage Unique | H9: 0 - Sans classification | I9: 00 - Sans éco-modulation | J9: 6 | K9: 50 | L9: =J9*K9 -> 300 | M9: =_xlfn.CONCAT(LEFT(E9,1),LEFT(F9,2),LEFT(G9,1),LEFT(H9,1),LEFT(I9,2)) -> 2201000
B10: 1006 | C10: exemple 7 | D10: Import | E10: 1 - Vente | F10: 67 - PVC rigide et souple | G10: 1 - Usage Unique | H10: 0 - Sans classification | I10: 00 - Sans éco-modulation | J10: 7 | K10: 50 | L10: =J10*K10 -> 350 | M10: =_xlfn.CONCAT(LEFT(E10,1),LEFT(F10,2),LEFT(G10,1),LEFT(H10,1),LEFT(I10,2)) -> 1671000
B11: 1007 | C11: exemple 8 | D11: National | E11: 2 - Autre (Regroupement) | F11: 30 - Aluminium | G11: 1 - Usage Unique | H11: 0 - Sans classification | I11: 00 - Sans éco-modulation | J11: 8 | K11: 50 | L11: =J11*K11 -> 400 | M11: =_xlfn.CONCAT(LEFT(E11,1),LEFT(F11,2),LEFT(G11,1),LEFT(H11,1),LEFT(I11,2)) -> 2301000
B12: 1008 | C12: exemple 9 | D12: Import | E12: 2 - Autre (Regroupement) | F12: 50 - Verre | G12: 1 - Usage Unique | H12: 0 - Sans classification | I12: 00 - Sans éco-modulation | J12: 9 | K12: 50 | L12: =J12*K12 -> 450 | M12: =_xlfn.CONCAT(LEFT(E12,1),LEFT(F12,2),LEFT(G12,1),LEFT(H12,1),LEFT(I12,2)) -> 2501000
B13: 1009 | C13: exemple 10 | D13: National | E13: 2 - Autre (Regroupement) | F13: 30 - Aluminium | G13: 1 - Usage Unique | H13: 0 - Sans classification | I13: 00 - Sans éco-modulation | J13: 10 | K13: 50 | L13: =J13*K13 -> 500 | M13: =_xlfn.CONCAT(LEFT(E13,1),LEFT(F13,2),LEFT(G13,1),LEFT(H13,1),LEFT(I13,2)) -> 2301000
B14: 1010 | C14: exemple 11 | D14: Import | E14: 2 - Autre (Transport) | F14: 10 - Bois | G14: 2 - Réemployable | H14: 0 - Sans classification | I14: 00 - Sans éco-modulation | J14: 11 | K14: 50 | L14: =J14*K14 -> 550 | M14: =_xlfn.CONCAT(LEFT(E14,1),LEFT(F14,2),LEFT(G14,1),LEFT(H14,1),LEFT(I14,2)) -> 2102000
B15: 1011 | C15: exemple 12 | D15: National | E15: 2 - Autre (Transport) | F15: 65 - PS, PSE, XPS | G15: 1 - Usage Unique | H15: 0 - Sans classification | I15: 00 - Sans éco-modulation | J15: 10 | K15: 100 | L15: =J15*K15 -> 1000 | M15: =_xlfn.CONCAT(LEFT(E15,1),LEFT(F15,2),LEFT(G15,1),LEFT(H15,1),LEFT(I15,2)) -> 2651000
... B20: 1016 | C20: exemple 17 | D20: Import | E20: 1 - Vente | F20: 60 - Autres plastiques | G20: 1 - Usage Unique | H20: 0 - Sans classification | I20: 00 - Sans éco-modulation | J20: 10 | K20: 5000 | L20: =J20*K20 -> 50000 | M20: =_xlfn.CONCAT(LEFT(E20,1),LEFT(F20,2),LEFT(G20,1),LEFT(H20,1),LEFT(I20,2)) -> 1601000
L21: =J21*K21 -> 0 | M21: =_xlfn.CONCAT(LEFT(E21,1),LEFT(F21,2),LEFT(G21,1),LEFT(H21,1),LEFT(I21,2))
L22: =J22*K22 -> 0 | M22: =_xlfn.CONCAT(LEFT(E22,1),LEFT(F22,2),LEFT(G22,1),LEFT(H22,1),LEFT(I22,2))
L23: =J23*K23 -> 0 | M23: =_xlfn.CONCAT(LEFT(E23,1),LEFT(F23,2),LEFT(G23,1),LEFT(H23,1),LEFT(I23,2))
L24: =J24*K24 -> 0 | M24: =_xlfn.CONCAT(LEFT(E24,1),LEFT(F24,2),LEFT(G24,1),LEFT(H24,1),LEFT(I24,2))
L25: =J25*K25 -> 0 | M25: =_xlfn.CONCAT(LEFT(E25,1),LEFT(F25,2),LEFT(G25,1),LEFT(H25,1),LEFT(I25,2))
L26: =J26*K26 -> 0 | M26: =_xlfn.CONCAT(LEFT(E26,1),LEFT(F26,2),LEFT(G26,1),LEFT(H26,1),LEFT(I26,2))
L27: =J27*K27 -> 0 | M27: =_xlfn.CONCAT(LEFT(E27,1),LEFT(F27,2),LEFT(G27,1),LEFT(H27,1),LEFT(I27,2))
L28: =J28*K28 -> 0 | M28: =_xlfn.CONCAT(LEFT(E28,1),LEFT(F28,2),LEFT(G28,1),LEFT(H28,1),LEFT(I28,2))
L29: =J29*K29 -> 0 | M29: =_xlfn.CONCAT(LEFT(E29,1),LEFT(F29,2),LEFT(G29,1),LEFT(H29,1),LEFT(I29,2))
L30: =J30*K30 -> 0 | M30: =_xlfn.CONCAT(LEFT(E30,1),LEFT(F30,2),LEFT(G30,1),LEFT(H30,1),LEFT(I30,2))
L31: =J31*K31 -> 0 | M31: =_xlfn.CONCAT(LEFT(E31,1),LEFT(F31,2),LEFT(G31,1),LEFT(H31,1),LEFT(I31,2))
L32: =J32*K32 -> 0 | M32: =_xlfn.CONCAT(LEFT(E32,1),LEFT(F32,2),LEFT(G32,1),LEFT(H32,1),LEFT(I32,2))
... L1000: =J1000*K1000 -> 0 | M1000: =_xlfn.CONCAT(LEFT(E1000,1),LEFT(F1000,2),LEFT(G1000,1),LEFT(H1000,1),LEFT(I1000,2))

Sheet Matrice EPRO Unitaire
B2: Matrice de collecte des emballages déclarés À L'UNITÉ selon les abaques Twiice : IBC / GRV, Big Bags et palettes bois ≤ 3 m² (les colonnes marquées d'une * sont obligatoires ; les colonnes à partir de « Type d'emballage » sont calculées automatiquement) | J2: Année de référence : | K2: ='Matrice EPRO Essentielle'!K2 -> 2025 | L2: ='Matrice EPRO Essentielle'!L2 -> du 01/01/2025 au 31/12/2025
B3: Référence interne | C3: Description ou commentaire | D3: Origine (Import/National) | E3: Famille d'emballage* | F3: Format : type IBC / volume Big Bag / surface de plancher palette* | G3: Caractéristique : classification IBC / toile Big Bag / robustesse palette* | H3: Dosseret (palettes uniquement)* | I3: Catégorie d'usage (Unique / Réemployable / Réemployé)* | J3: Nombre d'unités annuel* | K3: Type d'emballage (calculé) | L3: Poids de référence unitaire (abaque) | M3: Poids Total (T) | N3: Tarif unitaire 2027 (€ / unité) | O3: Éco-contribution estimée (€) | P3: Code éco-participation Twiice | Q3: Contrôle de saisie | R3: Code technique
B4: R01 | C4: Exemple IBC neuf non dangereux | D4: National | E4: IBC / GRV | F4: 68 - IBC neuf | G4: 0 - Sans classification | I4: 1 - Usage Unique | J4: 100 | K4: =IF($Q4="OK",IF($E4="Palette bois","2 - Autre (Regroupement / Transport)","1 - Vente"),"") -> 1 - Vente | L4: =IF($Q4<>"OK","",IF($E4="IBC / GRV","Sans objet",INDEX(Ref_Poids,MATCH($R4,Ref_Codes,0)))) -> Sans objet | M4: =IF(OR($Q4<>"OK",$E4="IBC / GRV"),"",$J4*$L4) | N4: =IF($Q4="OK",INDEX(Ref_Tarif,MATCH($R4,Ref_Codes,0)),"") -> 3 | O4: =IF($Q4="OK",$J4*$N4,"") -> 300 | P4: =IF($Q4="OK",$R4,"") -> 1681000 | Q4: =IF(COUNTA($E4:$J4)=0,"",IF(ISNA(MATCH($E4,L_Famille,0)),"Famille d'emballage à sélectionner dans la liste",IF(AND($E4="Palette bois",$F4=INDEX(L_PAL_Format,6)),"Palette > 3 m² : à déclarer au poids réel dans l'onglet Matrice EPRO Essentielle",IF(OR($F4="",$G4="",$I4="",$J4="",AND($E4="Palette bois",$H4="")),"Ligne incomplète : renseigner tous les champs obligatoires (*)",IF(OR(ISNA(MATCH($F4,CHOOSE(MATCH($E4,L_Famille,0),L_IBC_Format,L_BB_Format,L_PAL_Format),0)),ISNA(MATCH($G4,CHOOSE(MATCH($E4,L_Famille,0),L_IBC_Carac,L_BB_Carac,L_PAL_Carac),0)),ISNA(MATCH($I4,L_Usage3,0)),AND($E4="Palette bois",ISNA(MATCH($H4,L_PAL_Dosseret,0)))),"Valeur incohérente avec la famille : re-sélectionner dans les listes",IF(NOT(ISNUMBER($J4)),"Nombre d'unités : saisir un nombre entier ≥ 1",IF(OR($J4<1,$J4<>INT($J4)),"Nombre d'unités : saisir un nombre entier ≥ 1",IF(ISNA(MATCH($R4,Ref_Codes,0)),"Combinaison non prévue au barème Twiice 2027","OK")))))))) -> OK | R4: =IF(OR($E4="",$F4="",$G4="",$I4=""),"",IFERROR(IF($E4="IBC / GRV","1"&LEFT($F4,2)&LEFT($I4,1)&LEFT($G4,1)&"00",IF($E4="Big Bag","1"&(89+2*MATCH($F4,L_BB_Format,0)+IF($G4=INDEX(L_BB_Carac,2),1,0))&LEFT($I4,1)&"000",IF($E4="Palette bois","2"&(10+MATCH($F4,L_PAL_Format,0))&LEFT($I4,1)&LEFT($G4,1)&IF($H4=INDEX(L_PAL_Dosseret,2),"11","00"),""))),"")) -> 1681000
B5: R02 | C5: Exemple IBC neuf dangereux réemployable | D5: Import | E5: IBC / GRV | F5: 68 - IBC neuf | G5: 1 - Dangereux | I5: 2 - Réemployable | J5: 40 | K5: =IF($Q5="OK",IF($E5="Palette bois","2 - Autre (Regroupement / Transport)","1 - Vente"),"") -> 1 - Vente | L5: =IF($Q5<>"OK","",IF($E5="IBC / GRV","Sans objet",INDEX(Ref_Poids,MATCH($R5,Ref_Codes,0)))) -> Sans objet | M5: =IF(OR($Q5<>"OK",$E5="IBC / GRV"),"",$J5*$L5) | N5: =IF($Q5="OK",INDEX(Ref_Tarif,MATCH($R5,Ref_Codes,0)),"") -> 1.5 | O5: =IF($Q5="OK",$J5*$N5,"") -> 60 | P5: =IF($Q5="OK",$R5,"") -> 1682100 | Q5: =IF(COUNTA($E5:$J5)=0,"",IF(ISNA(MATCH($E5,L_Famille,0)),"Famille d'emballage à sélectionner dans la liste",IF(AND($E5="Palette bois",$F5=INDEX(L_PAL_Format,6)),"Palette > 3 m² : à déclarer au poids réel dans l'onglet Matrice EPRO Essentielle",IF(OR($F5="",$G5="",$I5="",$J5="",AND($E5="Palette bois",$H5="")),"Ligne incomplète : renseigner tous les champs obligatoires (*)",IF(OR(ISNA(MATCH($F5,CHOOSE(MATCH($E5,L_Famille,0),L_IBC_Format,L_BB_Format,L_PAL_Format),0)),ISNA(MATCH($G5,CHOOSE(MATCH($E5,L_Famille,0),L_IBC_Carac,L_BB_Carac,L_PAL_Carac),0)),ISNA(MATCH($I5,L_Usage3,0)),AND($E5="Palette bois",ISNA(MATCH($H5,L_PAL_Dosseret,0)))),"Valeur incohérente avec la famille : re-sélectionner dans les listes",IF(NOT(ISNUMBER($J5)),"Nombre d'unités : saisir un nombre entier ≥ 1",IF(OR($J5<1,$J5<>INT($J5)),"Nombre d'unités : saisir un nombre entier ≥ 1",IF(ISNA(MATCH($R5,Ref_Codes,0)),"Combinaison non prévue au barème Twiice 2027","OK")))))))) -> OK | R5: =IF(OR($E5="",$F5="",$G5="",$I5=""),"",IFERROR(IF($E5="IBC / GRV","1"&LEFT($F5,2)&LEFT($I5,1)&LEFT($G5,1)&"00",IF($E5="Big Bag","1"&(89+2*MATCH($F5,L_BB_Format,0)+IF($G5=INDEX(L_BB_Carac,2),1,0))&LEFT($I5,1)&"000",IF($E5="Palette bois","2"&(10+MATCH($F5,L_PAL_Format,0))&LEFT($I5,1)&LEFT($G5,1)&IF($H5=INDEX(L_PAL_Dosseret,2),"11","00"),""))),"")) -> 1682100
B6: R03 | C6: Exemple IBC reconditionné poche neuve | D6: National | E6: IBC / GRV | F6: 69 - IBC reconditionné (poche neuve) | G6: 0 - Sans classification | I6: 1 - Usage Unique | J6: 20 | K6: =IF($Q6="OK",IF($E6="Palette bois","2 - Autre (Regroupement / Transport)","1 - Vente"),"") -> 1 - Vente | L6: =IF($Q6<>"OK","",IF($E6="IBC / GRV","Sans objet",INDEX(Ref_Poids,MATCH($R6,Ref_Codes,0)))) -> Sans objet | M6: =IF(OR($Q6<>"OK",$E6="IBC / GRV"),"",$J6*$L6) | N6: =IF($Q6="OK",INDEX(Ref_Tarif,MATCH($R6,Ref_Codes,0)),"") -> 1.5 | O6: =IF($Q6="OK",$J6*$N6,"") -> 30 | P6: =IF($Q6="OK",$R6,"") -> 1691000 | Q6: =IF(COUNTA($E6:$J6)=0,"",IF(ISNA(MATCH($E6,L_Famille,0)),"Famille d'emballage à sélectionner dans la liste",IF(AND($E6="Palette bois",$F6=INDEX(L_PAL_Format,6)),"Palette > 3 m² : à déclarer au poids réel dans l'onglet Matrice EPRO Essentielle",IF(OR($F6="",$G6="",$I6="",$J6="",AND($E6="Palette bois",$H6="")),"Ligne incomplète : renseigner tous les champs obligatoires (*)",IF(OR(ISNA(MATCH($F6,CHOOSE(MATCH($E6,L_Famille,0),L_IBC_Format,L_BB_Format,L_PAL_Format),0)),ISNA(MATCH($G6,CHOOSE(MATCH($E6,L_Famille,0),L_IBC_Carac,L_BB_Carac,L_PAL_Carac),0)),ISNA(MATCH($I6,L_Usage3,0)),AND($E6="Palette bois",ISNA(MATCH($H6,L_PAL_Dosseret,0)))),"Valeur incohérente avec la famille : re-sélectionner dans les listes",IF(NOT(ISNUMBER($J6)),"Nombre d'unités : saisir un nombre entier ≥ 1",IF(OR($J6<1,$J6<>INT($J6)),"Nombre d'unités : saisir un nombre entier ≥ 1",IF(ISNA(MATCH($R6,Ref_Codes,0)),"Combinaison non prévue au barème Twiice 2027","OK")))))))) -> OK | R6: =IF(OR($E6="",$F6="",$G6="",$I6=""),"",IFERROR(IF($E6="IBC / GRV","1"&LEFT($F6,2)&LEFT($I6,1)&LEFT($G6,1)&"00",IF($E6="Big Bag","1"&(89+2*MATCH($F6,L_BB_Format,0)+IF($G6=INDEX(L_BB_Carac,2),1,0))&LEFT($I6,1)&"000",IF($E6="Palette bois","2"&(10+MATCH($F6,L_PAL_Format,0))&LEFT($I6,1)&LEFT($G6,1)&IF($H6=INDEX(L_PAL_Dosseret,2),"11","00"),""))),"")) -> 1691000
B7: R04 | C7: Exemple Big Bag ≤ 0,5 m³ standard | D7: Import | E7: Big Bag | F7: Volume ≤ 0,5 m³ | G7: Toile standard | I7: 1 - Usage Unique | J7: 1000 | K7: =IF($Q7="OK",IF($E7="Palette bois","2 - Autre (Regroupement / Transport)","1 - Vente"),"") -> 1 - Vente | L7: =IF($Q7<>"OK","",IF($E7="IBC / GRV","Sans objet",INDEX(Ref_Poids,MATCH($R7,Ref_Codes,0)))) -> 0.8 | M7: =IF(OR($Q7<>"OK",$E7="IBC / GRV"),"",$J7*$L7) -> 800 | N7: =IF($Q7="OK",INDEX(Ref_Tarif,MATCH($R7,Ref_Codes,0)),"") -> 0.212 | O7: =IF($Q7="OK",$J7*$N7,"") -> 212 | P7: =IF($Q7="OK",$R7,"") -> 1911000 | Q7: =IF(COUNTA($E7:$J7)=0,"",IF(ISNA(MATCH($E7,L_Famille,0)),"Famille d'emballage à sélectionner dans la liste",IF(AND($E7="Palette bois",$F7=INDEX(L_PAL_Format,6)),"Palette > 3 m² : à déclarer au poids réel dans l'onglet Matrice EPRO Essentielle",IF(OR($F7="",$G7="",$I7="",$J7="",AND($E7="Palette bois",$H7="")),"Ligne incomplète : renseigner tous les champs obligatoires (*)",IF(OR(ISNA(MATCH($F7,CHOOSE(MATCH($E7,L_Famille,0),L_IBC_Format,L_BB_Format,L_PAL_Format),0)),ISNA(MATCH($G7,CHOOSE(MATCH($E7,L_Famille,0),L_IBC_Carac,L_BB_Carac,L_PAL_Carac),0)),ISNA(MATCH($I7,L_Usage3,0)),AND($E7="Palette bois",ISNA(MATCH($H7,L_PAL_Dosseret,0)))),"Valeur incohérente avec la famille : re-sélectionner dans les listes",IF(NOT(ISNUMBER($J7)),"Nombre d'unités : saisir un nombre entier ≥ 1",IF(OR($J7<1,$J7<>INT($J7)),"Nombre d'unités : saisir un nombre entier ≥ 1",IF(ISNA(MATCH($R7,Ref_Codes,0)),"Combinaison non prévue au barème Twiice 2027","OK")))))))) -> OK | R7: =IF(OR($E7="",$F7="",$G7="",$I7=""),"",IFERROR(IF($E7="IBC / GRV","1"&LEFT($F7,2)&LEFT($I7,1)&LEFT($G7,1)&"00",IF($E7="Big Bag","1"&(89+2*MATCH($F7,L_BB_Format,0)+IF($G7=INDEX(L_BB_Carac,2),1,0))&LEFT($I7,1)&"000",IF($E7="Palette bois","2"&(10+MATCH($F7,L_PAL_Format,0))&LEFT($I7,1)&LEFT($G7,1)&IF($H7=INDEX(L_PAL_Dosseret,2),"11","00"),""))),"")) -> 1911000
B8: R05 | C8: Exemple Big Bag 1,2-1,9 m³ doublure | D8: Import | E8: Big Bag | F8: 1,2 m³ < Volume ≤ 1,9 m³ | G8: Doublure PE / Toile lourde (+45 %) | I8: 1 - Usage Unique | J8: 500 | K8: =IF($Q8="OK",IF($E8="Palette bois","2 - Autre (Regroupement / Transport)","1 - Vente"),"") -> 1 - Vente | L8: =IF($Q8<>"OK","",IF($E8="IBC / GRV","Sans objet",INDEX(Ref_Poids,MATCH($R8,Ref_Codes,0)))) -> 2.9 | M8: =IF(OR($Q8<>"OK",$E8="IBC / GRV"),"",$J8*$L8) -> 1450 | N8: =IF($Q8="OK",INDEX(Ref_Tarif,MATCH($R8,Ref_Codes,0)),"") -> 0.767 | O8: =IF($Q8="OK",$J8*$N8,"") -> 383.5 | P8: =IF($Q8="OK",$R8,"") -> 1961000 | Q8: =IF(COUNTA($E8:$J8)=0,"",IF(ISNA(MATCH($E8,L_Famille,0)),"Famille d'emballage à sélectionner dans la liste",IF(AND($E8="Palette bois",$F8=INDEX(L_PAL_Format,6)),"Palette > 3 m² : à déclarer au poids réel dans l'onglet Matrice EPRO Essentielle",IF(OR($F8="",$G8="",$I8="",$J8="",AND($E8="Palette bois",$H8="")),"Ligne incomplète : renseigner tous les champs obligatoires (*)",IF(OR(ISNA(MATCH($F8,CHOOSE(MATCH($E8,L_Famille,0),L_IBC_Format,L_BB_Format,L_PAL_Format),0)),ISNA(MATCH($G8,CHOOSE(MATCH($E8,L_Famille,0),L_IBC_Carac,L_BB_Carac,L_PAL_Carac),0)),ISNA(MATCH($I8,L_Usage3,0)),AND($E8="Palette bois",ISNA(MATCH($H8,L_PAL_Dosseret,0)))),"Valeur incohérente avec la famille : re-sélectionner dans les listes",IF(NOT(ISNUMBER($J8)),"Nombre d'unités : saisir un nombre entier ≥ 1",IF(OR($J8<1,$J8<>INT($J8)),"Nombre d'unités : saisir un nombre entier ≥ 1",IF(ISNA(MATCH($R8,Ref_Codes,0)),"Combinaison non prévue au barème Twiice 2027","OK")))))))) -> OK | R8: =IF(OR($E8="",$F8="",$G8="",$I8=""),"",IFERROR(IF($E8="IBC / GRV","1"&LEFT($F8,2)&LEFT($I8,1)&LEFT($G8,1)&"00",IF($E8="Big Bag","1"&(89+2*MATCH($F8,L_BB_Format,0)+IF($G8=INDEX(L_BB_Carac,2),1,0))&LEFT($I8,1)&"000",IF($E8="Palette bois","2"&(10+MATCH($F8,L_PAL_Format,0))&LEFT($I8,1)&LEFT($G8,1)&IF($H8=INDEX(L_PAL_Dosseret,2),"11","00"),""))),"")) -> 1961000
B9: R06 | C9: Exemple Big Bag 0,5-1,2 m³ réemployable | D9: National | E9: Big Bag | F9: 0,5 m³ < Volume ≤ 1,2 m³ | G9: Toile standard | I9: 2 - Réemployable | J9: 200 | K9: =IF($Q9="OK",IF($E9="Palette bois","2 - Autre (Regroupement / Transport)","1 - Vente"),"") -> 1 - Vente | L9: =IF($Q9<>"OK","",IF($E9="IBC / GRV","Sans objet",INDEX(Ref_Poids,MATCH($R9,Ref_Codes,0)))) -> 1.5 | M9: =IF(OR($Q9<>"OK",$E9="IBC / GRV"),"",$J9*$L9) -> 300 | N9: =IF($Q9="OK",INDEX(Ref_Tarif,MATCH($R9,Ref_Codes,0)),"") -> 0.1985 | O9: =IF($Q9="OK",$J9*$N9,"") -> 39.7 | P9: =IF($Q9="OK",$R9,"") -> 1932000 | Q9: =IF(COUNTA($E9:$J9)=0,"",IF(ISNA(MATCH($E9,L_Famille,0)),"Famille d'emballage à sélectionner dans la liste",IF(AND($E9="Palette bois",$F9=INDEX(L_PAL_Format,6)),"Palette > 3 m² : à déclarer au poids réel dans l'onglet Matrice EPRO Essentielle",IF(OR($F9="",$G9="",$I9="",$J9="",AND($E9="Palette bois",$H9="")),"Ligne incomplète : renseigner tous les champs obligatoires (*)",IF(OR(ISNA(MATCH($F9,CHOOSE(MATCH($E9,L_Famille,0),L_IBC_Format,L_BB_Format,L_PAL_Format),0)),ISNA(MATCH($G9,CHOOSE(MATCH($E9,L_Famille,0),L_IBC_Carac,L_BB_Carac,L_PAL_Carac),0)),ISNA(MATCH($I9,L_Usage3,0)),AND($E9="Palette bois",ISNA(MATCH($H9,L_PAL_Dosseret,0)))),"Valeur incohérente avec la famille : re-sélectionner dans les listes",IF(NOT(ISNUMBER($J9)),"Nombre d'unités : saisir un nombre entier ≥ 1",IF(OR($J9<1,$J9<>INT($J9)),"Nombre d'unités : saisir un nombre entier ≥ 1",IF(ISNA(MATCH($R9,Ref_Codes,0)),"Combinaison non prévue au barème Twiice 2027","OK")))))))) -> OK | R9: =IF(OR($E9="",$F9="",$G9="",$I9=""),"",IFERROR(IF($E9="IBC / GRV","1"&LEFT($F9,2)&LEFT($I9,1)&LEFT($G9,1)&"00",IF($E9="Big Bag","1"&(89+2*MATCH($F9,L_BB_Format,0)+IF($G9=INDEX(L_BB_Carac,2),1,0))&LEFT($I9,1)&"000",IF($E9="Palette bois","2"&(10+MATCH($F9,L_PAL_Format,0))&LEFT($I9,1)&LEFT($G9,1)&IF($H9=INDEX(L_PAL_Dosseret,2),"11","00"),""))),"")) -> 1932000
B10: R07 | C10: Exemple Big Bag > 1,9 m³ réemployé | D10: National | E10: Big Bag | F10: Volume > 1,9 m³ | G10: Toile standard | I10: 3 - Réemployé | J10: 50 | K10: =IF($Q10="OK",IF($E10="Palette bois","2 - Autre (Regroupement / Transport)","1 - Vente"),"") -> 1 - Vente | L10: =IF($Q10<>"OK","",IF($E10="IBC / GRV","Sans objet",INDEX(Ref_Poids,MATCH($R10,Ref_Codes,0)))) -> 2.4 | M10: =IF(OR($Q10<>"OK",$E10="IBC / GRV"),"",$J10*$L10) -> 120 | N10: =IF($Q10="OK",INDEX(Ref_Tarif,MATCH($R10,Ref_Codes,0)),"") -> 0 | O10: =IF($Q10="OK",$J10*$N10,"") -> 0 | P10: =IF($Q10="OK",$R10,"") -> 1973000 | Q10: =IF(COUNTA($E10:$J10)=0,"",IF(ISNA(MATCH($E10,L_Famille,0)),"Famille d'emballage à sélectionner dans la liste",IF(AND($E10="Palette bois",$F10=INDEX(L_PAL_Format,6)),"Palette > 3 m² : à déclarer au poids réel dans l'onglet Matrice EPRO Essentielle",IF(OR($F10="",$G10="",$I10="",$J10="",AND($E10="Palette bois",$H10="")),"Ligne incomplète : renseigner tous les champs obligatoires (*)",IF(OR(ISNA(MATCH($F10,CHOOSE(MATCH($E10,L_Famille,0),L_IBC_Format,L_BB_Format,L_PAL_Format),0)),ISNA(MATCH($G10,CHOOSE(MATCH($E10,L_Famille,0),L_IBC_Carac,L_BB_Carac,L_PAL_Carac),0)),ISNA(MATCH($I10,L_Usage3,0)),AND($E10="Palette bois",ISNA(MATCH($H10,L_PAL_Dosseret,0)))),"Valeur incohérente avec la famille : re-sélectionner dans les listes",IF(NOT(ISNUMBER($J10)),"Nombre d'unités : saisir un nombre entier ≥ 1",IF(OR($J10<1,$J10<>INT($J10)),"Nombre d'unités : saisir un nombre entier ≥ 1",IF(ISNA(MATCH($R10,Ref_Codes,0)),"Combinaison non prévue au barème Twiice 2027","OK")))))))) -> OK | R10: =IF(OR($E10="",$F10="",$G10="",$I10=""),"",IFERROR(IF($E10="IBC / GRV","1"&LEFT($F10,2)&LEFT($I10,1)&LEFT($G10,1)&"00",IF($E10="Big Bag","1"&(89+2*MATCH($F10,L_BB_Format,0)+IF($G10=INDEX(L_BB_Carac,2),1,0))&LEFT($I10,1)&"000",IF($E10="Palette bois","2"&(10+MATCH($F10,L_PAL_Format,0))&LEFT($I10,1)&LEFT($G10,1)&IF($H10=INDEX(L_PAL_Dosseret,2),"11","00"),""))),"")) -> 1973000
B11: R08 | C11: Exemple Palette lourde/EPAL 0,5-1 m² | D11: National | E11: Palette bois | F11: 0,5 m² < Surface ≤ 1 m² | G11: 4 - Lourde / EPAL | H11: Sans dosseret | I11: 1 - Usage Unique | J11: 1000 | K11: =IF($Q11="OK",IF($E11="Palette bois","2 - Autre (Regroupement / Transport)","1 - Vente"),"") -> 2 - Autre (Regroupement / Transport) | L11: =IF($Q11<>"OK","",IF($E11="IBC / GRV","Sans objet",INDEX(Ref_Poids,MATCH($R11,Ref_Codes,0)))) -> 25 | M11: =IF(OR($Q11<>"OK",$E11="IBC / GRV"),"",$J11*$L11) -> 25000 | N11: =IF($Q11="OK",INDEX(Ref_Tarif,MATCH($R11,Ref_Codes,0)),"") -> 0.198 | O11: =IF($Q11="OK",$J11*$N11,"") -> 198 | P11: =IF($Q11="OK",$R11,"") -> 2121400 | Q11: =IF(COUNTA($E11:$J11)=0,"",IF(ISNA(MATCH($E11,L_Famille,0)),"Famille d'emballage à sélectionner dans la liste",IF(AND($E11="Palette bois",$F11=INDEX(L_PAL_Format,6)),"Palette > 3 m² : à déclarer au poids réel dans l'onglet Matrice EPRO Essentielle",IF(OR($F11="",$G11="",$I11="",$J11="",AND($E11="Palette bois",$H11="")),"Ligne incomplète : renseigner tous les champs obligatoires (*)",IF(OR(ISNA(MATCH($F11,CHOOSE(MATCH($E11,L_Famille,0),L_IBC_Format,L_BB_Format,L_PAL_Format),0)),ISNA(MATCH($G11,CHOOSE(MATCH($E11,L_Famille,0),L_IBC_Carac,L_BB_Carac,L_PAL_Carac),0)),ISNA(MATCH($I11,L_Usage3,0)),AND($E11="Palette bois",ISNA(MATCH($H11,L_PAL_Dosseret,0)))),"Valeur incohérente avec la famille : re-sélectionner dans les listes",IF(NOT(ISNUMBER($J11)),"Nombre d'unités : saisir un nombre entier ≥ 1",IF(OR($J11<1,$J11<>INT($J11)),"Nombre d'unités : saisir un nombre entier ≥ 1",IF(ISNA(MATCH($R11,Ref_Codes,0)),"Combinaison non prévue au barème Twiice 2027","OK")))))))) -> OK | R11: =IF(OR($E11="",$F11="",$G11="",$I11=""),"",IFERROR(IF($E11="IBC / GRV","1"&LEFT($F11,2)&LEFT($I11,1)&LEFT($G11,1)&"00",IF($E11="Big Bag","1"&(89+2*MATCH($F11,L_BB_Format,0)+IF($G11=INDEX(L_BB_Carac,2),1,0))&LEFT($I11,1)&"000",IF($E11="Palette bois","2"&(10+MATCH($F11,L_PAL_Format,0))&LEFT($I11,1)&LEFT($G11,1)&IF($H11=INDEX(L_PAL_Dosseret,2),"11","00"),""))),"")) -> 2121400
B12: R09 | C12: Exemple Palette lourde/EPAL 0,5-1 m² dosseret | D12: National | E12: Palette bois | F12: 0,5 m² < Surface ≤ 1 m² | G12: 4 - Lourde / EPAL | H12: Avec dosseret | I12: 1 - Usage Unique | J12: 100 | K12: =IF($Q12="OK",IF($E12="Palette bois","2 - Autre (Regroupement / Transport)","1 - Vente"),"") -> 2 - Autre (Regroupement / Transport) | L12: =IF($Q12<>"OK","",IF($E12="IBC / GRV","Sans objet",INDEX(Ref_Poids,MATCH($R12,Ref_Codes,0)))) -> 35 | M12: =IF(OR($Q12<>"OK",$E12="IBC / GRV"),"",$J12*$L12) -> 3500 | N12: =IF($Q12="OK",INDEX(Ref_Tarif,MATCH($R12,Ref_Codes,0)),"") -> 0.277 | O12: =IF($Q12="OK",$J12*$N12,"") -> 27.7 | P12: =IF($Q12="OK",$R12,"") -> 2121411 | Q12: =IF(COUNTA($E12:$J12)=0,"",IF(ISNA(MATCH($E12,L_Famille,0)),"Famille d'emballage à sélectionner dans la liste",IF(AND($E12="Palette bois",$F12=INDEX(L_PAL_Format,6)),"Palette > 3 m² : à déclarer au poids réel dans l'onglet Matrice EPRO Essentielle",IF(OR($F12="",$G12="",$I12="",$J12="",AND($E12="Palette bois",$H12="")),"Ligne incomplète : renseigner tous les champs obligatoires (*)",IF(OR(ISNA(MATCH($F12,CHOOSE(MATCH($E12,L_Famille,0),L_IBC_Format,L_BB_Format,L_PAL_Format),0)),ISNA(MATCH($G12,CHOOSE(MATCH($E12,L_Famille,0),L_IBC_Carac,L_BB_Carac,L_PAL_Carac),0)),ISNA(MATCH($I12,L_Usage3,0)),AND($E12="Palette bois",ISNA(MATCH($H12,L_PAL_Dosseret,0)))),"Valeur incohérente avec la famille : re-sélectionner dans les listes",IF(NOT(ISNUMBER($J12)),"Nombre d'unités : saisir un nombre entier ≥ 1",IF(OR($J12<1,$J12<>INT($J12)),"Nombre d'unités : saisir un nombre entier ≥ 1",IF(ISNA(MATCH($R12,Ref_Codes,0)),"Combinaison non prévue au barème Twiice 2027","OK")))))))) -> OK | R12: =IF(OR($E12="",$F12="",$G12="",$I12=""),"",IFERROR(IF($E12="IBC / GRV","1"&LEFT($F12,2)&LEFT($I12,1)&LEFT($G12,1)&"00",IF($E12="Big Bag","1"&(89+2*MATCH($F12,L_BB_Format,0)+IF($G12=INDEX(L_BB_Carac,2),1,0))&LEFT($I12,1)&"000",IF($E12="Palette bois","2"&(10+MATCH($F12,L_PAL_Format,0))&LEFT($I12,1)&LEFT($G12,1)&IF($H12=INDEX(L_PAL_Dosseret,2),"11","00"),""))),"")) -> 2121411
B13: R10 | C13: Exemple Palette légère 2-3 m² réemployable | D13: Import | E13: Palette bois | F13: 2 m² < Surface ≤ 3 m² | G13: 6 - Légère / Perdue | H13: Sans dosseret | I13: 2 - Réemployable | J13: 300 | K13: =IF($Q13="OK",IF($E13="Palette bois","2 - Autre (Regroupement / Transport)","1 - Vente"),"") -> 2 - Autre (Regroupement / Transport) | L13: =IF($Q13<>"OK","",IF($E13="IBC / GRV","Sans objet",INDEX(Ref_Poids,MATCH($R13,Ref_Codes,0)))) -> 45 | M13: =IF(OR($Q13<>"OK",$E13="IBC / GRV"),"",$J13*$L13) -> 13500 | N13: =IF($Q13="OK",INDEX(Ref_Tarif,MATCH($R13,Ref_Codes,0)),"") -> 0.178 | O13: =IF($Q13="OK",$J13*$N13,"") -> 53.4 | P13: =IF($Q13="OK",$R13,"") -> 2152600 | Q13: =IF(COUNTA($E13:$J13)=0,"",IF(ISNA(MATCH($E13,L_Famille,0)),"Famille d'emballage à sélectionner dans la liste",IF(AND($E13="Palette bois",$F13=INDEX(L_PAL_Format,6)),"Palette > 3 m² : à déclarer au poids réel dans l'onglet Matrice EPRO Essentielle",IF(OR($F13="",$G13="",$I13="",$J13="",AND($E13="Palette bois",$H13="")),"Ligne incomplète : renseigner tous les champs obligatoires (*)",IF(OR(ISNA(MATCH($F13,CHOOSE(MATCH($E13,L_Famille,0),L_IBC_Format,L_BB_Format,L_PAL_Format),0)),ISNA(MATCH($G13,CHOOSE(MATCH($E13,L_Famille,0),L_IBC_Carac,L_BB_Carac,L_PAL_Carac),0)),ISNA(MATCH($I13,L_Usage3,0)),AND($E13="Palette bois",ISNA(MATCH($H13,L_PAL_Dosseret,0)))),"Valeur incohérente avec la famille : re-sélectionner dans les listes",IF(NOT(ISNUMBER($J13)),"Nombre d'unités : saisir un nombre entier ≥ 1",IF(OR($J13<1,$J13<>INT($J13)),"Nombre d'unités : saisir un nombre entier ≥ 1",IF(ISNA(MATCH($R13,Ref_Codes,0)),"Combinaison non prévue au barème Twiice 2027","OK")))))))) -> OK | R13: =IF(OR($E13="",$F13="",$G13="",$I13=""),"",IFERROR(IF($E13="IBC / GRV","1"&LEFT($F13,2)&LEFT($I13,1)&LEFT($G13,1)&"00",IF($E13="Big Bag","1"&(89+2*MATCH($F13,L_BB_Format,0)+IF($G13=INDEX(L_BB_Carac,2),1,0))&LEFT($I13,1)&"000",IF($E13="Palette bois","2"&(10+MATCH($F13,L_PAL_Format,0))&LEFT($I13,1)&LEFT($G13,1)&IF($H13=INDEX(L_PAL_Dosseret,2),"11","00"),""))),"")) -> 2152600
K16: =IF($Q16="OK",IF($E16="Palette bois","2 - Autre (Regroupement / Transport)","1 - Vente"),"") | L16: =IF($Q16<>"OK","",IF($E16="IBC / GRV","Sans objet",INDEX(Ref_Poids,MATCH($R16,Ref_Codes,0)))) | M16: =IF(OR($Q16<>"OK",$E16="IBC / GRV"),"",$J16*$L16) | N16: =IF($Q16="OK",INDEX(Ref_Tarif,MATCH($R16,Ref_Codes,0)),"") | O16: =IF($Q16="OK",$J16*$N16,"") | P16: =IF($Q16="OK",$R16,"") | Q16: =IF(COUNTA($E16:$J16)=0,"",IF(ISNA(MATCH($E16,L_Famille,0)),"Famille d'emballage à sélectionner dans la liste",IF(AND($E16="Palette bois",$F16=INDEX(L_PAL_Format,6)),"Palette > 3 m² : à déclarer au poids réel dans l'onglet Matrice EPRO Essentielle",IF(OR($F16="",$G16="",$I16="",$J16="",AND($E16="Palette bois",$H16="")),"Ligne incomplète : renseigner tous les champs obligatoires (*)",IF(OR(ISNA(MATCH($F16,CHOOSE(MATCH($E16,L_Famille,0),L_IBC_Format,L_BB_Format,L_PAL_Format),0)),ISNA(MATCH($G16,CHOOSE(MATCH($E16,L_Famille,0),L_IBC_Carac,L_BB_Carac,L_PAL_Carac),0)),ISNA(MATCH($I16,L_Usage3,0)),AND($E16="Palette bois",ISNA(MATCH($H16,L_PAL_Dosseret,0)))),"Valeur incohérente avec la famille : re-sélectionner dans les listes",IF(NOT(ISNUMBER($J16)),"Nombre d'unités : saisir un nombre entier ≥ 1",IF(OR($J16<1,$J16<>INT($J16)),"Nombre d'unités : saisir un nombre entier ≥ 1",IF(ISNA(MATCH($R16,Ref_Codes,0)),"Combinaison non prévue au barème Twiice 2027","OK")))))))) | R16: =IF(OR($E16="",$F16="",$G16="",$I16=""),"",IFERROR(IF($E16="IBC / GRV","1"&LEFT($F16,2)&LEFT($I16,1)&LEFT($G16,1)&"00",IF($E16="Big Bag","1"&(89+2*MATCH($F16,L_BB_Format,0)+IF($G16=INDEX(L_BB_Carac,2),1,0))&LEFT($I16,1)&"000",IF($E16="Palette bois","2"&(10+MATCH($F16,L_PAL_Format,0))&LEFT($I16,1)&LEFT($G16,1)&IF($H16=INDEX(L_PAL_Dosseret,2),"11","00"),""))),""))
K17: =IF($Q17="OK",IF($E17="Palette bois","2 - Autre (Regroupement / Transport)","1 - Vente"),"") | L17: =IF($Q17<>"OK","",IF($E17="IBC / GRV","Sans objet",INDEX(Ref_Poids,MATCH($R17,Ref_Codes,0)))) | M17: =IF(OR($Q17<>"OK",$E17="IBC / GRV"),"",$J17*$L17) | N17: =IF($Q17="OK",INDEX(Ref_Tarif,MATCH($R17,Ref_Codes,0)),"") | O17: =IF($Q17="OK",$J17*$N17,"") | P17: =IF($Q17="OK",$R17,"") | Q17: =IF(COUNTA($E17:$J17)=0,"",IF(ISNA(MATCH($E17,L_Famille,0)),"Famille d'emballage à sélectionner dans la liste",IF(AND($E17="Palette bois",$F17=INDEX(L_PAL_Format,6)),"Palette > 3 m² : à déclarer au poids réel dans l'onglet Matrice EPRO Essentielle",IF(OR($F17="",$G17="",$I17="",$J17="",AND($E17="Palette bois",$H17="")),"Ligne incomplète : renseigner tous les champs obligatoires (*)",IF(OR(ISNA(MATCH($F17,CHOOSE(MATCH($E17,L_Famille,0),L_IBC_Format,L_BB_Format,L_PAL_Format),0)),ISNA(MATCH($G17,CHOOSE(MATCH($E17,L_Famille,0),L_IBC_Carac,L_BB_Carac,L_PAL_Carac),0)),ISNA(MATCH($I17,L_Usage3,0)),AND($E17="Palette bois",ISNA(MATCH($H17,L_PAL_Dosseret,0)))),"Valeur incohérente avec la famille : re-sélectionner dans les listes",IF(NOT(ISNUMBER($J17)),"Nombre d'unités : saisir un nombre entier ≥ 1",IF(OR($J17<1,$J17<>INT($J17)),"Nombre d'unités : saisir un nombre entier ≥ 1",IF(ISNA(MATCH($R17,Ref_Codes,0)),"Combinaison non prévue au barème Twiice 2027","OK")))))))) | R17: =IF(OR($E17="",$F17="",$G17="",$I17=""),"",IFERROR(IF($E17="IBC / GRV","1"&LEFT($F17,2)&LEFT($I17,1)&LEFT($G17,1)&"00",IF($E17="Big Bag","1"&(89+2*MATCH($F17,L_BB_Format,0)+IF($G17=INDEX(L_BB_Carac,2),1,0))&LEFT($I17,1)&"000",IF($E17="Palette bois","2"&(10+MATCH($F17,L_PAL_Format,0))&LEFT($I17,1)&LEFT($G17,1)&IF($H17=INDEX(L_PAL_Dosseret,2),"11","00"),""))),""))
K18: =IF($Q18="OK",IF($E18="Palette bois","2 - Autre (Regroupement / Transport)","1 - Vente"),"") | L18: =IF($Q18<>"OK","",IF($E18="IBC / GRV","Sans objet",INDEX(Ref_Poids,MATCH($R18,Ref_Codes,0)))) | M18: =IF(OR($Q18<>"OK",$E18="IBC / GRV"),"",$J18*$L18) | N18: =IF($Q18="OK",INDEX(Ref_Tarif,MATCH($R18,Ref_Codes,0)),"") | O18: =IF($Q18="OK",$J18*$N18,"") | P18: =IF($Q18="OK",$R18,"") | Q18: =IF(COUNTA($E18:$J18)=0,"",IF(ISNA(MATCH($E18,L_Famille,0)),"Famille d'emballage à sélectionner dans la liste",IF(AND($E18="Palette bois",$F18=INDEX(L_PAL_Format,6)),"Palette > 3 m² : à déclarer au poids réel dans l'onglet Matrice EPRO Essentielle",IF(OR($F18="",$G18="",$I18="",$J18="",AND($E18="Palette bois",$H18="")),"Ligne incomplète : renseigner tous les champs obligatoires (*)",IF(OR(ISNA(MATCH($F18,CHOOSE(MATCH($E18,L_Famille,0),L_IBC_Format,L_BB_Format,L_PAL_Format),0)),ISNA(MATCH($G18,CHOOSE(MATCH($E18,L_Famille,0),L_IBC_Carac,L_BB_Carac,L_PAL_Carac),0)),ISNA(MATCH($I18,L_Usage3,0)),AND($E18="Palette bois",ISNA(MATCH($H18,L_PAL_Dosseret,0)))),"Valeur incohérente avec la famille : re-sélectionner dans les listes",IF(NOT(ISNUMBER($J18)),"Nombre d'unités : saisir un nombre entier ≥ 1",IF(OR($J18<1,$J18<>INT($J18)),"Nombre d'unités : saisir un nombre entier ≥ 1",IF(ISNA(MATCH($R18,Ref_Codes,0)),"Combinaison non prévue au barème Twiice 2027","OK")))))))) | R18: =IF(OR($E18="",$F18="",$G18="",$I18=""),"",IFERROR(IF($E18="IBC / GRV","1"&LEFT($F18,2)&LEFT($I18,1)&LEFT($G18,1)&"00",IF($E18="Big Bag","1"&(89+2*MATCH($F18,L_BB_Format,0)+IF($G18=INDEX(L_BB_Carac,2),1,0))&LEFT($I18,1)&"000",IF($E18="Palette bois","2"&(10+MATCH($F18,L_PAL_Format,0))&LEFT($I18,1)&LEFT($G18,1)&IF($H18=INDEX(L_PAL_Dosseret,2),"11","00"),""))),""))
K19: =IF($Q19="OK",IF($E19="Palette bois","2 - Autre (Regroupement / Transport)","1 - Vente"),"") | L19: =IF($Q19<>"OK","",IF($E19="IBC / GRV","Sans objet",INDEX(Ref_Poids,MATCH($R19,Ref_Codes,0)))) | M19: =IF(OR($Q19<>"OK",$E19="IBC / GRV"),"",$J19*$L19) | N19: =IF($Q19="OK",INDEX(Ref_Tarif,MATCH($R19,Ref_Codes,0)),"") | O19: =IF($Q19="OK",$J19*$N19,"") | P19: =IF($Q19="OK",$R19,"") | Q19: =IF(COUNTA($E19:$J19)=0,"",IF(ISNA(MATCH($E19,L_Famille,0)),"Famille d'emballage à sélectionner dans la liste",IF(AND($E19="Palette bois",$F19=INDEX(L_PAL_Format,6)),"Palette > 3 m² : à déclarer au poids réel dans l'onglet Matrice EPRO Essentielle",IF(OR($F19="",$G19="",$I19="",$J19="",AND($E19="Palette bois",$H19="")),"Ligne incomplète : renseigner tous les champs obligatoires (*)",IF(OR(ISNA(MATCH($F19,CHOOSE(MATCH($E19,L_Famille,0),L_IBC_Format,L_BB_Format,L_PAL_Format),0)),ISNA(MATCH($G19,CHOOSE(MATCH($E19,L_Famille,0),L_IBC_Carac,L_BB_Carac,L_PAL_Carac),0)),ISNA(MATCH($I19,L_Usage3,0)),AND($E19="Palette bois",ISNA(MATCH($H19,L_PAL_Dosseret,0)))),"Valeur incohérente avec la famille : re-sélectionner dans les listes",IF(NOT(ISNUMBER($J19)),"Nombre d'unités : saisir un nombre entier ≥ 1",IF(OR($J19<1,$J19<>INT($J19)),"Nombre d'unités : saisir un nombre entier ≥ 1",IF(ISNA(MATCH($R19,Ref_Codes,0)),"Combinaison non prévue au barème Twiice 2027","OK")))))))) | R19: =IF(OR($E19="",$F19="",$G19="",$I19=""),"",IFERROR(IF($E19="IBC / GRV","1"&LEFT($F19,2)&LEFT($I19,1)&LEFT($G19,1)&"00",IF($E19="Big Bag","1"&(89+2*MATCH($F19,L_BB_Format,0)+IF($G19=INDEX(L_BB_Carac,2),1,0))&LEFT($I19,1)&"000",IF($E19="Palette bois","2"&(10+MATCH($F19,L_PAL_Format,0))&LEFT($I19,1)&LEFT($G19,1)&IF($H19=INDEX(L_PAL_Dosseret,2),"11","00"),""))),""))
K20: =IF($Q20="OK",IF($E20="Palette bois","2 - Autre (Regroupement / Transport)","1 - Vente"),"") | L20: =IF($Q20<>"OK","",IF($E20="IBC / GRV","Sans objet",INDEX(Ref_Poids,MATCH($R20,Ref_Codes,0)))) | M20: =IF(OR($Q20<>"OK",$E20="IBC / GRV"),"",$J20*$L20) | N20: =IF($Q20="OK",INDEX(Ref_Tarif,MATCH($R20,Ref_Codes,0)),"") | O20: =IF($Q20="OK",$J20*$N20,"") | P20: =IF($Q20="OK",$R20,"") | Q20: =IF(COUNTA($E20:$J20)=0,"",IF(ISNA(MATCH($E20,L_Famille,0)),"Famille d'emballage à sélectionner dans la liste",IF(AND($E20="Palette bois",$F20=INDEX(L_PAL_Format,6)),"Palette > 3 m² : à déclarer au poids réel dans l'onglet Matrice EPRO Essentielle",IF(OR($F20="",$G20="",$I20="",$J20="",AND($E20="Palette bois",$H20="")),"Ligne incomplète : renseigner tous les champs obligatoires (*)",IF(OR(ISNA(MATCH($F20,CHOOSE(MATCH($E20,L_Famille,0),L_IBC_Format,L_BB_Format,L_PAL_Format),0)),ISNA(MATCH($G20,CHOOSE(MATCH($E20,L_Famille,0),L_IBC_Carac,L_BB_Carac,L_PAL_Carac),0)),ISNA(MATCH($I20,L_Usage3,0)),AND($E20="Palette bois",ISNA(MATCH($H20,L_PAL_Dosseret,0)))),"Valeur incohérente avec la famille : re-sélectionner dans les listes",IF(NOT(ISNUMBER($J20)),"Nombre d'unités : saisir un nombre entier ≥ 1",IF(OR($J20<1,$J20<>INT($J20)),"Nombre d'unités : saisir un nombre entier ≥ 1",IF(ISNA(MATCH($R20,Ref_Codes,0)),"Combinaison non prévue au barème Twiice 2027","OK")))))))) | R20: =IF(OR($E20="",$F20="",$G20="",$I20=""),"",IFERROR(IF($E20="IBC / GRV","1"&LEFT($F20,2)&LEFT($I20,1)&LEFT($G20,1)&"00",IF($E20="Big Bag","1"&(89+2*MATCH($F20,L_BB_Format,0)+IF($G20=INDEX(L_BB_Carac,2),1,0))&LEFT($I20,1)&"000",IF($E20="Palette bois","2"&(10+MATCH($F20,L_PAL_Format,0))&LEFT($I20,1)&LEFT($G20,1)&IF($H20=INDEX(L_PAL_Dosseret,2),"11","00"),""))),""))
K21: =IF($Q21="OK",IF($E21="Palette bois","2 - Autre (Regroupement / Transport)","1 - Vente"),"") | L21: =IF($Q21<>"OK","",IF($E21="IBC / GRV","Sans objet",INDEX(Ref_Poids,MATCH($R21,Ref_Codes,0)))) | M21: =IF(OR($Q21<>"OK",$E21="IBC / GRV"),"",$J21*$L21) | N21: =IF($Q21="OK",INDEX(Ref_Tarif,MATCH($R21,Ref_Codes,0)),"") | O21: =IF($Q21="OK",$J21*$N21,"") | P21: =IF($Q21="OK",$R21,"") | Q21: =IF(COUNTA($E21:$J21)=0,"",IF(ISNA(MATCH($E21,L_Famille,0)),"Famille d'emballage à sélectionner dans la liste",IF(AND($E21="Palette bois",$F21=INDEX(L_PAL_Format,6)),"Palette > 3 m² : à déclarer au poids réel dans l'onglet Matrice EPRO Essentielle",IF(OR($F21="",$G21="",$I21="",$J21="",AND($E21="Palette bois",$H21="")),"Ligne incomplète : renseigner tous les champs obligatoires (*)",IF(OR(ISNA(MATCH($F21,CHOOSE(MATCH($E21,L_Famille,0),L_IBC_Format,L_BB_Format,L_PAL_Format),0)),ISNA(MATCH($G21,CHOOSE(MATCH($E21,L_Famille,0),L_IBC_Carac,L_BB_Carac,L_PAL_Carac),0)),ISNA(MATCH($I21,L_Usage3,0)),AND($E21="Palette bois",ISNA(MATCH($H21,L_PAL_Dosseret,0)))),"Valeur incohérente avec la famille : re-sélectionner dans les listes",IF(NOT(ISNUMBER($J21)),"Nombre d'unités : saisir un nombre entier ≥ 1",IF(OR($J21<1,$J21<>INT($J21)),"Nombre d'unités : saisir un nombre entier ≥ 1",IF(ISNA(MATCH($R21,Ref_Codes,0)),"Combinaison non prévue au barème Twiice 2027","OK")))))))) | R21: =IF(OR($E21="",$F21="",$G21="",$I21=""),"",IFERROR(IF($E21="IBC / GRV","1"&LEFT($F21,2)&LEFT($I21,1)&LEFT($G21,1)&"00",IF($E21="Big Bag","1"&(89+2*MATCH($F21,L_BB_Format,0)+IF($G21=INDEX(L_BB_Carac,2),1,0))&LEFT($I21,1)&"000",IF($E21="Palette bois","2"&(10+MATCH($F21,L_PAL_Format,0))&LEFT($I21,1)&LEFT($G21,1)&IF($H21=INDEX(L_PAL_Dosseret,2),"11","00"),""))),""))
K22: =IF($Q22="OK",IF($E22="Palette bois","2 - Autre (Regroupement / Transport)","1 - Vente"),"") | L22: =IF($Q22<>"OK","",IF($E22="IBC / GRV","Sans objet",INDEX(Ref_Poids,MATCH($R22,Ref_Codes,0)))) | M22: =IF(OR($Q22<>"OK",$E22="IBC / GRV"),"",$J22*$L22) | N22: =IF($Q22="OK",INDEX(Ref_Tarif,MATCH($R22,Ref_Codes,0)),"") | O22: =IF($Q22="OK",$J22*$N22,"") | P22: =IF($Q22="OK",$R22,"") | Q22: =IF(COUNTA($E22:$J22)=0,"",IF(ISNA(MATCH($E22,L_Famille,0)),"Famille d'emballage à sélectionner dans la liste",IF(AND($E22="Palette bois",$F22=INDEX(L_PAL_Format,6)),"Palette > 3 m² : à déclarer au poids réel dans l'onglet Matrice EPRO Essentielle",IF(OR($F22="",$G22="",$I22="",$J22="",AND($E22="Palette bois",$H22="")),"Ligne incomplète : renseigner tous les champs obligatoires (*)",IF(OR(ISNA(MATCH($F22,CHOOSE(MATCH($E22,L_Famille,0),L_IBC_Format,L_BB_Format,L_PAL_Format),0)),ISNA(MATCH($G22,CHOOSE(MATCH($E22,L_Famille,0),L_IBC_Carac,L_BB_Carac,L_PAL_Carac),0)),ISNA(MATCH($I22,L_Usage3,0)),AND($E22="Palette bois",ISNA(MATCH($H22,L_PAL_Dosseret,0)))),"Valeur incohérente avec la famille : re-sélectionner dans les listes",IF(NOT(ISNUMBER($J22)),"Nombre d'unités : saisir un nombre entier ≥ 1",IF(OR($J22<1,$J22<>INT($J22)),"Nombre d'unités : saisir un nombre entier ≥ 1",IF(ISNA(MATCH($R22,Ref_Codes,0)),"Combinaison non prévue au barème Twiice 2027","OK")))))))) | R22: =IF(OR($E22="",$F22="",$G22="",$I22=""),"",IFERROR(IF($E22="IBC / GRV","1"&LEFT($F22,2)&LEFT($I22,1)&LEFT($G22,1)&"00",IF($E22="Big Bag","1"&(89+2*MATCH($F22,L_BB_Format,0)+IF($G22=INDEX(L_BB_Carac,2),1,0))&LEFT($I22,1)&"000",IF($E22="Palette bois","2"&(10+MATCH($F22,L_PAL_Format,0))&LEFT($I22,1)&LEFT($G22,1)&IF($H22=INDEX(L_PAL_Dosseret,2),"11","00"),""))),""))
K23: =IF($Q23="OK",IF($E23="Palette bois","2 - Autre (Regroupement / Transport)","1 - Vente"),"") | L23: =IF($Q23<>"OK","",IF($E23="IBC / GRV","Sans objet",INDEX(Ref_Poids,MATCH($R23,Ref_Codes,0)))) | M23: =IF(OR($Q23<>"OK",$E23="IBC / GRV"),"",$J23*$L23) | N23: =IF($Q23="OK",INDEX(Ref_Tarif,MATCH($R23,Ref_Codes,0)),"") | O23: =IF($Q23="OK",$J23*$N23,"") | P23: =IF($Q23="OK",$R23,"") | Q23: =IF(COUNTA($E23:$J23)=0,"",IF(ISNA(MATCH($E23,L_Famille,0)),"Famille d'emballage à sélectionner dans la liste",IF(AND($E23="Palette bois",$F23=INDEX(L_PAL_Format,6)),"Palette > 3 m² : à déclarer au poids réel dans l'onglet Matrice EPRO Essentielle",IF(OR($F23="",$G23="",$I23="",$J23="",AND($E23="Palette bois",$H23="")),"Ligne incomplète : renseigner tous les champs obligatoires (*)",IF(OR(ISNA(MATCH($F23,CHOOSE(MATCH($E23,L_Famille,0),L_IBC_Format,L_BB_Format,L_PAL_Format),0)),ISNA(MATCH($G23,CHOOSE(MATCH($E23,L_Famille,0),L_IBC_Carac,L_BB_Carac,L_PAL_Carac),0)),ISNA(MATCH($I23,L_Usage3,0)),AND($E23="Palette bois",ISNA(MATCH($H23,L_PAL_Dosseret,0)))),"Valeur incohérente avec la famille : re-sélectionner dans les listes",IF(NOT(ISNUMBER($J23)),"Nombre d'unités : saisir un nombre entier ≥ 1",IF(OR($J23<1,$J23<>INT($J23)),"Nombre d'unités : saisir un nombre entier ≥ 1",IF(ISNA(MATCH($R23,Ref_Codes,0)),"Combinaison non prévue au barème Twiice 2027","OK")))))))) | R23: =IF(OR($E23="",$F23="",$G23="",$I23=""),"",IFERROR(IF($E23="IBC / GRV","1"&LEFT($F23,2)&LEFT($I23,1)&LEFT($G23,1)&"00",IF($E23="Big Bag","1"&(89+2*MATCH($F23,L_BB_Format,0)+IF($G23=INDEX(L_BB_Carac,2),1,0))&LEFT($I23,1)&"000",IF($E23="Palette bois","2"&(10+MATCH($F23,L_PAL_Format,0))&LEFT($I23,1)&LEFT($G23,1)&IF($H23=INDEX(L_PAL_Dosseret,2),"11","00"),""))),""))
K24: =IF($Q24="OK",IF($E24="Palette bois","2 - Autre (Regroupement / Transport)","1 - Vente"),"") | L24: =IF($Q24<>"OK","",IF($E24="IBC / GRV","Sans objet",INDEX(Ref_Poids,MATCH($R24,Ref_Codes,0)))) | M24: =IF(OR($Q24<>"OK",$E24="IBC / GRV"),"",$J24*$L24) | N24: =IF($Q24="OK",INDEX(Ref_Tarif,MATCH($R24,Ref_Codes,0)),"") | O24: =IF($Q24="OK",$J24*$N24,"") | P24: =IF($Q24="OK",$R24,"") | Q24: =IF(COUNTA($E24:$J24)=0,"",IF(ISNA(MATCH($E24,L_Famille,0)),"Famille d'emballage à sélectionner dans la liste",IF(AND($E24="Palette bois",$F24=INDEX(L_PAL_Format,6)),"Palette > 3 m² : à déclarer au poids réel dans l'onglet Matrice EPRO Essentielle",IF(OR($F24="",$G24="",$I24="",$J24="",AND($E24="Palette bois",$H24="")),"Ligne incomplète : renseigner tous les champs obligatoires (*)",IF(OR(ISNA(MATCH($F24,CHOOSE(MATCH($E24,L_Famille,0),L_IBC_Format,L_BB_Format,L_PAL_Format),0)),ISNA(MATCH($G24,CHOOSE(MATCH($E24,L_Famille,0),L_IBC_Carac,L_BB_Carac,L_PAL_Carac),0)),ISNA(MATCH($I24,L_Usage3,0)),AND($E24="Palette bois",ISNA(MATCH($H24,L_PAL_Dosseret,0)))),"Valeur incohérente avec la famille : re-sélectionner dans les listes",IF(NOT(ISNUMBER($J24)),"Nombre d'unités : saisir un nombre entier ≥ 1",IF(OR($J24<1,$J24<>INT($J24)),"Nombre d'unités : saisir un nombre entier ≥ 1",IF(ISNA(MATCH($R24,Ref_Codes,0)),"Combinaison non prévue au barème Twiice 2027","OK")))))))) | R24: =IF(OR($E24="",$F24="",$G24="",$I24=""),"",IFERROR(IF($E24="IBC / GRV","1"&LEFT($F24,2)&LEFT($I24,1)&LEFT($G24,1)&"00",IF($E24="Big Bag","1"&(89+2*MATCH($F24,L_BB_Format,0)+IF($G24=INDEX(L_BB_Carac,2),1,0))&LEFT($I24,1)&"000",IF($E24="Palette bois","2"&(10+MATCH($F24,L_PAL_Format,0))&LEFT($I24,1)&LEFT($G24,1)&IF($H24=INDEX(L_PAL_Dosseret,2),"11","00"),""))),""))
K25: =IF($Q25="OK",IF($E25="Palette bois","2 - Autre (Regroupement / Transport)","1 - Vente"),"") | L25: =IF($Q25<>"OK","",IF($E25="IBC / GRV","Sans objet",INDEX(Ref_Poids,MATCH($R25,Ref_Codes,0)))) | M25: =IF(OR($Q25<>"OK",$E25="IBC / GRV"),"",$J25*$L25) | N25: =IF($Q25="OK",INDEX(Ref_Tarif,MATCH($R25,Ref_Codes,0)),"") | O25: =IF($Q25="OK",$J25*$N25,"") | P25: =IF($Q25="OK",$R25,"") | Q25: =IF(COUNTA($E25:$J25)=0,"",IF(ISNA(MATCH($E25,L_Famille,0)),"Famille d'emballage à sélectionner dans la liste",IF(AND($E25="Palette bois",$F25=INDEX(L_PAL_Format,6)),"Palette > 3 m² : à déclarer au poids réel dans l'onglet Matrice EPRO Essentielle",IF(OR($F25="",$G25="",$I25="",$J25="",AND($E25="Palette bois",$H25="")),"Ligne incomplète : renseigner tous les champs obligatoires (*)",IF(OR(ISNA(MATCH($F25,CHOOSE(MATCH($E25,L_Famille,0),L_IBC_Format,L_BB_Format,L_PAL_Format),0)),ISNA(MATCH($G25,CHOOSE(MATCH($E25,L_Famille,0),L_IBC_Carac,L_BB_Carac,L_PAL_Carac),0)),ISNA(MATCH($I25,L_Usage3,0)),AND($E25="Palette bois",ISNA(MATCH($H25,L_PAL_Dosseret,0)))),"Valeur incohérente avec la famille : re-sélectionner dans les listes",IF(NOT(ISNUMBER($J25)),"Nombre d'unités : saisir un nombre entier ≥ 1",IF(OR($J25<1,$J25<>INT($J25)),"Nombre d'unités : saisir un nombre entier ≥ 1",IF(ISNA(MATCH($R25,Ref_Codes,0)),"Combinaison non prévue au barème Twiice 2027","OK")))))))) | R25: =IF(OR($E25="",$F25="",$G25="",$I25=""),"",IFERROR(IF($E25="IBC / GRV","1"&LEFT($F25,2)&LEFT($I25,1)&LEFT($G25,1)&"00",IF($E25="Big Bag","1"&(89+2*MATCH($F25,L_BB_Format,0)+IF($G25=INDEX(L_BB_Carac,2),1,0))&LEFT($I25,1)&"000",IF($E25="Palette bois","2"&(10+MATCH($F25,L_PAL_Format,0))&LEFT($I25,1)&LEFT($G25,1)&IF($H25=INDEX(L_PAL_Dosseret,2),"11","00"),""))),""))
K26: =IF($Q26="OK",IF($E26="Palette bois","2 - Autre (Regroupement / Transport)","1 - Vente"),"") | L26: =IF($Q26<>"OK","",IF($E26="IBC / GRV","Sans objet",INDEX(Ref_Poids,MATCH($R26,Ref_Codes,0)))) | M26: =IF(OR($Q26<>"OK",$E26="IBC / GRV"),"",$J26*$L26) | N26: =IF($Q26="OK",INDEX(Ref_Tarif,MATCH($R26,Ref_Codes,0)),"") | O26: =IF($Q26="OK",$J26*$N26,"") | P26: =IF($Q26="OK",$R26,"") | Q26: =IF(COUNTA($E26:$J26)=0,"",IF(ISNA(MATCH($E26,L_Famille,0)),"Famille d'emballage à sélectionner dans la liste",IF(AND($E26="Palette bois",$F26=INDEX(L_PAL_Format,6)),"Palette > 3 m² : à déclarer au poids réel dans l'onglet Matrice EPRO Essentielle",IF(OR($F26="",$G26="",$I26="",$J26="",AND($E26="Palette bois",$H26="")),"Ligne incomplète : renseigner tous les champs obligatoires (*)",IF(OR(ISNA(MATCH($F26,CHOOSE(MATCH($E26,L_Famille,0),L_IBC_Format,L_BB_Format,L_PAL_Format),0)),ISNA(MATCH($G26,CHOOSE(MATCH($E26,L_Famille,0),L_IBC_Carac,L_BB_Carac,L_PAL_Carac),0)),ISNA(MATCH($I26,L_Usage3,0)),AND($E26="Palette bois",ISNA(MATCH($H26,L_PAL_Dosseret,0)))),"Valeur incohérente avec la famille : re-sélectionner dans les listes",IF(NOT(ISNUMBER($J26)),"Nombre d'unités : saisir un nombre entier ≥ 1",IF(OR($J26<1,$J26<>INT($J26)),"Nombre d'unités : saisir un nombre entier ≥ 1",IF(ISNA(MATCH($R26,Ref_Codes,0)),"Combinaison non prévue au barème Twiice 2027","OK")))))))) | R26: =IF(OR($E26="",$F26="",$G26="",$I26=""),"",IFERROR(IF($E26="IBC / GRV","1"&LEFT($F26,2)&LEFT($I26,1)&LEFT($G26,1)&"00",IF($E26="Big Bag","1"&(89+2*MATCH($F26,L_BB_Format,0)+IF($G26=INDEX(L_BB_Carac,2),1,0))&LEFT($I26,1)&"000",IF($E26="Palette bois","2"&(10+MATCH($F26,L_PAL_Format,0))&LEFT($I26,1)&LEFT($G26,1)&IF($H26=INDEX(L_PAL_Dosseret,2),"11","00"),""))),""))
K27: =IF($Q27="OK",IF($E27="Palette bois","2 - Autre (Regroupement / Transport)","1 - Vente"),"") | L27: =IF($Q27<>"OK","",IF($E27="IBC / GRV","Sans objet",INDEX(Ref_Poids,MATCH($R27,Ref_Codes,0)))) | M27: =IF(OR($Q27<>"OK",$E27="IBC / GRV"),"",$J27*$L27) | N27: =IF($Q27="OK",INDEX(Ref_Tarif,MATCH($R27,Ref_Codes,0)),"") | O27: =IF($Q27="OK",$J27*$N27,"") | P27: =IF($Q27="OK",$R27,"") | Q27: =IF(COUNTA($E27:$J27)=0,"",IF(ISNA(MATCH($E27,L_Famille,0)),"Famille d'emballage à sélectionner dans la liste",IF(AND($E27="Palette bois",$F27=INDEX(L_PAL_Format,6)),"Palette > 3 m² : à déclarer au poids réel dans l'onglet Matrice EPRO Essentielle",IF(OR($F27="",$G27="",$I27="",$J27="",AND($E27="Palette bois",$H27="")),"Ligne incomplète : renseigner tous les champs obligatoires (*)",IF(OR(ISNA(MATCH($F27,CHOOSE(MATCH($E27,L_Famille,0),L_IBC_Format,L_BB_Format,L_PAL_Format),0)),ISNA(MATCH($G27,CHOOSE(MATCH($E27,L_Famille,0),L_IBC_Carac,L_BB_Carac,L_PAL_Carac),0)),ISNA(MATCH($I27,L_Usage3,0)),AND($E27="Palette bois",ISNA(MATCH($H27,L_PAL_Dosseret,0)))),"Valeur incohérente avec la famille : re-sélectionner dans les listes",IF(NOT(ISNUMBER($J27)),"Nombre d'unités : saisir un nombre entier ≥ 1",IF(OR($J27<1,$J27<>INT($J27)),"Nombre d'unités : saisir un nombre entier ≥ 1",IF(ISNA(MATCH($R27,Ref_Codes,0)),"Combinaison non prévue au barème Twiice 2027","OK")))))))) | R27: =IF(OR($E27="",$F27="",$G27="",$I27=""),"",IFERROR(IF($E27="IBC / GRV","1"&LEFT($F27,2)&LEFT($I27,1)&LEFT($G27,1)&"00",IF($E27="Big Bag","1"&(89+2*MATCH($F27,L_BB_Format,0)+IF($G27=INDEX(L_BB_Carac,2),1,0))&LEFT($I27,1)&"000",IF($E27="Palette bois","2"&(10+MATCH($F27,L_PAL_Format,0))&LEFT($I27,1)&LEFT($G27,1)&IF($H27=INDEX(L_PAL_Dosseret,2),"11","00"),""))),""))
... K503: =IF($Q503="OK",IF($E503="Palette bois","2 - Autre (Regroupement / Transport)","1 - Vente"),"") | L503: =IF($Q503<>"OK","",IF($E503="IBC / GRV","Sans objet",INDEX(Ref_Poids,MATCH($R503,Ref_Codes,0)))) | M503: =IF(OR($Q503<>"OK",$E503="IBC / GRV"),"",$J503*$L503) | N503: =IF($Q503="OK",INDEX(Ref_Tarif,MATCH($R503,Ref_Codes,0)),"") | O503: =IF($Q503="OK",$J503*$N503,"") | P503: =IF($Q503="OK",$R503,"") | Q503: =IF(COUNTA($E503:$J503)=0,"",IF(ISNA(MATCH($E503,L_Famille,0)),"Famille d'emballage à sélectionner dans la liste",IF(AND($E503="Palette bois",$F503=INDEX(L_PAL_Format,6)),"Palette > 3 m² : à déclarer au poids réel dans l'onglet Matrice EPRO Essentielle",IF(OR($F503="",$G503="",$I503="",$J503="",AND($E503="Palette bois",$H503="")),"Ligne incomplète : renseigner tous les champs obligatoires (*)",IF(OR(ISNA(MATCH($F503,CHOOSE(MATCH($E503,L_Famille,0),L_IBC_Format,L_BB_Format,L_PAL_Format),0)),ISNA(MATCH($G503,CHOOSE(MATCH($E503,L_Famille,0),L_IBC_Carac,L_BB_Carac,L_PAL_Carac),0)),ISNA(MATCH($I503,L_Usage3,0)),AND($E503="Palette bois",ISNA(MATCH($H503,L_PAL_Dosseret,0)))),"Valeur incohérente avec la famille : re-sélectionner dans les listes",IF(NOT(ISNUMBER($J503)),"Nombre d'unités : saisir un nombre entier ≥ 1",IF(OR($J503<1,$J503<>INT($J503)),"Nombre d'unités : saisir un nombre entier ≥ 1",IF(ISNA(MATCH($R503,Ref_Codes,0)),"Combinaison non prévue au barème Twiice 2027","OK")))))))) | R503: =IF(OR($E503="",$F503="",$G503="",$I503=""),"",IFERROR(IF($E503="IBC / GRV","1"&LEFT($F503,2)&LEFT($I503,1)&LEFT($G503,1)&"00",IF($E503="Big Bag","1"&(89+2*MATCH($F503,L_BB_Format,0)+IF($G503=INDEX(L_BB_Carac,2),1,0))&LEFT($I503,1)&"000",IF($E503="Palette bois","2"&(10+MATCH($F503,L_PAL_Format,0))&LEFT($I503,1)&LEFT($G503,1)&IF($H503=INDEX(L_PAL_Dosseret,2),"11","00"),""))),""))

Sheet Calculatrice t & budget EPRO
A2: Total de vos Emballages Professionnels neufs par matériau (1ère mise en marché) | F2: Année de référence : | G2: ='Matrice EPRO Essentielle'!K2 -> 2025 | H2: ='Matrice EPRO Essentielle'!L2 -> du 01/01/2025 au 31/12/2025
B3: Catégorie matériaux | C3: Catégorie | D3: Réemployable | E3: à Usage Unique | G3: Réemployable | H3: à Usage Unique
D4: Poids total (A) (T) | E4: Poids total (B) (T) | F4: TOTAL (A+B) | G4: Budget EPRO (A) (€) | H4: Budget EPRO (B) (€) | I4: TOTAL (A+B)
B5: Emballages ayant contenu des produits non-dangereux
B6: 10 - Bois | C6: Bois | D6: =SUMIFS('Matrice EPRO Essentielle'!$L$4:$L$1048576,'Matrice EPRO Essentielle'!$F$4:$F$1048576,"10 - Bois",'Matrice EPRO Essentielle'!$G$4:$G$1048576,"2 - Réemployable")+Agg_PAL_kg_R -> 14050 | E6: =SUMIFS('Matrice EPRO Essentielle'!$L$4:$L$1048576,'Matrice EPRO Essentielle'!$F$4:$F$1048576,"10 - Bois",'Matrice EPRO Essentielle'!$G$4:$G$1048576,"1 - Usage Unique")+Agg_PAL_kg_U -> 28500 | F6: =E6+D6 -> 42550 | G6: =(D6-Agg_PAL_kg_R)*Barème!B4/2/1000+Agg_PAL_eur_R -> 55.57525 | H6: =(E6-Agg_PAL_kg_U)*Barème!B4/1000+Agg_PAL_eur_U -> 225.7 | I6: =G6+H6 -> 281.27525
B7: 20 - Acier | C7: Acier | D7: =SUMIFS('Matrice EPRO Essentielle'!$L$4:$L$1048576,'Matrice EPRO Essentielle'!$F$4:$F$1048576,"20 - Acier",'Matrice EPRO Essentielle'!$G$4:$G$1048576,"2 - Réemployable") -> 800 | E7: =SUMIFS('Matrice EPRO Essentielle'!$L$4:$L$1048576,'Matrice EPRO Essentielle'!$F$4:$F$1048576,"20 - Acier",'Matrice EPRO Essentielle'!$G$4:$G$1048576,"1 - Usage Unique") -> 300 | F7: =E7+D7 -> 1100 | G7: =D7*Barème!B2/2/1000 -> 9.536 | H7: =E7*Barème!B2/1000 -> 7.152 | I7: =G7+H7 -> 16.688
B8: 30 - Aluminium | C8: Aluminium | D8: =SUMIFS('Matrice EPRO Essentielle'!$L$4:$L$1048576,'Matrice EPRO Essentielle'!$F$4:$F$1048576,"30 - Aluminium",'Matrice EPRO Essentielle'!$G$4:$G$1048576,"2 - Réemployable") -> 0 | E8: =SUMIFS('Matrice EPRO Essentielle'!$L$4:$L$1048576,'Matrice EPRO Essentielle'!$F$4:$F$1048576,"30 - Aluminium",'Matrice EPRO Essentielle'!$G$4:$G$1048576,"1 - Usage Unique") -> 900 | F8: =E8+D8 -> 900 | G8: =D8*Barème!B3/2/1000 -> 0 | H8: =E8*Barème!B3/1000 -> 5.346 | I8: =G8+H8 -> 5.346
B9: Papier - Carton | D9: =SUM(D10:D11) -> 0 | E9: =SUM(E10:E11) -> 550 | F9: =E9+D9 -> 550 | G9: =SUM(G10:G11) -> 0 | H9: =SUM(H10:H11) -> 18.887 | I9: =G9+H9 -> 18.887
B10: 41 - Papier-carton complexé | C10: Papier - Carton | D10: =SUMIFS('Matrice EPRO Essentielle'!$L$4:$L$1048576,'Matrice EPRO Essentielle'!$F$4:$F$1048576,"41 - Papier-carton complexé",'Matrice EPRO Essentielle'!$G$4:$G$1048576,"2 - Réemployable") -> 0 | E10: =SUMIFS('Matrice EPRO Essentielle'!$L$4:$L$1048576,'Matrice EPRO Essentielle'!$F$4:$F$1048576,"41 - Papier-carton complexé",'Matrice EPRO Essentielle'!$G$4:$G$1048576,"1 - Usage Unique") -> 0 | F10: =D10+E10 -> 0 | G10: =D10*Barème!B5/2/1000 -> 0 | H10: =E10*Barème!B5/1000 -> 0 | I10: =G10+H10 -> 0
B11: 42 - Papier-carton non complexé | C11: Papier - Carton | D11: =SUMIFS('Matrice EPRO Essentielle'!$L$4:$L$1048576,'Matrice EPRO Essentielle'!$F$4:$F$1048576,"42 - Papier-carton non complexé",'Matrice EPRO Essentielle'!$G$4:$G$1048576,"2 - Réemployable") -> 0 | E11: =SUMIFS('Matrice EPRO Essentielle'!$L$4:$L$1048576,'Matrice EPRO Essentielle'!$F$4:$F$1048576,"42 - Papier-carton non complexé",'Matrice EPRO Essentielle'!$G$4:$G$1048576,"1 - Usage Unique") -> 550 | F11: =D11+E11 -> 550 | G11: =D11*Barème!B5/2/1000 -> 0 | H11: =E11*Barème!B5/1000 -> 18.887 | I11: =G11+H11 -> 18.887
B12: Plastique | D12: =SUM(D13:D20) -> 2400 | E12: =SUM(E13:E20) -> 54250 | F12: =E12+D12 -> 56650 | G12: =SUM(G13:G20) -> 317.467 | H12: =SUM(H13:H20) -> 14351.58 | I12: =G12+H12 -> 14669.047
B13: 60 - Autres plastiques | C13: Plastique | D13: =SUMIFS('Matrice EPRO Essentielle'!$L$4:$L$1048576,'Matrice EPRO Essentielle'!$F$4:$F$1048576,"60 - Autres plastiques",'Matrice EPRO Essentielle'!$G$4:$G$1048576,"2 - Réemployable") -> 0 | E13: =SUMIFS('Matrice EPRO Essentielle'!$L$4:$L$1048576,'Matrice EPRO Essentielle'!$F$4:$F$1048576,"60 - Autres plastiques",'Matrice EPRO Essentielle'!$G$4:$G$1048576,"1 - Usage Unique") -> 50000 | F13: =E13+D13 -> 50000 | G13: =D13*Barème!$B$6/2/1000 -> 0 | H13: =E13*Barème!$B$6/1000 -> 13227 | I13: =G13+H13 -> 13227
B14: 61 - PE rigide | C14: Plastique | D14: =SUMIFS('Matrice EPRO Essentielle'!$L$4:$L$1048576,'Matrice EPRO Essentielle'!$F$4:$F$1048576,"61 - PE rigide",'Matrice EPRO Essentielle'!$G$4:$G$1048576,"2 - Réemployable") -> 0 | E14: =SUMIFS('Matrice EPRO Essentielle'!$L$4:$L$1048576,'Matrice EPRO Essentielle'!$F$4:$F$1048576,"61 - PE rigide",'Matrice EPRO Essentielle'!$G$4:$G$1048576,"1 - Usage Unique") -> 0 | F14: =E14+D14 -> 0 | G14: =D14*Barème!$B$6/2/1000 -> 0 | H14: =E14*Barème!$B$6/1000 -> 0 | I14: =G14+H14 -> 0
B15: 62 - PE souple | C15: Plastique | D15: =SUMIFS('Matrice EPRO Essentielle'!$L$4:$L$1048576,'Matrice EPRO Essentielle'!$F$4:$F$1048576,"62 - PE souple",'Matrice EPRO Essentielle'!$G$4:$G$1048576,"2 - Réemployable") -> 0 | E15: =SUMIFS('Matrice EPRO Essentielle'!$L$4:$L$1048576,'Matrice EPRO Essentielle'!$F$4:$F$1048576,"62 - PE souple",'Matrice EPRO Essentielle'!$G$4:$G$1048576,"1 - Usage Unique") -> 400 | F15: =E15+D15 -> 400 | G15: =D15*Barème!$B$6/2/1000 -> 0 | H15: =E15*Barème!$B$6/1000 -> 105.816 | I15: =G15+H15 -> 105.816
B16: 63 - PP rigide | C16: Plastique | D16: =SUMIFS('Matrice EPRO Essentielle'!$L$4:$L$1048576,'Matrice EPRO Essentielle'!$F$4:$F$1048576,"63 - PP rigide",'Matrice EPRO Essentielle'!$G$4:$G$1048576,"2 - Réemployable") -> 650 | E16: =SUMIFS('Matrice EPRO Essentielle'!$L$4:$L$1048576,'Matrice EPRO Essentielle'!$F$4:$F$1048576,"63 - PP rigide",'Matrice EPRO Essentielle'!$G$4:$G$1048576,"1 - Usage Unique") -> 0 | F16: =E16+D16 -> 650 | G16: =D16*Barème!$B$6/2/1000 -> 85.9755 | H16: =E16*Barème!$B$6/1000 -> 0 | I16: =G16+H16 -> 85.9755
B17: 64 - PP souple | C17: Plastique | D17: =SUMIFS('Matrice EPRO Essentielle'!$L$4:$L$1048576,'Matrice EPRO Essentielle'!$F$4:$F$1048576,"64 - PP souple",'Matrice EPRO Essentielle'!$G$4:$G$1048576,"2 - Réemployable")+Agg_BB_kg_R -> 1000 | E17: =SUMIFS('Matrice EPRO Essentielle'!$L$4:$L$1048576,'Matrice EPRO Essentielle'!$F$4:$F$1048576,"64 - PP souple",'Matrice EPRO Essentielle'!$G$4:$G$1048576,"1 - Usage Unique")+Agg_BB_kg_U -> 2250 | F17: =E17+D17 -> 3250 | G17: =(D17-Agg_BB_kg_R)*Barème!$B$6/2/1000+Agg_BB_eur_R -> 132.289 | H17: =(E17-Agg_BB_kg_U)*Barème!$B$6/1000+Agg_BB_eur_U -> 595.5 | I17: =G17+H17 -> 727.789
B18: 65 - PS, PSE, XPS | C18: Plastique | D18: =SUMIFS('Matrice EPRO Essentielle'!$L$4:$L$1048576,'Matrice EPRO Essentielle'!$F$4:$F$1048576,"65 - PS, PSE, XPS",'Matrice EPRO Essentielle'!$G$4:$G$1048576,"2 - Réemployable") -> 0 | E18: =SUMIFS('Matrice EPRO Essentielle'!$L$4:$L$1048576,'Matrice EPRO Essentielle'!$F$4:$F$1048576,"65 - PS, PSE, XPS",'Matrice EPRO Essentielle'!$G$4:$G$1048576,"1 - Usage Unique") -> 1000 | F18: =E18+D18 -> 1000 | G18: =D18*Barème!$B$6/2/1000 -> 0 | H18: =E18*Barème!$B$6/1000 -> 264.54 | I18: =G18+H18 -> 264.54
B19: 66 - PET rigide et souple | C19: Plastique | D19: =SUMIFS('Matrice EPRO Essentielle'!$L$4:$L$1048576,'Matrice EPRO Essentielle'!$F$4:$F$1048576,"66 - PET rigide et souple",'Matrice EPRO Essentielle'!$G$4:$G$1048576,"2 - Réemployable") -> 750 | E19: =SUMIFS('Matrice EPRO Essentielle'!$L$4:$L$1048576,'Matrice EPRO Essentielle'!$F$4:$F$1048576,"66 - PET rigide et souple",'Matrice EPRO Essentielle'!$G$4:$G$1048576,"1 - Usage Unique") -> 250 | F19: =E19+D19 -> 1000 | G19: =D19*Barème!$B$6/2/1000 -> 99.2025 | H19: =E19*Barème!$B$6/1000 -> 66.135 | I19: =G19+H19 -> 165.3375
B20: 67 - PVC rigide et souple | C20: Plastique | D20: =SUMIFS('Matrice EPRO Essentielle'!$L$4:$L$1048576,'Matrice EPRO Essentielle'!$F$4:$F$1048576,"67 - PVC rigide et souple",'Matrice EPRO Essentielle'!$G$4:$G$1048576,"2 - Réemployable") -> 0 | E20: =SUMIFS('Matrice EPRO Essentielle'!$L$4:$L$1048576,'Matrice EPRO Essentielle'!$F$4:$F$1048576,"67 - PVC rigide et souple",'Matrice EPRO Essentielle'!$G$4:$G$1048576,"1 - Usage Unique") -> 350 | F20: =E20+D20 -> 350 | G20: =D20*Barème!$B$6/2/1000 -> 0 | H20: =E20*Barème!$B$6/1000 -> 92.589 | I20: =G20+H20 -> 92.589
B21: 50 - Verre | C21: Verre | D21: =SUMIFS('Matrice EPRO Essentielle'!$L$4:$L$1048576,'Matrice EPRO Essentielle'!$F$4:$F$1048576,"50 - Verre",'Matrice EPRO Essentielle'!$G$4:$G$1048576,"2 - Réemployable") -> 0 | E21: =SUMIFS('Matrice EPRO Essentielle'!$L$4:$L$1048576,'Matrice EPRO Essentielle'!$F$4:$F$1048576,"50 - Verre",'Matrice EPRO Essentielle'!$G$4:$G$1048576,"1 - Usage Unique") -> 450 | F21: =E21+D21 -> 450 | G21: =D21*Barème!B7/2/1000 -> 0 | H21: =E21*Barème!B7/1000 -> 2.673 | I21: =G21+H21 -> 2.673
B22: 70 - Textile | C22: Autres matériaux | D22: =SUMIFS('Matrice EPRO Essentielle'!$L$4:$L$1048576,'Matrice EPRO Essentielle'!$F$4:$F$1048576,"70 - Textile",'Matrice EPRO Essentielle'!$G$4:$G$1048576,"2 - Réemployable") -> 0 | E22: =SUMIFS('Matrice EPRO Essentielle'!$L$4:$L$1048576,'Matrice EPRO Essentielle'!$F$4:$F$1048576,"70 - Textile",'Matrice EPRO Essentielle'!$G$4:$G$1048576,"1 - Usage Unique") -> 0 | F22: =E22+D22 -> 0 | G22: =D22*Barème!B8/2/1000 -> 0 | H22: =E22*Barème!B8/1000 -> 0 | I22: =G22+H22 -> 0
B23: 80 - Céramique | C23: Autres matériaux | D23: =SUMIFS('Matrice EPRO Essentielle'!$L$4:$L$1048576,'Matrice EPRO Essentielle'!$F$4:$F$1048576,"80 - Céramique",'Matrice EPRO Essentielle'!$G$4:$G$1048576,"2 - Réemployable") -> 0 | E23: =SUMIFS('Matrice EPRO Essentielle'!$L$4:$L$1048576,'Matrice EPRO Essentielle'!$F$4:$F$1048576,"80 - Céramique",'Matrice EPRO Essentielle'!$G$4:$G$1048576,"1 - Usage Unique") -> 0 | F23: =E23+D23 -> 0 | G23: =D23*Barème!B8/2/1000 -> 0 | H23: =E23*Barème!B8/1000 -> 0 | I23: =G23+H23 -> 0
B24: 99 - Autres matériaux | C24: Autres matériaux | D24: =SUMIFS('Matrice EPRO Essentielle'!$L$4:$L$1048576,'Matrice EPRO Essentielle'!$F$4:$F$1048576,"99 - Autres matériaux",'Matrice EPRO Essentielle'!$G$4:$G$1048576,"2 - Réemployable") -> 0 | E24: =SUMIFS('Matrice EPRO Essentielle'!$L$4:$L$1048576,'Matrice EPRO Essentielle'!$F$4:$F$1048576,"99 - Autres matériaux",'Matrice EPRO Essentielle'!$G$4:$G$1048576,"1 - Usage Unique") -> 0 | F24: =E24+D24 -> 0 | G24: =D24*Barème!B8/2/1000 -> 0 | H24: =E24*Barème!B8/1000 -> 0 | I24: =G24+H24 -> 0
B25: 68 - IBC / GRV neuf | C25: IBC / GRV | G25: =Agg_IBC68_eur_R -> 60 | H25: =Agg_IBC68_eur_U -> 300 | I25: =G25+H25 -> 360
B26: 69 - IBC / GRV reconditionné poche neuve | C26: IBC / GRV | G26: =Agg_IBC69_eur_R -> 0 | H26: =Agg_IBC69_eur_U -> 30 | I26: =G26+H26 -> 30
B27: Les palettes bois et Big Bags déclarés à l'unité sont intégrés aux lignes 10 - Bois et 64 - PP souple | F27: =SUM(F6:F9,F12,F21:F24) -> 102200 | I27: =SUM(I6:I9,I12,I21:I26) -> 15383.916
A28: DOCUMENT CONFIDENTIEL
A33: Budget EPRO calculé sur la base du barème 2027 Twiice
A37: Cette grille de collecte de données a pour objectif de vous aider à évaluer les tonnages mis en marché dans le cadre de votre activité. Ceci ne représente pas une grille déclarative d'éco-contributions. Pour toute question concernant son utilisation, n'hésitez pas à nous contacter par mail : pierre.cifarelli@valobat.fr

Sheet Matrice EPRO Avancée
B2: Matrice de collecte d'information pour les emballages professionnels en vue de la déclaration EPRO (les colonnes marquées d'une* représentent les données obligatoires à fournir à l'éco-organisme) | H2: Année de référence : | I2: ='Matrice EPRO Essentielle'!K2 -> 2025 | J2: ='Matrice EPRO Essentielle'!L2 -> du 01/01/2025 au 31/12/2025
B3: Reference interne | C3: Description ou commentaire | D3: Origine (Import/National) | E3: Type d'emballage (Vente / Regroupement / Transport)* | F3: Catégorie matériaux* | G3: Catégorie d'usage (Unique / Réemployable / Réemployé)* | H3: Classification* | I3: Eco-modulation* | J3: Poids unitaire (kg)* | K3: Volume annuel (unités)* | L3: Poids Total (T) | M3: Code éco-participation Twiice | N3: Quantité de matériau recyclé dans l'emballage (kg) | O3: Quantité de matériau non recyclé dans l'emballage (kg) | P3: Si réutilisable : Durée de vie utile prévue (en années) | Q3: Si réutilisable : Nombre de cycles/an (moyenne) | R3: Contraintes techniques (ex: compatibilité machine, hygiène) | S3: Contraintes réglementaires (ex: dangers, marquage) | T3: Contraintes logistiques (ex: retour, stockage) | U3: Contraintes environnementales (ex: réduction, substitution) | V3: Certifications
B4: ='Matrice EPRO Essentielle'!B4 -> 1000 | C4: ='Matrice EPRO Essentielle'!C4 -> exemple 1 | D4: ='Matrice EPRO Essentielle'!D4 -> Import | E4: ='Matrice EPRO Essentielle'!E4 -> 1 - Vente | F4: ='Matrice EPRO Essentielle'!F4 -> 42 - Papier-carton non complexé | G4: ='Matrice EPRO Essentielle'!G4 -> 1 - Usage Unique | H4: ='Matrice EPRO Essentielle'!H4 -> 0 - Sans classification | I4: ='Matrice EPRO Essentielle'!I4 -> 00 - Sans éco-modulation | ... M4: ='Matrice EPRO Essentielle'!M4 -> 1421000
B5: ='Matrice EPRO Essentielle'!B5 -> 1001 | C5: ='Matrice EPRO Essentielle'!C5 -> exemple 2 | D5: ='Matrice EPRO Essentielle'!D5 -> Import | E5: ='Matrice EPRO Essentielle'!E5 -> 2 - Autre (Transport) | F5: ='Matrice EPRO Essentielle'!F5 -> 62 - PE souple | G5: ='Matrice EPRO Essentielle'!G5 -> 1 - Usage Unique | H5: ='Matrice EPRO Essentielle'!H5 -> 0 - Sans classification | I5: ='Matrice EPRO Essentielle'!I5 -> 00 - Sans éco-modulation | ... M5: ='Matrice EPRO Essentielle'!M5 -> 2621000
B6: ='Matrice EPRO Essentielle'!B6 -> 1002 | C6: ='Matrice EPRO Essentielle'!C6 -> exemple 3 | D6: ='Matrice EPRO Essentielle'!D6 -> National | E6: ='Matrice EPRO Essentielle'!E6 -> 2 - Autre (Transport) | F6: ='Matrice EPRO Essentielle'!F6 -> 62 - PE souple | G6: ='Matrice EPRO Essentielle'!G6 -> 1 - Usage Unique | H6: ='Matrice EPRO Essentielle'!H6 -> 0 - Sans classification | I6: ='Matrice EPRO Essentielle'!I6 -> 00 - Sans éco-modulation | ... M6: ='Matrice EPRO Essentielle'!M6 -> 2621000
B7: ='Matrice EPRO Essentielle'!B7 -> 1003 | C7: ='Matrice EPRO Essentielle'!C7 -> exemple 4 | D7: ='Matrice EPRO Essentielle'!D7 -> National | E7: ='Matrice EPRO Essentielle'!E7 -> 2 - Autre (Transport) | F7: ='Matrice EPRO Essentielle'!F7 -> 42 - Papier-carton non complexé | G7: ='Matrice EPRO Essentielle'!G7 -> 1 - Usage Unique | H7: ='Matrice EPRO Essentielle'!H7 -> 0 - Sans classification | I7: ='Matrice EPRO Essentielle'!I7 -> 00 - Sans éco-modulation | ... M7: ='Matrice EPRO Essentielle'!M7 -> 2421000
B8: ='Matrice EPRO Essentielle'!B8 -> 1004 | C8: ='Matrice EPRO Essentielle'!C8 -> exemple 5 | D8: ='Matrice EPRO Essentielle'!D8 -> Import | E8: ='Matrice EPRO Essentielle'!E8 -> 2 - Autre (Transport) | F8: ='Matrice EPRO Essentielle'!F8 -> 66 - PET rigide et souple | G8: ='Matrice EPRO Essentielle'!G8 -> 1 - Usage Unique | H8: ='Matrice EPRO Essentielle'!H8 -> 0 - Sans classification | I8: ='Matrice EPRO Essentielle'!I8 -> 00 - Sans éco-modulation | ... M8: ='Matrice EPRO Essentielle'!M8 -> 2661000
B9: ='Matrice EPRO Essentielle'!B9 -> 1005 | C9: ='Matrice EPRO Essentielle'!C9 -> exemple 6 | D9: ='Matrice EPRO Essentielle'!D9 -> National | E9: ='Matrice EPRO Essentielle'!E9 -> 2 - Autre (Transport) | F9: ='Matrice EPRO Essentielle'!F9 -> 20 - Acier | G9: ='Matrice EPRO Essentielle'!G9 -> 1 - Usage Unique | H9: ='Matrice EPRO Essentielle'!H9 -> 0 - Sans classification | I9: ='Matrice EPRO Essentielle'!I9 -> 00 - Sans éco-modulation | ... M9: ='Matrice EPRO Essentielle'!M9 -> 2201000
B10: ='Matrice EPRO Essentielle'!B10 -> 1006 | C10: ='Matrice EPRO Essentielle'!C10 -> exemple 7 | D10: ='Matrice EPRO Essentielle'!D10 -> Import | E10: ='Matrice EPRO Essentielle'!E10 -> 1 - Vente | F10: ='Matrice EPRO Essentielle'!F10 -> 67 - PVC rigide et souple | G10: ='Matrice EPRO Essentielle'!G10 -> 1 - Usage Unique | H10: ='Matrice EPRO Essentielle'!H10 -> 0 - Sans classification | I10: ='Matrice EPRO Essentielle'!I10 -> 00 - Sans éco-modulation | ... M10: ='Matrice EPRO Essentielle'!M10 -> 1671000
B11: ='Matrice EPRO Essentielle'!B11 -> 1007 | C11: ='Matrice EPRO Essentielle'!C11 -> exemple 8 | D11: ='Matrice EPRO Essentielle'!D11 -> National | E11: ='Matrice EPRO Essentielle'!E11 -> 2 - Autre (Regroupement) | F11: ='Matrice EPRO Essentielle'!F11 -> 30 - Aluminium | G11: ='Matrice EPRO Essentielle'!G11 -> 1 - Usage Unique | H11: ='Matrice EPRO Essentielle'!H11 -> 0 - Sans classification | I11: ='Matrice EPRO Essentielle'!I11 -> 00 - Sans éco-modulation | ... M11: ='Matrice EPRO Essentielle'!M11 -> 2301000
B12: ='Matrice EPRO Essentielle'!B12 -> 1008 | C12: ='Matrice EPRO Essentielle'!C12 -> exemple 9 | D12: ='Matrice EPRO Essentielle'!D12 -> Import | E12: ='Matrice EPRO Essentielle'!E12 -> 2 - Autre (Regroupement) | F12: ='Matrice EPRO Essentielle'!F12 -> 50 - Verre | G12: ='Matrice EPRO Essentielle'!G12 -> 1 - Usage Unique | H12: ='Matrice EPRO Essentielle'!H12 -> 0 - Sans classification | I12: ='Matrice EPRO Essentielle'!I12 -> 00 - Sans éco-modulation | ... M12: ='Matrice EPRO Essentielle'!M12 -> 2501000
B13: ='Matrice EPRO Essentielle'!B13 -> 1009 | C13: ='Matrice EPRO Essentielle'!C13 -> exemple 10 | D13: ='Matrice EPRO Essentielle'!D13 -> National | E13: ='Matrice EPRO Essentielle'!E13 -> 2 - Autre (Regroupement) | F13: ='Matrice EPRO Essentielle'!F13 -> 30 - Aluminium | G13: ='Matrice EPRO Essentielle'!G13 -> 1 - Usage Unique | H13: ='Matrice EPRO Essentielle'!H13 -> 0 - Sans classification | I13: ='Matrice EPRO Essentielle'!I13 -> 00 - Sans éco-modulation | ... M13: ='Matrice EPRO Essentielle'!M13 -> 2301000
B14: ='Matrice EPRO Essentielle'!B14 -> 1010 | C14: ='Matrice EPRO Essentielle'!C14 -> exemple 11 | D14: ='Matrice EPRO Essentielle'!D14 -> Import | E14: ='Matrice EPRO Essentielle'!E14 -> 2 - Autre (Transport) | F14: ='Matrice EPRO Essentielle'!F14 -> 10 - Bois | G14: ='Matrice EPRO Essentielle'!G14 -> 2 - Réemployable | H14: ='Matrice EPRO Essentielle'!H14 -> 0 - Sans classification | I14: ='Matrice EPRO Essentielle'!I14 -> 00 - Sans éco-modulation | ... M14: ='Matrice EPRO Essentielle'!M14 -> 2102000
B15: ='Matrice EPRO Essentielle'!B15 -> 1011 | C15: ='Matrice EPRO Essentielle'!C15 -> exemple 12 | D15: ='Matrice EPRO Essentielle'!D15 -> National | E15: ='Matrice EPRO Essentielle'!E15 -> 2 - Autre (Transport) | F15: ='Matrice EPRO Essentielle'!F15 -> 65 - PS, PSE, XPS | G15: ='Matrice EPRO Essentielle'!G15 -> 1 - Usage Unique | H15: ='Matrice EPRO Essentielle'!H15 -> 0 - Sans classification | I15: ='Matrice EPRO Essentielle'!I15 -> 00 - Sans éco-modulation | ... M15: ='Matrice EPRO Essentielle'!M15 -> 2651000
... B301: ='Matrice EPRO Essentielle'!B301 -> 0 | C301: ='Matrice EPRO Essentielle'!C301 -> 0 | D301: ='Matrice EPRO Essentielle'!D301 -> 0 | E301: ='Matrice EPRO Essentielle'!E301 -> 0 | F301: ='Matrice EPRO Essentielle'!F301 -> 0 | G301: ='Matrice EPRO Essentielle'!G301 -> 0 | H301: ='Matrice EPRO Essentielle'!H301 -> 0 | I301: ='Matrice EPRO Essentielle'!I301 -> 0 | ... M301: ='Matrice EPRO Essentielle'!M301
B302: ='Matrice EPRO Essentielle'!B288 -> 0 | C302: ='Matrice EPRO Essentielle'!C288 -> 0 | D302: ='Matrice EPRO Essentielle'!D288 -> 0 | E302: ='Matrice EPRO Essentielle'!E288 -> 0 | F302: ='Matrice EPRO Essentielle'!G288 -> 0 | G302: ='Matrice EPRO Essentielle'!I288 -> 0 | H302: ='Matrice EPRO Essentielle'!J288 -> 0 | I302: ='Matrice EPRO Essentielle'!K288 -> 0 | L302: =H302*I302 -> 0 | M302: ='Matrice EPRO Essentielle'!M302
B303: ='Matrice EPRO Essentielle'!B289 -> 0 | C303: ='Matrice EPRO Essentielle'!C289 -> 0 | D303: ='Matrice EPRO Essentielle'!D289 -> 0 | E303: ='Matrice EPRO Essentielle'!E289 -> 0 | F303: ='Matrice EPRO Essentielle'!G289 -> 0 | G303: ='Matrice EPRO Essentielle'!I289 -> 0 | H303: ='Matrice EPRO Essentielle'!J289 -> 0 | I303: ='Matrice EPRO Essentielle'!K289 -> 0 | L303: =H303*I303 -> 0 | M303: ='Matrice EPRO Essentielle'!M303
B304: ='Matrice EPRO Essentielle'!B290 -> 0 | C304: ='Matrice EPRO Essentielle'!C290 -> 0 | D304: ='Matrice EPRO Essentielle'!D290 -> 0 | E304: ='Matrice EPRO Essentielle'!E290 -> 0 | F304: ='Matrice EPRO Essentielle'!G290 -> 0 | G304: ='Matrice EPRO Essentielle'!I290 -> 0 | H304: ='Matrice EPRO Essentielle'!J290 -> 0 | I304: ='Matrice EPRO Essentielle'!K290 -> 0 | L304: =H304*I304 -> 0 | M304: ='Matrice EPRO Essentielle'!M304
B305: ='Matrice EPRO Essentielle'!B291 -> 0 | C305: ='Matrice EPRO Essentielle'!C291 -> 0 | D305: ='Matrice EPRO Essentielle'!D291 -> 0 | E305: ='Matrice EPRO Essentielle'!E291 -> 0 | F305: ='Matrice EPRO Essentielle'!G291 -> 0 | G305: ='Matrice EPRO Essentielle'!I291 -> 0 | H305: ='Matrice EPRO Essentielle'!J291 -> 0 | I305: ='Matrice EPRO Essentielle'!K291 -> 0 | L305: =H305*I305 -> 0 | M305: ='Matrice EPRO Essentielle'!M305
B306: ='Matrice EPRO Essentielle'!B292 -> 0 | C306: ='Matrice EPRO Essentielle'!C292 -> 0 | D306: ='Matrice EPRO Essentielle'!D292 -> 0 | E306: ='Matrice EPRO Essentielle'!E292 -> 0 | F306: ='Matrice EPRO Essentielle'!G292 -> 0 | G306: ='Matrice EPRO Essentielle'!I292 -> 0 | H306: ='Matrice EPRO Essentielle'!J292 -> 0 | I306: ='Matrice EPRO Essentielle'!K292 -> 0 | L306: =H306*I306 -> 0 | M306: ='Matrice EPRO Essentielle'!M306
B307: ='Matrice EPRO Essentielle'!B293 -> 0 | C307: ='Matrice EPRO Essentielle'!C293 -> 0 | D307: ='Matrice EPRO Essentielle'!D293 -> 0 | E307: ='Matrice EPRO Essentielle'!E293 -> 0 | F307: ='Matrice EPRO Essentielle'!G293 -> 0 | G307: ='Matrice EPRO Essentielle'!I293 -> 0 | H307: ='Matrice EPRO Essentielle'!J293 -> 0 | I307: ='Matrice EPRO Essentielle'!K293 -> 0 | L307: =H307*I307 -> 0 | M307: ='Matrice EPRO Essentielle'!M307
B308: ='Matrice EPRO Essentielle'!B294 -> 0 | C308: ='Matrice EPRO Essentielle'!C294 -> 0 | D308: ='Matrice EPRO Essentielle'!D294 -> 0 | E308: ='Matrice EPRO Essentielle'!E294 -> 0 | F308: ='Matrice EPRO Essentielle'!G294 -> 0 | G308: ='Matrice EPRO Essentielle'!I294 -> 0 | H308: ='Matrice EPRO Essentielle'!J294 -> 0 | I308: ='Matrice EPRO Essentielle'!K294 -> 0 | L308: =H308*I308 -> 0 | M308: ='Matrice EPRO Essentielle'!M308
B309: ='Matrice EPRO Essentielle'!B295 -> 0 | C309: ='Matrice EPRO Essentielle'!C295 -> 0 | D309: ='Matrice EPRO Essentielle'!D295 -> 0 | E309: ='Matrice EPRO Essentielle'!E295 -> 0 | F309: ='Matrice EPRO Essentielle'!G295 -> 0 | G309: ='Matrice EPRO Essentielle'!I295 -> 0 | H309: ='Matrice EPRO Essentielle'!J295 -> 0 | I309: ='Matrice EPRO Essentielle'!K295 -> 0 | L309: =H309*I309 -> 0 | M309: ='Matrice EPRO Essentielle'!M309
B310: ='Matrice EPRO Essentielle'!B296 -> 0 | C310: ='Matrice EPRO Essentielle'!C296 -> 0 | D310: ='Matrice EPRO Essentielle'!D296 -> 0 | E310: ='Matrice EPRO Essentielle'!E296 -> 0 | F310: ='Matrice EPRO Essentielle'!G296 -> 0 | G310: ='Matrice EPRO Essentielle'!I296 -> 0 | H310: ='Matrice EPRO Essentielle'!J296 -> 0 | I310: ='Matrice EPRO Essentielle'!K296 -> 0 | L310: =H310*I310 -> 0 | M310: ='Matrice EPRO Essentielle'!M310
B311: ='Matrice EPRO Essentielle'!B297 -> 0 | C311: ='Matrice EPRO Essentielle'!C297 -> 0 | D311: ='Matrice EPRO Essentielle'!D297 -> 0 | E311: ='Matrice EPRO Essentielle'!E297 -> 0 | F311: ='Matrice EPRO Essentielle'!G297 -> 0 | G311: ='Matrice EPRO Essentielle'!I297 -> 0 | H311: ='Matrice EPRO Essentielle'!J297 -> 0 | I311: ='Matrice EPRO Essentielle'!K297 -> 0 | L311: =H311*I311 -> 0 | M311: ='Matrice EPRO Essentielle'!M311
B312: ='Matrice EPRO Essentielle'!B298 -> 0 | C312: ='Matrice EPRO Essentielle'!C298 -> 0 | D312: ='Matrice EPRO Essentielle'!D298 -> 0 | E312: ='Matrice EPRO Essentielle'!E298 -> 0 | F312: ='Matrice EPRO Essentielle'!G298 -> 0 | G312: ='Matrice EPRO Essentielle'!I298 -> 0 | H312: ='Matrice EPRO Essentielle'!J298 -> 0 | I312: ='Matrice EPRO Essentielle'!K298 -> 0 | L312: =H312*I312 -> 0 | M312: ='Matrice EPRO Essentielle'!M312
B313: ='Matrice EPRO Essentielle'!B299 -> 0 | C313: ='Matrice EPRO Essentielle'!C299 -> 0 | D313: ='Matrice EPRO Essentielle'!D299 -> 0 | E313: ='Matrice EPRO Essentielle'!E299 -> 0 | F313: ='Matrice EPRO Essentielle'!G299 -> 0 | G313: ='Matrice EPRO Essentielle'!I299 -> 0 | H313: ='Matrice EPRO Essentielle'!J299 -> 0 | I313: ='Matrice EPRO Essentielle'!K299 -> 0 | L313: =H313*I313 -> 0 | M313: ='Matrice EPRO Essentielle'!M313
... B1000: ='Matrice EPRO Essentielle'!B986 -> 0 | C1000: ='Matrice EPRO Essentielle'!C986 -> 0 | D1000: ='Matrice EPRO Essentielle'!D986 -> 0 | E1000: ='Matrice EPRO Essentielle'!E986 -> 0 | F1000: ='Matrice EPRO Essentielle'!G986 -> 0 | G1000: ='Matrice EPRO Essentielle'!I986 -> 0 | H1000: ='Matrice EPRO Essentielle'!J986 -> 0 | I1000: ='Matrice EPRO Essentielle'!K986 -> 0 | L1000: =H1000*I1000 -> 0 | M1000: ='Matrice EPRO Essentielle'!M1000

Sheet Données pour fichier d'import
A1: Code éco-participation Twiice | B1: Poids en Kg | C1: Nombre d'unité
A2: =IF('Référentiel unitaire'!$AF$3>0,IF(ISBLANK(INDEX('Matrice EPRO Essentielle'!$E$4:$E$1003,'Référentiel unitaire'!$AF$3)),"",LEFT(INDEX('Matrice EPRO Essentielle'!$E$4:$E$1003,'Référentiel unitaire'!$AF$3),1)&LEFT(INDEX('Matrice EPRO Essentielle'!$F$4:$F$1003,'Référentiel unitaire'!$AF$3),2)&LEFT(INDEX('Matrice EPRO Essentielle'!$G$4:$G$1003,'Référentiel unitaire'!$AF$3),1)&LEFT(INDEX('Matrice EPRO Essentielle'!$H$4:$H$1003,'Référentiel unitaire'!$AF$3),1)&LEFT(INDEX('Matrice EPRO Essentielle'!$I$4:$I$1003,'Référentiel unitaire'!$AF$3),2)),IF('Référentiel unitaire'!$AG$3>0,INDEX('Matrice EPRO Unitaire'!$P$4:$P$503,'Référentiel unitaire'!$AG$3),"")) -> 1421000 | B2: =IF('Référentiel unitaire'!$AF$3>0,IF(ISBLANK(INDEX('Matrice EPRO Essentielle'!$K$4:$K$1003,'Référentiel unitaire'!$AF$3)),"",INDEX('Matrice EPRO Essentielle'!$L$4:$L$1003,'Référentiel unitaire'!$AF$3)),IF('Référentiel unitaire'!$AG$3>0,IF(INDEX('Matrice EPRO Unitaire'!$E$4:$E$503,'Référentiel unitaire'!$AG$3)="IBC / GRV","",INDEX('Matrice EPRO Unitaire'!$M$4:$M$503,'Référentiel unitaire'!$AG$3)),"")) -> 500 | C2: =IF('Référentiel unitaire'!$AF$3>0,IF(ISBLANK(INDEX('Matrice EPRO Essentielle'!$K$4:$K$1003,'Référentiel unitaire'!$AF$3)),"",INDEX('Matrice EPRO Essentielle'!$K$4:$K$1003,'Référentiel unitaire'!$AF$3)),IF('Référentiel unitaire'!$AG$3>0,INDEX('Matrice EPRO Unitaire'!$J$4:$J$503,'Référentiel unitaire'!$AG$3),"")) -> 500
A3: =IF('Référentiel unitaire'!$AF$4>0,IF(ISBLANK(INDEX('Matrice EPRO Essentielle'!$E$4:$E$1003,'Référentiel unitaire'!$AF$4)),"",LEFT(INDEX('Matrice EPRO Essentielle'!$E$4:$E$1003,'Référentiel unitaire'!$AF$4),1)&LEFT(INDEX('Matrice EPRO Essentielle'!$F$4:$F$1003,'Référentiel unitaire'!$AF$4),2)&LEFT(INDEX('Matrice EPRO Essentielle'!$G$4:$G$1003,'Référentiel unitaire'!$AF$4),1)&LEFT(INDEX('Matrice EPRO Essentielle'!$H$4:$H$1003,'Référentiel unitaire'!$AF$4),1)&LEFT(INDEX('Matrice EPRO Essentielle'!$I$4:$I$1003,'Référentiel unitaire'!$AF$4),2)),IF('Référentiel unitaire'!$AG$4>0,INDEX('Matrice EPRO Unitaire'!$P$4:$P$503,'Référentiel unitaire'!$AG$4),"")) -> 2621000 | B3: =IF('Référentiel unitaire'!$AF$4>0,IF(ISBLANK(INDEX('Matrice EPRO Essentielle'!$K$4:$K$1003,'Référentiel unitaire'!$AF$4)),"",INDEX('Matrice EPRO Essentielle'!$L$4:$L$1003,'Référentiel unitaire'!$AF$4)),IF('Référentiel unitaire'!$AG$4>0,IF(INDEX('Matrice EPRO Unitaire'!$E$4:$E$503,'Référentiel unitaire'!$AG$4)="IBC / GRV","",INDEX('Matrice EPRO Unitaire'!$M$4:$M$503,'Référentiel unitaire'!$AG$4)),"")) -> 300 | C3: =IF('Référentiel unitaire'!$AF$4>0,IF(ISBLANK(INDEX('Matrice EPRO Essentielle'!$K$4:$K$1003,'Référentiel unitaire'!$AF$4)),"",INDEX('Matrice EPRO Essentielle'!$K$4:$K$1003,'Référentiel unitaire'!$AF$4)),IF('Référentiel unitaire'!$AG$4>0,INDEX('Matrice EPRO Unitaire'!$J$4:$J$503,'Référentiel unitaire'!$AG$4),"")) -> 1000
A4: =IF('Référentiel unitaire'!$AF$5>0,IF(ISBLANK(INDEX('Matrice EPRO Essentielle'!$E$4:$E$1003,'Référentiel unitaire'!$AF$5)),"",LEFT(INDEX('Matrice EPRO Essentielle'!$E$4:$E$1003,'Référentiel unitaire'!$AF$5),1)&LEFT(INDEX('Matrice EPRO Essentielle'!$F$4:$F$1003,'Référentiel unitaire'!$AF$5),2)&LEFT(INDEX('Matrice EPRO Essentielle'!$G$4:$G$1003,'Référentiel unitaire'!$AF$5),1)&LEFT(INDEX('Matrice EPRO Essentielle'!$H$4:$H$1003,'Référentiel unitaire'!$AF$5),1)&LEFT(INDEX('Matrice EPRO Essentielle'!$I$4:$I$1003,'Référentiel unitaire'!$AF$5),2)),IF('Référentiel unitaire'!$AG$5>0,INDEX('Matrice EPRO Unitaire'!$P$4:$P$503,'Référentiel unitaire'!$AG$5),"")) -> 2621000 | B4: =IF('Référentiel unitaire'!$AF$5>0,IF(ISBLANK(INDEX('Matrice EPRO Essentielle'!$K$4:$K$1003,'Référentiel unitaire'!$AF$5)),"",INDEX('Matrice EPRO Essentielle'!$L$4:$L$1003,'Référentiel unitaire'!$AF$5)),IF('Référentiel unitaire'!$AG$5>0,IF(INDEX('Matrice EPRO Unitaire'!$E$4:$E$503,'Référentiel unitaire'!$AG$5)="IBC / GRV","",INDEX('Matrice EPRO Unitaire'!$M$4:$M$503,'Référentiel unitaire'!$AG$5)),"")) -> 100 | C4: =IF('Référentiel unitaire'!$AF$5>0,IF(ISBLANK(INDEX('Matrice EPRO Essentielle'!$K$4:$K$1003,'Référentiel unitaire'!$AF$5)),"",INDEX('Matrice EPRO Essentielle'!$K$4:$K$1003,'Référentiel unitaire'!$AF$5)),IF('Référentiel unitaire'!$AG$5>0,INDEX('Matrice EPRO Unitaire'!$J$4:$J$503,'Référentiel unitaire'!$AG$5),"")) -> 100
A5: =IF('Référentiel unitaire'!$AF$6>0,IF(ISBLANK(INDEX('Matrice EPRO Essentielle'!$E$4:$E$1003,'Référentiel unitaire'!$AF$6)),"",LEFT(INDEX('Matrice EPRO Essentielle'!$E$4:$E$1003,'Référentiel unitaire'!$AF$6),1)&LEFT(INDEX('Matrice EPRO Essentielle'!$F$4:$F$1003,'Référentiel unitaire'!$AF$6),2)&LEFT(INDEX('Matrice EPRO Essentielle'!$G$4:$G$1003,'Référentiel unitaire'!$AF$6),1)&LEFT(INDEX('Matrice EPRO Essentielle'!$H$4:$H$1003,'Référentiel unitaire'!$AF$6),1)&LEFT(INDEX('Matrice EPRO Essentielle'!$I$4:$I$1003,'Référentiel unitaire'!$AF$6),2)),IF('Référentiel unitaire'!$AG$6>0,INDEX('Matrice EPRO Unitaire'!$P$4:$P$503,'Référentiel unitaire'!$AG$6),"")) -> 2421000 | B5: =IF('Référentiel unitaire'!$AF$6>0,IF(ISBLANK(INDEX('Matrice EPRO Essentielle'!$K$4:$K$1003,'Référentiel unitaire'!$AF$6)),"",INDEX('Matrice EPRO Essentielle'!$L$4:$L$1003,'Référentiel unitaire'!$AF$6)),IF('Référentiel unitaire'!$AG$6>0,IF(INDEX('Matrice EPRO Unitaire'!$E$4:$E$503,'Référentiel unitaire'!$AG$6)="IBC / GRV","",INDEX('Matrice EPRO Unitaire'!$M$4:$M$503,'Référentiel unitaire'!$AG$6)),"")) -> 50 | C5: =IF('Référentiel unitaire'!$AF$6>0,IF(ISBLANK(INDEX('Matrice EPRO Essentielle'!$K$4:$K$1003,'Référentiel unitaire'!$AF$6)),"",INDEX('Matrice EPRO Essentielle'!$K$4:$K$1003,'Référentiel unitaire'!$AF$6)),IF('Référentiel unitaire'!$AG$6>0,INDEX('Matrice EPRO Unitaire'!$J$4:$J$503,'Référentiel unitaire'!$AG$6),"")) -> 50
A6: =IF('Référentiel unitaire'!$AF$7>0,IF(ISBLANK(INDEX('Matrice EPRO Essentielle'!$E$4:$E$1003,'Référentiel unitaire'!$AF$7)),"",LEFT(INDEX('Matrice EPRO Essentielle'!$E$4:$E$1003,'Référentiel unitaire'!$AF$7),1)&LEFT(INDEX('Matrice EPRO Essentielle'!$F$4:$F$1003,'Référentiel unitaire'!$AF$7),2)&LEFT(INDEX('Matrice EPRO Essentielle'!$G$4:$G$1003,'Référentiel unitaire'!$AF$7),1)&LEFT(INDEX('Matrice EPRO Essentielle'!$H$4:$H$1003,'Référentiel unitaire'!$AF$7),1)&LEFT(INDEX('Matrice EPRO Essentielle'!$I$4:$I$1003,'Référentiel unitaire'!$AF$7),2)),IF('Référentiel unitaire'!$AG$7>0,INDEX('Matrice EPRO Unitaire'!$P$4:$P$503,'Référentiel unitaire'!$AG$7),"")) -> 2661000 | B6: =IF('Référentiel unitaire'!$AF$7>0,IF(ISBLANK(INDEX('Matrice EPRO Essentielle'!$K$4:$K$1003,'Référentiel unitaire'!$AF$7)),"",INDEX('Matrice EPRO Essentielle'!$L$4:$L$1003,'Référentiel unitaire'!$AF$7)),IF('Référentiel unitaire'!$AG$7>0,IF(INDEX('Matrice EPRO Unitaire'!$E$4:$E$503,'Référentiel unitaire'!$AG$7)="IBC / GRV","",INDEX('Matrice EPRO Unitaire'!$M$4:$M$503,'Référentiel unitaire'!$AG$7)),"")) -> 250 | C6: =IF('Référentiel unitaire'!$AF$7>0,IF(ISBLANK(INDEX('Matrice EPRO Essentielle'!$K$4:$K$1003,'Référentiel unitaire'!$AF$7)),"",INDEX('Matrice EPRO Essentielle'!$K$4:$K$1003,'Référentiel unitaire'!$AF$7)),IF('Référentiel unitaire'!$AG$7>0,INDEX('Matrice EPRO Unitaire'!$J$4:$J$503,'Référentiel unitaire'!$AG$7),"")) -> 50
A7: =IF('Référentiel unitaire'!$AF$8>0,IF(ISBLANK(INDEX('Matrice EPRO Essentielle'!$E$4:$E$1003,'Référentiel unitaire'!$AF$8)),"",LEFT(INDEX('Matrice EPRO Essentielle'!$E$4:$E$1003,'Référentiel unitaire'!$AF$8),1)&LEFT(INDEX('Matrice EPRO Essentielle'!$F$4:$F$1003,'Référentiel unitaire'!$AF$8),2)&LEFT(INDEX('Matrice EPRO Essentielle'!$G$4:$G$1003,'Référentiel unitaire'!$AF$8),1)&LEFT(INDEX('Matrice EPRO Essentielle'!$H$4:$H$1003,'Référentiel unitaire'!$AF$8),1)&LEFT(INDEX('Matrice EPRO Essentielle'!$I$4:$I$1003,'Référentiel unitaire'!$AF$8),2)),IF('Référentiel unitaire'!$AG$8>0,INDEX('Matrice EPRO Unitaire'!$P$4:$P$503,'Référentiel unitaire'!$AG$8),"")) -> 2201000 | B7: =IF('Référentiel unitaire'!$AF$8>0,IF(ISBLANK(INDEX('Matrice EPRO Essentielle'!$K$4:$K$1003,'Référentiel unitaire'!$AF$8)),"",INDEX('Matrice EPRO Essentielle'!$L$4:$L$1003,'Référentiel unitaire'!$AF$8)),IF('Référentiel unitaire'!$AG$8>0,IF(INDEX('Matrice EPRO Unitaire'!$E$4:$E$503,'Référentiel unitaire'!$AG$8)="IBC / GRV","",INDEX('Matrice EPRO Unitaire'!$M$4:$M$503,'Référentiel unitaire'!$AG$8)),"")) -> 300 | C7: =IF('Référentiel unitaire'!$AF$8>0,IF(ISBLANK(INDEX('Matrice EPRO Essentielle'!$K$4:$K$1003,'Référentiel unitaire'!$AF$8)),"",INDEX('Matrice EPRO Essentielle'!$K$4:$K$1003,'Référentiel unitaire'!$AF$8)),IF('Référentiel unitaire'!$AG$8>0,INDEX('Matrice EPRO Unitaire'!$J$4:$J$503,'Référentiel unitaire'!$AG$8),"")) -> 50
A8: =IF('Référentiel unitaire'!$AF$9>0,IF(ISBLANK(INDEX('Matrice EPRO Essentielle'!$E$4:$E$1003,'Référentiel unitaire'!$AF$9)),"",LEFT(INDEX('Matrice EPRO Essentielle'!$E$4:$E$1003,'Référentiel unitaire'!$AF$9),1)&LEFT(INDEX('Matrice EPRO Essentielle'!$F$4:$F$1003,'Référentiel unitaire'!$AF$9),2)&LEFT(INDEX('Matrice EPRO Essentielle'!$G$4:$G$1003,'Référentiel unitaire'!$AF$9),1)&LEFT(INDEX('Matrice EPRO Essentielle'!$H$4:$H$1003,'Référentiel unitaire'!$AF$9),1)&LEFT(INDEX('Matrice EPRO Essentielle'!$I$4:$I$1003,'Référentiel unitaire'!$AF$9),2)),IF('Référentiel unitaire'!$AG$9>0,INDEX('Matrice EPRO Unitaire'!$P$4:$P$503,'Référentiel unitaire'!$AG$9),"")) -> 1671000 | B8: =IF('Référentiel unitaire'!$AF$9>0,IF(ISBLANK(INDEX('Matrice EPRO Essentielle'!$K$4:$K$1003,'Référentiel unitaire'!$AF$9)),"",INDEX('Matrice EPRO Essentielle'!$L$4:$L$1003,'Référentiel unitaire'!$AF$9)),IF('Référentiel unitaire'!$AG$9>0,IF(INDEX('Matrice EPRO Unitaire'!$E$4:$E$503,'Référentiel unitaire'!$AG$9)="IBC / GRV","",INDEX('Matrice EPRO Unitaire'!$M$4:$M$503,'Référentiel unitaire'!$AG$9)),"")) -> 350 | C8: =IF('Référentiel unitaire'!$AF$9>0,IF(ISBLANK(INDEX('Matrice EPRO Essentielle'!$K$4:$K$1003,'Référentiel unitaire'!$AF$9)),"",INDEX('Matrice EPRO Essentielle'!$K$4:$K$1003,'Référentiel unitaire'!$AF$9)),IF('Référentiel unitaire'!$AG$9>0,INDEX('Matrice EPRO Unitaire'!$J$4:$J$503,'Référentiel unitaire'!$AG$9),"")) -> 50
A9: =IF('Référentiel unitaire'!$AF$10>0,IF(ISBLANK(INDEX('Matrice EPRO Essentielle'!$E$4:$E$1003,'Référentiel unitaire'!$AF$10)),"",LEFT(INDEX('Matrice EPRO Essentielle'!$E$4:$E$1003,'Référentiel unitaire'!$AF$10),1)&LEFT(INDEX('Matrice EPRO Essentielle'!$F$4:$F$1003,'Référentiel unitaire'!$AF$10),2)&LEFT(INDEX('Matrice EPRO Essentielle'!$G$4:$G$1003,'Référentiel unitaire'!$AF$10),1)&LEFT(INDEX('Matrice EPRO Essentielle'!$H$4:$H$1003,'Référentiel unitaire'!$AF$10),1)&LEFT(INDEX('Matrice EPRO Essentielle'!$I$4:$I$1003,'Référentiel unitaire'!$AF$10),2)),IF('Référentiel unitaire'!$AG$10>0,INDEX('Matrice EPRO Unitaire'!$P$4:$P$503,'Référentiel unitaire'!$AG$10),"")) -> 2301000 | B9: =IF('Référentiel unitaire'!$AF$10>0,IF(ISBLANK(INDEX('Matrice EPRO Essentielle'!$K$4:$K$1003,'Référentiel unitaire'!$AF$10)),"",INDEX('Matrice EPRO Essentielle'!$L$4:$L$1003,'Référentiel unitaire'!$AF$10)),IF('Référentiel unitaire'!$AG$10>0,IF(INDEX('Matrice EPRO Unitaire'!$E$4:$E$503,'Référentiel unitaire'!$AG$10)="IBC / GRV","",INDEX('Matrice EPRO Unitaire'!$M$4:$M$503,'Référentiel unitaire'!$AG$10)),"")) -> 400 | C9: =IF('Référentiel unitaire'!$AF$10>0,IF(ISBLANK(INDEX('Matrice EPRO Essentielle'!$K$4:$K$1003,'Référentiel unitaire'!$AF$10)),"",INDEX('Matrice EPRO Essentielle'!$K$4:$K$1003,'Référentiel unitaire'!$AF$10)),IF('Référentiel unitaire'!$AG$10>0,INDEX('Matrice EPRO Unitaire'!$J$4:$J$503,'Référentiel unitaire'!$AG$10),"")) -> 50
A10: =IF('Référentiel unitaire'!$AF$11>0,IF(ISBLANK(INDEX('Matrice EPRO Essentielle'!$E$4:$E$1003,'Référentiel unitaire'!$AF$11)),"",LEFT(INDEX('Matrice EPRO Essentielle'!$E$4:$E$1003,'Référentiel unitaire'!$AF$11),1)&LEFT(INDEX('Matrice EPRO Essentielle'!$F$4:$F$1003,'Référentiel unitaire'!$AF$11),2)&LEFT(INDEX('Matrice EPRO Essentielle'!$G$4:$G$1003,'Référentiel unitaire'!$AF$11),1)&LEFT(INDEX('Matrice EPRO Essentielle'!$H$4:$H$1003,'Référentiel unitaire'!$AF$11),1)&LEFT(INDEX('Matrice EPRO Essentielle'!$I$4:$I$1003,'Référentiel unitaire'!$AF$11),2)),IF('Référentiel unitaire'!$AG$11>0,INDEX('Matrice EPRO Unitaire'!$P$4:$P$503,'Référentiel unitaire'!$AG$11),"")) -> 2501000 | B10: =IF('Référentiel unitaire'!$AF$11>0,IF(ISBLANK(INDEX('Matrice EPRO Essentielle'!$K$4:$K$1003,'Référentiel unitaire'!$AF$11)),"",INDEX('Matrice EPRO Essentielle'!$L$4:$L$1003,'Référentiel unitaire'!$AF$11)),IF('Référentiel unitaire'!$AG$11>0,IF(INDEX('Matrice EPRO Unitaire'!$E$4:$E$503,'Référentiel unitaire'!$AG$11)="IBC / GRV","",INDEX('Matrice EPRO Unitaire'!$M$4:$M$503,'Référentiel unitaire'!$AG$11)),"")) -> 450 | C10: =IF('Référentiel unitaire'!$AF$11>0,IF(ISBLANK(INDEX('Matrice EPRO Essentielle'!$K$4:$K$1003,'Référentiel unitaire'!$AF$11)),"",INDEX('Matrice EPRO Essentielle'!$K$4:$K$1003,'Référentiel unitaire'!$AF$11)),IF('Référentiel unitaire'!$AG$11>0,INDEX('Matrice EPRO Unitaire'!$J$4:$J$503,'Référentiel unitaire'!$AG$11),"")) -> 50
A11: =IF('Référentiel unitaire'!$AF$12>0,IF(ISBLANK(INDEX('Matrice EPRO Essentielle'!$E$4:$E$1003,'Référentiel unitaire'!$AF$12)),"",LEFT(INDEX('Matrice EPRO Essentielle'!$E$4:$E$1003,'Référentiel unitaire'!$AF$12),1)&LEFT(INDEX('Matrice EPRO Essentielle'!$F$4:$F$1003,'Référentiel unitaire'!$AF$12),2)&LEFT(INDEX('Matrice EPRO Essentielle'!$G$4:$G$1003,'Référentiel unitaire'!$AF$12),1)&LEFT(INDEX('Matrice EPRO Essentielle'!$H$4:$H$1003,'Référentiel unitaire'!$AF$12),1)&LEFT(INDEX('Matrice EPRO Essentielle'!$I$4:$I$1003,'Référentiel unitaire'!$AF$12),2)),IF('Référentiel unitaire'!$AG$12>0,INDEX('Matrice EPRO Unitaire'!$P$4:$P$503,'Référentiel unitaire'!$AG$12),"")) -> 2301000 | B11: =IF('Référentiel unitaire'!$AF$12>0,IF(ISBLANK(INDEX('Matrice EPRO Essentielle'!$K$4:$K$1003,'Référentiel unitaire'!$AF$12)),"",INDEX('Matrice EPRO Essentielle'!$L$4:$L$1003,'Référentiel unitaire'!$AF$12)),IF('Référentiel unitaire'!$AG$12>0,IF(INDEX('Matrice EPRO Unitaire'!$E$4:$E$503,'Référentiel unitaire'!$AG$12)="IBC / GRV","",INDEX('Matrice EPRO Unitaire'!$M$4:$M$503,'Référentiel unitaire'!$AG$12)),"")) -> 500 | C11: =IF('Référentiel unitaire'!$AF$12>0,IF(ISBLANK(INDEX('Matrice EPRO Essentielle'!$K$4:$K$1003,'Référentiel unitaire'!$AF$12)),"",INDEX('Matrice EPRO Essentielle'!$K$4:$K$1003,'Référentiel unitaire'!$AF$12)),IF('Référentiel unitaire'!$AG$12>0,INDEX('Matrice EPRO Unitaire'!$J$4:$J$503,'Référentiel unitaire'!$AG$12),"")) -> 50
A12: =IF('Référentiel unitaire'!$AF$13>0,IF(ISBLANK(INDEX('Matrice EPRO Essentielle'!$E$4:$E$1003,'Référentiel unitaire'!$AF$13)),"",LEFT(INDEX('Matrice EPRO Essentielle'!$E$4:$E$1003,'Référentiel unitaire'!$AF$13),1)&LEFT(INDEX('Matrice EPRO Essentielle'!$F$4:$F$1003,'Référentiel unitaire'!$AF$13),2)&LEFT(INDEX('Matrice EPRO Essentielle'!$G$4:$G$1003,'Référentiel unitaire'!$AF$13),1)&LEFT(INDEX('Matrice EPRO Essentielle'!$H$4:$H$1003,'Référentiel unitaire'!$AF$13),1)&LEFT(INDEX('Matrice EPRO Essentielle'!$I$4:$I$1003,'Référentiel unitaire'!$AF$13),2)),IF('Référentiel unitaire'!$AG$13>0,INDEX('Matrice EPRO Unitaire'!$P$4:$P$503,'Référentiel unitaire'!$AG$13),"")) -> 2102000 | B12: =IF('Référentiel unitaire'!$AF$13>0,IF(ISBLANK(INDEX('Matrice EPRO Essentielle'!$K$4:$K$1003,'Référentiel unitaire'!$AF$13)),"",INDEX('Matrice EPRO Essentielle'!$L$4:$L$1003,'Référentiel unitaire'!$AF$13)),IF('Référentiel unitaire'!$AG$13>0,IF(INDEX('Matrice EPRO Unitaire'!$E$4:$E$503,'Référentiel unitaire'!$AG$13)="IBC / GRV","",INDEX('Matrice EPRO Unitaire'!$M$4:$M$503,'Référentiel unitaire'!$AG$13)),"")) -> 550 | C12: =IF('Référentiel unitaire'!$AF$13>0,IF(ISBLANK(INDEX('Matrice EPRO Essentielle'!$K$4:$K$1003,'Référentiel unitaire'!$AF$13)),"",INDEX('Matrice EPRO Essentielle'!$K$4:$K$1003,'Référentiel unitaire'!$AF$13)),IF('Référentiel unitaire'!$AG$13>0,INDEX('Matrice EPRO Unitaire'!$J$4:$J$503,'Référentiel unitaire'!$AG$13),"")) -> 50
A13: =IF('Référentiel unitaire'!$AF$14>0,IF(ISBLANK(INDEX('Matrice EPRO Essentielle'!$E$4:$E$1003,'Référentiel unitaire'!$AF$14)),"",LEFT(INDEX('Matrice EPRO Essentielle'!$E$4:$E$1003,'Référentiel unitaire'!$AF$14),1)&LEFT(INDEX('Matrice EPRO Essentielle'!$F$4:$F$1003,'Référentiel unitaire'!$AF$14),2)&LEFT(INDEX('Matrice EPRO Essentielle'!$G$4:$G$1003,'Référentiel unitaire'!$AF$14),1)&LEFT(INDEX('Matrice EPRO Essentielle'!$H$4:$H$1003,'Référentiel unitaire'!$AF$14),1)&LEFT(INDEX('Matrice EPRO Essentielle'!$I$4:$I$1003,'Référentiel unitaire'!$AF$14),2)),IF('Référentiel unitaire'!$AG$14>0,INDEX('Matrice EPRO Unitaire'!$P$4:$P$503,'Référentiel unitaire'!$AG$14),"")) -> 2651000 | B13: =IF('Référentiel unitaire'!$AF$14>0,IF(ISBLANK(INDEX('Matrice EPRO Essentielle'!$K$4:$K$1003,'Référentiel unitaire'!$AF$14)),"",INDEX('Matrice EPRO Essentielle'!$L$4:$L$1003,'Référentiel unitaire'!$AF$14)),IF('Référentiel unitaire'!$AG$14>0,IF(INDEX('Matrice EPRO Unitaire'!$E$4:$E$503,'Référentiel unitaire'!$AG$14)="IBC / GRV","",INDEX('Matrice EPRO Unitaire'!$M$4:$M$503,'Référentiel unitaire'!$AG$14)),"")) -> 1000 | C13: =IF('Référentiel unitaire'!$AF$14>0,IF(ISBLANK(INDEX('Matrice EPRO Essentielle'!$K$4:$K$1003,'Référentiel unitaire'!$AF$14)),"",INDEX('Matrice EPRO Essentielle'!$K$4:$K$1003,'Référentiel unitaire'!$AF$14)),IF('Référentiel unitaire'!$AG$14>0,INDEX('Matrice EPRO Unitaire'!$J$4:$J$503,'Référentiel unitaire'!$AG$14),"")) -> 100
A14: =IF('Référentiel unitaire'!$AF$15>0,IF(ISBLANK(INDEX('Matrice EPRO Essentielle'!$E$4:$E$1003,'Référentiel unitaire'!$AF$15)),"",LEFT(INDEX('Matrice EPRO Essentielle'!$E$4:$E$1003,'Référentiel unitaire'!$AF$15),1)&LEFT(INDEX('Matrice EPRO Essentielle'!$F$4:$F$1003,'Référentiel unitaire'!$AF$15),2)&LEFT(INDEX('Matrice EPRO Essentielle'!$G$4:$G$1003,'Référentiel unitaire'!$AF$15),1)&LEFT(INDEX('Matrice EPRO Essentielle'!$H$4:$H$1003,'Référentiel unitaire'!$AF$15),1)&LEFT(INDEX('Matrice EPRO Essentielle'!$I$4:$I$1003,'Référentiel unitaire'!$AF$15),2)),IF('Référentiel unitaire'!$AG$15>0,INDEX('Matrice EPRO Unitaire'!$P$4:$P$503,'Référentiel unitaire'!$AG$15),"")) -> 2632000 | B14: =IF('Référentiel unitaire'!$AF$15>0,IF(ISBLANK(INDEX('Matrice EPRO Essentielle'!$K$4:$K$1003,'Référentiel unitaire'!$AF$15)),"",INDEX('Matrice EPRO Essentielle'!$L$4:$L$1003,'Référentiel unitaire'!$AF$15)),IF('Référentiel unitaire'!$AG$15>0,IF(INDEX('Matrice EPRO Unitaire'!$E$4:$E$503,'Référentiel unitaire'!$AG$15)="IBC / GRV","",INDEX('Matrice EPRO Unitaire'!$M$4:$M$503,'Référentiel unitaire'!$AG$15)),"")) -> 650 | C14: =IF('Référentiel unitaire'!$AF$15>0,IF(ISBLANK(INDEX('Matrice EPRO Essentielle'!$K$4:$K$1003,'Référentiel unitaire'!$AF$15)),"",INDEX('Matrice EPRO Essentielle'!$K$4:$K$1003,'Référentiel unitaire'!$AF$15)),IF('Référentiel unitaire'!$AG$15>0,INDEX('Matrice EPRO Unitaire'!$J$4:$J$503,'Référentiel unitaire'!$AG$15),"")) -> 50
A15: =IF('Référentiel unitaire'!$AF$16>0,IF(ISBLANK(INDEX('Matrice EPRO Essentielle'!$E$4:$E$1003,'Référentiel unitaire'!$AF$16)),"",LEFT(INDEX('Matrice EPRO Essentielle'!$E$4:$E$1003,'Référentiel unitaire'!$AF$16),1)&LEFT(INDEX('Matrice EPRO Essentielle'!$F$4:$F$1003,'Référentiel unitaire'!$AF$16),2)&LEFT(INDEX('Matrice EPRO Essentielle'!$G$4:$G$1003,'Référentiel unitaire'!$AF$16),1)&LEFT(INDEX('Matrice EPRO Essentielle'!$H$4:$H$1003,'Référentiel unitaire'!$AF$16),1)&LEFT(INDEX('Matrice EPRO Essentielle'!$I$4:$I$1003,'Référentiel unitaire'!$AF$16),2)),IF('Référentiel unitaire'!$AG$16>0,INDEX('Matrice EPRO Unitaire'!$P$4:$P$503,'Référentiel unitaire'!$AG$16),"")) -> 2642000 | B15: =IF('Référentiel unitaire'!$AF$16>0,IF(ISBLANK(INDEX('Matrice EPRO Essentielle'!$K$4:$K$1003,'Référentiel unitaire'!$AF$16)),"",INDEX('Matrice EPRO Essentielle'!$L$4:$L$1003,'Référentiel unitaire'!$AF$16)),IF('Référentiel unitaire'!$AG$16>0,IF(INDEX('Matrice EPRO Unitaire'!$E$4:$E$503,'Référentiel unitaire'!$AG$16)="IBC / GRV","",INDEX('Matrice EPRO Unitaire'!$M$4:$M$503,'Référentiel unitaire'!$AG$16)),"")) -> 700 | C15: =IF('Référentiel unitaire'!$AF$16>0,IF(ISBLANK(INDEX('Matrice EPRO Essentielle'!$K$4:$K$1003,'Référentiel unitaire'!$AF$16)),"",INDEX('Matrice EPRO Essentielle'!$K$4:$K$1003,'Référentiel unitaire'!$AF$16)),IF('Référentiel unitaire'!$AG$16>0,INDEX('Matrice EPRO Unitaire'!$J$4:$J$503,'Référentiel unitaire'!$AG$16),"")) -> 50
A16: =IF('Référentiel unitaire'!$AF$17>0,IF(ISBLANK(INDEX('Matrice EPRO Essentielle'!$E$4:$E$1003,'Référentiel unitaire'!$AF$17)),"",LEFT(INDEX('Matrice EPRO Essentielle'!$E$4:$E$1003,'Référentiel unitaire'!$AF$17),1)&LEFT(INDEX('Matrice EPRO Essentielle'!$F$4:$F$1003,'Référentiel unitaire'!$AF$17),2)&LEFT(INDEX('Matrice EPRO Essentielle'!$G$4:$G$1003,'Référentiel unitaire'!$AF$17),1)&LEFT(INDEX('Matrice EPRO Essentielle'!$H$4:$H$1003,'Référentiel unitaire'!$AF$17),1)&LEFT(INDEX('Matrice EPRO Essentielle'!$I$4:$I$1003,'Référentiel unitaire'!$AF$17),2)),IF('Référentiel unitaire'!$AG$17>0,INDEX('Matrice EPRO Unitaire'!$P$4:$P$503,'Référentiel unitaire'!$AG$17),"")) -> 2662000 | B16: =IF('Référentiel unitaire'!$AF$17>0,IF(ISBLANK(INDEX('Matrice EPRO Essentielle'!$K$4:$K$1003,'Référentiel unitaire'!$AF$17)),"",INDEX('Matrice EPRO Essentielle'!$L$4:$L$1003,'Référentiel unitaire'!$AF$17)),IF('Référentiel unitaire'!$AG$17>0,IF(INDEX('Matrice EPRO Unitaire'!$E$4:$E$503,'Référentiel unitaire'!$AG$17)="IBC / GRV","",INDEX('Matrice EPRO Unitaire'!$M$4:$M$503,'Référentiel unitaire'!$AG$17)),"")) -> 750 | C16: =IF('Référentiel unitaire'!$AF$17>0,IF(ISBLANK(INDEX('Matrice EPRO Essentielle'!$K$4:$K$1003,'Référentiel unitaire'!$AF$17)),"",INDEX('Matrice EPRO Essentielle'!$K$4:$K$1003,'Référentiel unitaire'!$AF$17)),IF('Référentiel unitaire'!$AG$17>0,INDEX('Matrice EPRO Unitaire'!$J$4:$J$503,'Référentiel unitaire'!$AG$17),"")) -> 50
A17: =IF('Référentiel unitaire'!$AF$18>0,IF(ISBLANK(INDEX('Matrice EPRO Essentielle'!$E$4:$E$1003,'Référentiel unitaire'!$AF$18)),"",LEFT(INDEX('Matrice EPRO Essentielle'!$E$4:$E$1003,'Référentiel unitaire'!$AF$18),1)&LEFT(INDEX('Matrice EPRO Essentielle'!$F$4:$F$1003,'Référentiel unitaire'!$AF$18),2)&LEFT(INDEX('Matrice EPRO Essentielle'!$G$4:$G$1003,'Référentiel unitaire'!$AF$18),1)&LEFT(INDEX('Matrice EPRO Essentielle'!$H$4:$H$1003,'Référentiel unitaire'!$AF$18),1)&LEFT(INDEX('Matrice EPRO Essentielle'!$I$4:$I$1003,'Référentiel unitaire'!$AF$18),2)),IF('Référentiel unitaire'!$AG$18>0,INDEX('Matrice EPRO Unitaire'!$P$4:$P$503,'Référentiel unitaire'!$AG$18),"")) -> 2202000 | B17: =IF('Référentiel unitaire'!$AF$18>0,IF(ISBLANK(INDEX('Matrice EPRO Essentielle'!$K$4:$K$1003,'Référentiel unitaire'!$AF$18)),"",INDEX('Matrice EPRO Essentielle'!$L$4:$L$1003,'Référentiel unitaire'!$AF$18)),IF('Référentiel unitaire'!$AG$18>0,IF(INDEX('Matrice EPRO Unitaire'!$E$4:$E$503,'Référentiel unitaire'!$AG$18)="IBC / GRV","",INDEX('Matrice EPRO Unitaire'!$M$4:$M$503,'Référentiel unitaire'!$AG$18)),"")) -> 800 | C17: =IF('Référentiel unitaire'!$AF$18>0,IF(ISBLANK(INDEX('Matrice EPRO Essentielle'!$K$4:$K$1003,'Référentiel unitaire'!$AF$18)),"",INDEX('Matrice EPRO Essentielle'!$K$4:$K$1003,'Référentiel unitaire'!$AF$18)),IF('Référentiel unitaire'!$AG$18>0,INDEX('Matrice EPRO Unitaire'!$J$4:$J$503,'Référentiel unitaire'!$AG$18),"")) -> 50
A18: =IF('Référentiel unitaire'!$AF$19>0,IF(ISBLANK(INDEX('Matrice EPRO Essentielle'!$E$4:$E$1003,'Référentiel unitaire'!$AF$19)),"",LEFT(INDEX('Matrice EPRO Essentielle'!$E$4:$E$1003,'Référentiel unitaire'!$AF$19),1)&LEFT(INDEX('Matrice EPRO Essentielle'!$F$4:$F$1003,'Référentiel unitaire'!$AF$19),2)&LEFT(INDEX('Matrice EPRO Essentielle'!$G$4:$G$1003,'Référentiel unitaire'!$AF$19),1)&LEFT(INDEX('Matrice EPRO Essentielle'!$H$4:$H$1003,'Référentiel unitaire'!$AF$19),1)&LEFT(INDEX('Matrice EPRO Essentielle'!$I$4:$I$1003,'Référentiel unitaire'!$AF$19),2)),IF('Référentiel unitaire'!$AG$19>0,INDEX('Matrice EPRO Unitaire'!$P$4:$P$503,'Référentiel unitaire'!$AG$19),"")) -> 1601000 | B18: =IF('Référentiel unitaire'!$AF$19>0,IF(ISBLANK(INDEX('Matrice EPRO Essentielle'!$K$4:$K$1003,'Référentiel unitaire'!$AF$19)),"",INDEX('Matrice EPRO Essentielle'!$L$4:$L$1003,'Référentiel unitaire'!$AF$19)),IF('Référentiel unitaire'!$AG$19>0,IF(INDEX('Matrice EPRO Unitaire'!$E$4:$E$503,'Référentiel unitaire'!$AG$19)="IBC / GRV","",INDEX('Matrice EPRO Unitaire'!$M$4:$M$503,'Référentiel unitaire'!$AG$19)),"")) -> 50000 | C18: =IF('Référentiel unitaire'!$AF$19>0,IF(ISBLANK(INDEX('Matrice EPRO Essentielle'!$K$4:$K$1003,'Référentiel unitaire'!$AF$19)),"",INDEX('Matrice EPRO Essentielle'!$K$4:$K$1003,'Référentiel unitaire'!$AF$19)),IF('Référentiel unitaire'!$AG$19>0,INDEX('Matrice EPRO Unitaire'!$J$4:$J$503,'Référentiel unitaire'!$AG$19),"")) -> 5000
A19: =IF('Référentiel unitaire'!$AF$20>0,IF(ISBLANK(INDEX('Matrice EPRO Essentielle'!$E$4:$E$1003,'Référentiel unitaire'!$AF$20)),"",LEFT(INDEX('Matrice EPRO Essentielle'!$E$4:$E$1003,'Référentiel unitaire'!$AF$20),1)&LEFT(INDEX('Matrice EPRO Essentielle'!$F$4:$F$1003,'Référentiel unitaire'!$AF$20),2)&LEFT(INDEX('Matrice EPRO Essentielle'!$G$4:$G$1003,'Référentiel unitaire'!$AF$20),1)&LEFT(INDEX('Matrice EPRO Essentielle'!$H$4:$H$1003,'Référentiel unitaire'!$AF$20),1)&LEFT(INDEX('Matrice EPRO Essentielle'!$I$4:$I$1003,'Référentiel unitaire'!$AF$20),2)),IF('Référentiel unitaire'!$AG$20>0,INDEX('Matrice EPRO Unitaire'!$P$4:$P$503,'Référentiel unitaire'!$AG$20),"")) -> 1681000 | B19: =IF('Référentiel unitaire'!$AF$20>0,IF(ISBLANK(INDEX('Matrice EPRO Essentielle'!$K$4:$K$1003,'Référentiel unitaire'!$AF$20)),"",INDEX('Matrice EPRO Essentielle'!$L$4:$L$1003,'Référentiel unitaire'!$AF$20)),IF('Référentiel unitaire'!$AG$20>0,IF(INDEX('Matrice EPRO Unitaire'!$E$4:$E$503,'Référentiel unitaire'!$AG$20)="IBC / GRV","",INDEX('Matrice EPRO Unitaire'!$M$4:$M$503,'Référentiel unitaire'!$AG$20)),"")) | C19: =IF('Référentiel unitaire'!$AF$20>0,IF(ISBLANK(INDEX('Matrice EPRO Essentielle'!$K$4:$K$1003,'Référentiel unitaire'!$AF$20)),"",INDEX('Matrice EPRO Essentielle'!$K$4:$K$1003,'Référentiel unitaire'!$AF$20)),IF('Référentiel unitaire'!$AG$20>0,INDEX('Matrice EPRO Unitaire'!$J$4:$J$503,'Référentiel unitaire'!$AG$20),"")) -> 100
A20: =IF('Référentiel unitaire'!$AF$21>0,IF(ISBLANK(INDEX('Matrice EPRO Essentielle'!$E$4:$E$1003,'Référentiel unitaire'!$AF$21)),"",LEFT(INDEX('Matrice EPRO Essentielle'!$E$4:$E$1003,'Référentiel unitaire'!$AF$21),1)&LEFT(INDEX('Matrice EPRO Essentielle'!$F$4:$F$1003,'Référentiel unitaire'!$AF$21),2)&LEFT(INDEX('Matrice EPRO Essentielle'!$G$4:$G$1003,'Référentiel unitaire'!$AF$21),1)&LEFT(INDEX('Matrice EPRO Essentielle'!$H$4:$H$1003,'Référentiel unitaire'!$AF$21),1)&LEFT(INDEX('Matrice EPRO Essentielle'!$I$4:$I$1003,'Référentiel unitaire'!$AF$21),2)),IF('Référentiel unitaire'!$AG$21>0,INDEX('Matrice EPRO Unitaire'!$P$4:$P$503,'Référentiel unitaire'!$AG$21),"")) -> 1682100 | B20: =IF('Référentiel unitaire'!$AF$21>0,IF(ISBLANK(INDEX('Matrice EPRO Essentielle'!$K$4:$K$1003,'Référentiel unitaire'!$AF$21)),"",INDEX('Matrice EPRO Essentielle'!$L$4:$L$1003,'Référentiel unitaire'!$AF$21)),IF('Référentiel unitaire'!$AG$21>0,IF(INDEX('Matrice EPRO Unitaire'!$E$4:$E$503,'Référentiel unitaire'!$AG$21)="IBC / GRV","",INDEX('Matrice EPRO Unitaire'!$M$4:$M$503,'Référentiel unitaire'!$AG$21)),"")) | C20: =IF('Référentiel unitaire'!$AF$21>0,IF(ISBLANK(INDEX('Matrice EPRO Essentielle'!$K$4:$K$1003,'Référentiel unitaire'!$AF$21)),"",INDEX('Matrice EPRO Essentielle'!$K$4:$K$1003,'Référentiel unitaire'!$AF$21)),IF('Référentiel unitaire'!$AG$21>0,INDEX('Matrice EPRO Unitaire'!$J$4:$J$503,'Référentiel unitaire'!$AG$21),"")) -> 40
A21: =IF('Référentiel unitaire'!$AF$22>0,IF(ISBLANK(INDEX('Matrice EPRO Essentielle'!$E$4:$E$1003,'Référentiel unitaire'!$AF$22)),"",LEFT(INDEX('Matrice EPRO Essentielle'!$E$4:$E$1003,'Référentiel unitaire'!$AF$22),1)&LEFT(INDEX('Matrice EPRO Essentielle'!$F$4:$F$1003,'Référentiel unitaire'!$AF$22),2)&LEFT(INDEX('Matrice EPRO Essentielle'!$G$4:$G$1003,'Référentiel unitaire'!$AF$22),1)&LEFT(INDEX('Matrice EPRO Essentielle'!$H$4:$H$1003,'Référentiel unitaire'!$AF$22),1)&LEFT(INDEX('Matrice EPRO Essentielle'!$I$4:$I$1003,'Référentiel unitaire'!$AF$22),2)),IF('Référentiel unitaire'!$AG$22>0,INDEX('Matrice EPRO Unitaire'!$P$4:$P$503,'Référentiel unitaire'!$AG$22),"")) -> 1691000 | B21: =IF('Référentiel unitaire'!$AF$22>0,IF(ISBLANK(INDEX('Matrice EPRO Essentielle'!$K$4:$K$1003,'Référentiel unitaire'!$AF$22)),"",INDEX('Matrice EPRO Essentielle'!$L$4:$L$1003,'Référentiel unitaire'!$AF$22)),IF('Référentiel unitaire'!$AG$22>0,IF(INDEX('Matrice EPRO Unitaire'!$E$4:$E$503,'Référentiel unitaire'!$AG$22)="IBC / GRV","",INDEX('Matrice EPRO Unitaire'!$M$4:$M$503,'Référentiel unitaire'!$AG$22)),"")) | C21: =IF('Référentiel unitaire'!$AF$22>0,IF(ISBLANK(INDEX('Matrice EPRO Essentielle'!$K$4:$K$1003,'Référentiel unitaire'!$AF$22)),"",INDEX('Matrice EPRO Essentielle'!$K$4:$K$1003,'Référentiel unitaire'!$AF$22)),IF('Référentiel unitaire'!$AG$22>0,INDEX('Matrice EPRO Unitaire'!$J$4:$J$503,'Référentiel unitaire'!$AG$22),"")) -> 20
A22: =IF('Référentiel unitaire'!$AF$23>0,IF(ISBLANK(INDEX('Matrice EPRO Essentielle'!$E$4:$E$1003,'Référentiel unitaire'!$AF$23)),"",LEFT(INDEX('Matrice EPRO Essentielle'!$E$4:$E$1003,'Référentiel unitaire'!$AF$23),1)&LEFT(INDEX('Matrice EPRO Essentielle'!$F$4:$F$1003,'Référentiel unitaire'!$AF$23),2)&LEFT(INDEX('Matrice EPRO Essentielle'!$G$4:$G$1003,'Référentiel unitaire'!$AF$23),1)&LEFT(INDEX('Matrice EPRO Essentielle'!$H$4:$H$1003,'Référentiel unitaire'!$AF$23),1)&LEFT(INDEX('Matrice EPRO Essentielle'!$I$4:$I$1003,'Référentiel unitaire'!$AF$23),2)),IF('Référentiel unitaire'!$AG$23>0,INDEX('Matrice EPRO Unitaire'!$P$4:$P$503,'Référentiel unitaire'!$AG$23),"")) -> 1911000 | B22: =IF('Référentiel unitaire'!$AF$23>0,IF(ISBLANK(INDEX('Matrice EPRO Essentielle'!$K$4:$K$1003,'Référentiel unitaire'!$AF$23)),"",INDEX('Matrice EPRO Essentielle'!$L$4:$L$1003,'Référentiel unitaire'!$AF$23)),IF('Référentiel unitaire'!$AG$23>0,IF(INDEX('Matrice EPRO Unitaire'!$E$4:$E$503,'Référentiel unitaire'!$AG$23)="IBC / GRV","",INDEX('Matrice EPRO Unitaire'!$M$4:$M$503,'Référentiel unitaire'!$AG$23)),"")) -> 800 | C22: =IF('Référentiel unitaire'!$AF$23>0,IF(ISBLANK(INDEX('Matrice EPRO Essentielle'!$K$4:$K$1003,'Référentiel unitaire'!$AF$23)),"",INDEX('Matrice EPRO Essentielle'!$K$4:$K$1003,'Référentiel unitaire'!$AF$23)),IF('Référentiel unitaire'!$AG$23>0,INDEX('Matrice EPRO Unitaire'!$J$4:$J$503,'Référentiel unitaire'!$AG$23),"")) -> 1000
A23: =IF('Référentiel unitaire'!$AF$24>0,IF(ISBLANK(INDEX('Matrice EPRO Essentielle'!$E$4:$E$1003,'Référentiel unitaire'!$AF$24)),"",LEFT(INDEX('Matrice EPRO Essentielle'!$E$4:$E$1003,'Référentiel unitaire'!$AF$24),1)&LEFT(INDEX('Matrice EPRO Essentielle'!$F$4:$F$1003,'Référentiel unitaire'!$AF$24),2)&LEFT(INDEX('Matrice EPRO Essentielle'!$G$4:$G$1003,'Référentiel unitaire'!$AF$24),1)&LEFT(INDEX('Matrice EPRO Essentielle'!$H$4:$H$1003,'Référentiel unitaire'!$AF$24),1)&LEFT(INDEX('Matrice EPRO Essentielle'!$I$4:$I$1003,'Référentiel unitaire'!$AF$24),2)),IF('Référentiel unitaire'!$AG$24>0,INDEX('Matrice EPRO Unitaire'!$P$4:$P$503,'Référentiel unitaire'!$AG$24),"")) -> 1961000 | B23: =IF('Référentiel unitaire'!$AF$24>0,IF(ISBLANK(INDEX('Matrice EPRO Essentielle'!$K$4:$K$1003,'Référentiel unitaire'!$AF$24)),"",INDEX('Matrice EPRO Essentielle'!$L$4:$L$1003,'Référentiel unitaire'!$AF$24)),IF('Référentiel unitaire'!$AG$24>0,IF(INDEX('Matrice EPRO Unitaire'!$E$4:$E$503,'Référentiel unitaire'!$AG$24)="IBC / GRV","",INDEX('Matrice EPRO Unitaire'!$M$4:$M$503,'Référentiel unitaire'!$AG$24)),"")) -> 1450 | C23: =IF('Référentiel unitaire'!$AF$24>0,IF(ISBLANK(INDEX('Matrice EPRO Essentielle'!$K$4:$K$1003,'Référentiel unitaire'!$AF$24)),"",INDEX('Matrice EPRO Essentielle'!$K$4:$K$1003,'Référentiel unitaire'!$AF$24)),IF('Référentiel unitaire'!$AG$24>0,INDEX('Matrice EPRO Unitaire'!$J$4:$J$503,'Référentiel unitaire'!$AG$24),"")) -> 500
A24: =IF('Référentiel unitaire'!$AF$25>0,IF(ISBLANK(INDEX('Matrice EPRO Essentielle'!$E$4:$E$1003,'Référentiel unitaire'!$AF$25)),"",LEFT(INDEX('Matrice EPRO Essentielle'!$E$4:$E$1003,'Référentiel unitaire'!$AF$25),1)&LEFT(INDEX('Matrice EPRO Essentielle'!$F$4:$F$1003,'Référentiel unitaire'!$AF$25),2)&LEFT(INDEX('Matrice EPRO Essentielle'!$G$4:$G$1003,'Référentiel unitaire'!$AF$25),1)&LEFT(INDEX('Matrice EPRO Essentielle'!$H$4:$H$1003,'Référentiel unitaire'!$AF$25),1)&LEFT(INDEX('Matrice EPRO Essentielle'!$I$4:$I$1003,'Référentiel unitaire'!$AF$25),2)),IF('Référentiel unitaire'!$AG$25>0,INDEX('Matrice EPRO Unitaire'!$P$4:$P$503,'Référentiel unitaire'!$AG$25),"")) -> 1932000 | B24: =IF('Référentiel unitaire'!$AF$25>0,IF(ISBLANK(INDEX('Matrice EPRO Essentielle'!$K$4:$K$1003,'Référentiel unitaire'!$AF$25)),"",INDEX('Matrice EPRO Essentielle'!$L$4:$L$1003,'Référentiel unitaire'!$AF$25)),IF('Référentiel unitaire'!$AG$25>0,IF(INDEX('Matrice EPRO Unitaire'!$E$4:$E$503,'Référentiel unitaire'!$AG$25)="IBC / GRV","",INDEX('Matrice EPRO Unitaire'!$M$4:$M$503,'Référentiel unitaire'!$AG$25)),"")) -> 300 | C24: =IF('Référentiel unitaire'!$AF$25>0,IF(ISBLANK(INDEX('Matrice EPRO Essentielle'!$K$4:$K$1003,'Référentiel unitaire'!$AF$25)),"",INDEX('Matrice EPRO Essentielle'!$K$4:$K$1003,'Référentiel unitaire'!$AF$25)),IF('Référentiel unitaire'!$AG$25>0,INDEX('Matrice EPRO Unitaire'!$J$4:$J$503,'Référentiel unitaire'!$AG$25),"")) -> 200
A25: =IF('Référentiel unitaire'!$AF$26>0,IF(ISBLANK(INDEX('Matrice EPRO Essentielle'!$E$4:$E$1003,'Référentiel unitaire'!$AF$26)),"",LEFT(INDEX('Matrice EPRO Essentielle'!$E$4:$E$1003,'Référentiel unitaire'!$AF$26),1)&LEFT(INDEX('Matrice EPRO Essentielle'!$F$4:$F$1003,'Référentiel unitaire'!$AF$26),2)&LEFT(INDEX('Matrice EPRO Essentielle'!$G$4:$G$1003,'Référentiel unitaire'!$AF$26),1)&LEFT(INDEX('Matrice EPRO Essentielle'!$H$4:$H$1003,'Référentiel unitaire'!$AF$26),1)&LEFT(INDEX('Matrice EPRO Essentielle'!$I$4:$I$1003,'Référentiel unitaire'!$AF$26),2)),IF('Référentiel unitaire'!$AG$26>0,INDEX('Matrice EPRO Unitaire'!$P$4:$P$503,'Référentiel unitaire'!$AG$26),"")) -> 1973000 | B25: =IF('Référentiel unitaire'!$AF$26>0,IF(ISBLANK(INDEX('Matrice EPRO Essentielle'!$K$4:$K$1003,'Référentiel unitaire'!$AF$26)),"",INDEX('Matrice EPRO Essentielle'!$L$4:$L$1003,'Référentiel unitaire'!$AF$26)),IF('Référentiel unitaire'!$AG$26>0,IF(INDEX('Matrice EPRO Unitaire'!$E$4:$E$503,'Référentiel unitaire'!$AG$26)="IBC / GRV","",INDEX('Matrice EPRO Unitaire'!$M$4:$M$503,'Référentiel unitaire'!$AG$26)),"")) -> 120 | C25: =IF('Référentiel unitaire'!$AF$26>0,IF(ISBLANK(INDEX('Matrice EPRO Essentielle'!$K$4:$K$1003,'Référentiel unitaire'!$AF$26)),"",INDEX('Matrice EPRO Essentielle'!$K$4:$K$1003,'Référentiel unitaire'!$AF$26)),IF('Référentiel unitaire'!$AG$26>0,INDEX('Matrice EPRO Unitaire'!$J$4:$J$503,'Référentiel unitaire'!$AG$26),"")) -> 50
A26: =IF('Référentiel unitaire'!$AF$27>0,IF(ISBLANK(INDEX('Matrice EPRO Essentielle'!$E$4:$E$1003,'Référentiel unitaire'!$AF$27)),"",LEFT(INDEX('Matrice EPRO Essentielle'!$E$4:$E$1003,'Référentiel unitaire'!$AF$27),1)&LEFT(INDEX('Matrice EPRO Essentielle'!$F$4:$F$1003,'Référentiel unitaire'!$AF$27),2)&LEFT(INDEX('Matrice EPRO Essentielle'!$G$4:$G$1003,'Référentiel unitaire'!$AF$27),1)&LEFT(INDEX('Matrice EPRO Essentielle'!$H$4:$H$1003,'Référentiel unitaire'!$AF$27),1)&LEFT(INDEX('Matrice EPRO Essentielle'!$I$4:$I$1003,'Référentiel unitaire'!$AF$27),2)),IF('Référentiel unitaire'!$AG$27>0,INDEX('Matrice EPRO Unitaire'!$P$4:$P$503,'Référentiel unitaire'!$AG$27),"")) -> 2121400 | B26: =IF('Référentiel unitaire'!$AF$27>0,IF(ISBLANK(INDEX('Matrice EPRO Essentielle'!$K$4:$K$1003,'Référentiel unitaire'!$AF$27)),"",INDEX('Matrice EPRO Essentielle'!$L$4:$L$1003,'Référentiel unitaire'!$AF$27)),IF('Référentiel unitaire'!$AG$27>0,IF(INDEX('Matrice EPRO Unitaire'!$E$4:$E$503,'Référentiel unitaire'!$AG$27)="IBC / GRV","",INDEX('Matrice EPRO Unitaire'!$M$4:$M$503,'Référentiel unitaire'!$AG$27)),"")) -> 25000 | C26: =IF('Référentiel unitaire'!$AF$27>0,IF(ISBLANK(INDEX('Matrice EPRO Essentielle'!$K$4:$K$1003,'Référentiel unitaire'!$AF$27)),"",INDEX('Matrice EPRO Essentielle'!$K$4:$K$1003,'Référentiel unitaire'!$AF$27)),IF('Référentiel unitaire'!$AG$27>0,INDEX('Matrice EPRO Unitaire'!$J$4:$J$503,'Référentiel unitaire'!$AG$27),"")) -> 1000
A27: =IF('Référentiel unitaire'!$AF$28>0,IF(ISBLANK(INDEX('Matrice EPRO Essentielle'!$E$4:$E$1003,'Référentiel unitaire'!$AF$28)),"",LEFT(INDEX('Matrice EPRO Essentielle'!$E$4:$E$1003,'Référentiel unitaire'!$AF$28),1)&LEFT(INDEX('Matrice EPRO Essentielle'!$F$4:$F$1003,'Référentiel unitaire'!$AF$28),2)&LEFT(INDEX('Matrice EPRO Essentielle'!$G$4:$G$1003,'Référentiel unitaire'!$AF$28),1)&LEFT(INDEX('Matrice EPRO Essentielle'!$H$4:$H$1003,'Référentiel unitaire'!$AF$28),1)&LEFT(INDEX('Matrice EPRO Essentielle'!$I$4:$I$1003,'Référentiel unitaire'!$AF$28),2)),IF('Référentiel unitaire'!$AG$28>0,INDEX('Matrice EPRO Unitaire'!$P$4:$P$503,'Référentiel unitaire'!$AG$28),"")) -> 2121411 | B27: =IF('Référentiel unitaire'!$AF$28>0,IF(ISBLANK(INDEX('Matrice EPRO Essentielle'!$K$4:$K$1003,'Référentiel unitaire'!$AF$28)),"",INDEX('Matrice EPRO Essentielle'!$L$4:$L$1003,'Référentiel unitaire'!$AF$28)),IF('Référentiel unitaire'!$AG$28>0,IF(INDEX('Matrice EPRO Unitaire'!$E$4:$E$503,'Référentiel unitaire'!$AG$28)="IBC / GRV","",INDEX('Matrice EPRO Unitaire'!$M$4:$M$503,'Référentiel unitaire'!$AG$28)),"")) -> 3500 | C27: =IF('Référentiel unitaire'!$AF$28>0,IF(ISBLANK(INDEX('Matrice EPRO Essentielle'!$K$4:$K$1003,'Référentiel unitaire'!$AF$28)),"",INDEX('Matrice EPRO Essentielle'!$K$4:$K$1003,'Référentiel unitaire'!$AF$28)),IF('Référentiel unitaire'!$AG$28>0,INDEX('Matrice EPRO Unitaire'!$J$4:$J$503,'Référentiel unitaire'!$AG$28),"")) -> 100
A28: =IF('Référentiel unitaire'!$AF$29>0,IF(ISBLANK(INDEX('Matrice EPRO Essentielle'!$E$4:$E$1003,'Référentiel unitaire'!$AF$29)),"",LEFT(INDEX('Matrice EPRO Essentielle'!$E$4:$E$1003,'Référentiel unitaire'!$AF$29),1)&LEFT(INDEX('Matrice EPRO Essentielle'!$F$4:$F$1003,'Référentiel unitaire'!$AF$29),2)&LEFT(INDEX('Matrice EPRO Essentielle'!$G$4:$G$1003,'Référentiel unitaire'!$AF$29),1)&LEFT(INDEX('Matrice EPRO Essentielle'!$H$4:$H$1003,'Référentiel unitaire'!$AF$29),1)&LEFT(INDEX('Matrice EPRO Essentielle'!$I$4:$I$1003,'Référentiel unitaire'!$AF$29),2)),IF('Référentiel unitaire'!$AG$29>0,INDEX('Matrice EPRO Unitaire'!$P$4:$P$503,'Référentiel unitaire'!$AG$29),"")) -> 2152600 | B28: =IF('Référentiel unitaire'!$AF$29>0,IF(ISBLANK(INDEX('Matrice EPRO Essentielle'!$K$4:$K$1003,'Référentiel unitaire'!$AF$29)),"",INDEX('Matrice EPRO Essentielle'!$L$4:$L$1003,'Référentiel unitaire'!$AF$29)),IF('Référentiel unitaire'!$AG$29>0,IF(INDEX('Matrice EPRO Unitaire'!$E$4:$E$503,'Référentiel unitaire'!$AG$29)="IBC / GRV","",INDEX('Matrice EPRO Unitaire'!$M$4:$M$503,'Référentiel unitaire'!$AG$29)),"")) -> 13500 | C28: =IF('Référentiel unitaire'!$AF$29>0,IF(ISBLANK(INDEX('Matrice EPRO Essentielle'!$K$4:$K$1003,'Référentiel unitaire'!$AF$29)),"",INDEX('Matrice EPRO Essentielle'!$K$4:$K$1003,'Référentiel unitaire'!$AF$29)),IF('Référentiel unitaire'!$AG$29>0,INDEX('Matrice EPRO Unitaire'!$J$4:$J$503,'Référentiel unitaire'!$AG$29),"")) -> 300
A29: =IF('Référentiel unitaire'!$AF$30>0,IF(ISBLANK(INDEX('Matrice EPRO Essentielle'!$E$4:$E$1003,'Référentiel unitaire'!$AF$30)),"",LEFT(INDEX('Matrice EPRO Essentielle'!$E$4:$E$1003,'Référentiel unitaire'!$AF$30),1)&LEFT(INDEX('Matrice EPRO Essentielle'!$F$4:$F$1003,'Référentiel unitaire'!$AF$30),2)&LEFT(INDEX('Matrice EPRO Essentielle'!$G$4:$G$1003,'Référentiel unitaire'!$AF$30),1)&LEFT(INDEX('Matrice EPRO Essentielle'!$H$4:$H$1003,'Référentiel unitaire'!$AF$30),1)&LEFT(INDEX('Matrice EPRO Essentielle'!$I$4:$I$1003,'Référentiel unitaire'!$AF$30),2)),IF('Référentiel unitaire'!$AG$30>0,INDEX('Matrice EPRO Unitaire'!$P$4:$P$503,'Référentiel unitaire'!$AG$30),"")) | B29: =IF('Référentiel unitaire'!$AF$30>0,IF(ISBLANK(INDEX('Matrice EPRO Essentielle'!$K$4:$K$1003,'Référentiel unitaire'!$AF$30)),"",INDEX('Matrice EPRO Essentielle'!$L$4:$L$1003,'Référentiel unitaire'!$AF$30)),IF('Référentiel unitaire'!$AG$30>0,IF(INDEX('Matrice EPRO Unitaire'!$E$4:$E$503,'Référentiel unitaire'!$AG$30)="IBC / GRV","",INDEX('Matrice EPRO Unitaire'!$M$4:$M$503,'Référentiel unitaire'!$AG$30)),"")) | C29: =IF('Référentiel unitaire'!$AF$30>0,IF(ISBLANK(INDEX('Matrice EPRO Essentielle'!$K$4:$K$1003,'Référentiel unitaire'!$AF$30)),"",INDEX('Matrice EPRO Essentielle'!$K$4:$K$1003,'Référentiel unitaire'!$AF$30)),IF('Référentiel unitaire'!$AG$30>0,INDEX('Matrice EPRO Unitaire'!$J$4:$J$503,'Référentiel unitaire'!$AG$30),""))
A30: =IF('Référentiel unitaire'!$AF$31>0,IF(ISBLANK(INDEX('Matrice EPRO Essentielle'!$E$4:$E$1003,'Référentiel unitaire'!$AF$31)),"",LEFT(INDEX('Matrice EPRO Essentielle'!$E$4:$E$1003,'Référentiel unitaire'!$AF$31),1)&LEFT(INDEX('Matrice EPRO Essentielle'!$F$4:$F$1003,'Référentiel unitaire'!$AF$31),2)&LEFT(INDEX('Matrice EPRO Essentielle'!$G$4:$G$1003,'Référentiel unitaire'!$AF$31),1)&LEFT(INDEX('Matrice EPRO Essentielle'!$H$4:$H$1003,'Référentiel unitaire'!$AF$31),1)&LEFT(INDEX('Matrice EPRO Essentielle'!$I$4:$I$1003,'Référentiel unitaire'!$AF$31),2)),IF('Référentiel unitaire'!$AG$31>0,INDEX('Matrice EPRO Unitaire'!$P$4:$P$503,'Référentiel unitaire'!$AG$31),"")) | B30: =IF('Référentiel unitaire'!$AF$31>0,IF(ISBLANK(INDEX('Matrice EPRO Essentielle'!$K$4:$K$1003,'Référentiel unitaire'!$AF$31)),"",INDEX('Matrice EPRO Essentielle'!$L$4:$L$1003,'Référentiel unitaire'!$AF$31)),IF('Référentiel unitaire'!$AG$31>0,IF(INDEX('Matrice EPRO Unitaire'!$E$4:$E$503,'Référentiel unitaire'!$AG$31)="IBC / GRV","",INDEX('Matrice EPRO Unitaire'!$M$4:$M$503,'Référentiel unitaire'!$AG$31)),"")) | C30: =IF('Référentiel unitaire'!$AF$31>0,IF(ISBLANK(INDEX('Matrice EPRO Essentielle'!$K$4:$K$1003,'Référentiel unitaire'!$AF$31)),"",INDEX('Matrice EPRO Essentielle'!$K$4:$K$1003,'Référentiel unitaire'!$AF$31)),IF('Référentiel unitaire'!$AG$31>0,INDEX('Matrice EPRO Unitaire'!$J$4:$J$503,'Référentiel unitaire'!$AG$31),""))
A31: =IF('Référentiel unitaire'!$AF$32>0,IF(ISBLANK(INDEX('Matrice EPRO Essentielle'!$E$4:$E$1003,'Référentiel unitaire'!$AF$32)),"",LEFT(INDEX('Matrice EPRO Essentielle'!$E$4:$E$1003,'Référentiel unitaire'!$AF$32),1)&LEFT(INDEX('Matrice EPRO Essentielle'!$F$4:$F$1003,'Référentiel unitaire'!$AF$32),2)&LEFT(INDEX('Matrice EPRO Essentielle'!$G$4:$G$1003,'Référentiel unitaire'!$AF$32),1)&LEFT(INDEX('Matrice EPRO Essentielle'!$H$4:$H$1003,'Référentiel unitaire'!$AF$32),1)&LEFT(INDEX('Matrice EPRO Essentielle'!$I$4:$I$1003,'Référentiel unitaire'!$AF$32),2)),IF('Référentiel unitaire'!$AG$32>0,INDEX('Matrice EPRO Unitaire'!$P$4:$P$503,'Référentiel unitaire'!$AG$32),"")) | B31: =IF('Référentiel unitaire'!$AF$32>0,IF(ISBLANK(INDEX('Matrice EPRO Essentielle'!$K$4:$K$1003,'Référentiel unitaire'!$AF$32)),"",INDEX('Matrice EPRO Essentielle'!$L$4:$L$1003,'Référentiel unitaire'!$AF$32)),IF('Référentiel unitaire'!$AG$32>0,IF(INDEX('Matrice EPRO Unitaire'!$E$4:$E$503,'Référentiel unitaire'!$AG$32)="IBC / GRV","",INDEX('Matrice EPRO Unitaire'!$M$4:$M$503,'Référentiel unitaire'!$AG$32)),"")) | C31: =IF('Référentiel unitaire'!$AF$32>0,IF(ISBLANK(INDEX('Matrice EPRO Essentielle'!$K$4:$K$1003,'Référentiel unitaire'!$AF$32)),"",INDEX('Matrice EPRO Essentielle'!$K$4:$K$1003,'Référentiel unitaire'!$AF$32)),IF('Référentiel unitaire'!$AG$32>0,INDEX('Matrice EPRO Unitaire'!$J$4:$J$503,'Référentiel unitaire'!$AG$32),""))
A32: =IF('Référentiel unitaire'!$AF$33>0,IF(ISBLANK(INDEX('Matrice EPRO Essentielle'!$E$4:$E$1003,'Référentiel unitaire'!$AF$33)),"",LEFT(INDEX('Matrice EPRO Essentielle'!$E$4:$E$1003,'Référentiel unitaire'!$AF$33),1)&LEFT(INDEX('Matrice EPRO Essentielle'!$F$4:$F$1003,'Référentiel unitaire'!$AF$33),2)&LEFT(INDEX('Matrice EPRO Essentielle'!$G$4:$G$1003,'Référentiel unitaire'!$AF$33),1)&LEFT(INDEX('Matrice EPRO Essentielle'!$H$4:$H$1003,'Référentiel unitaire'!$AF$33),1)&LEFT(INDEX('Matrice EPRO Essentielle'!$I$4:$I$1003,'Référentiel unitaire'!$AF$33),2)),IF('Référentiel unitaire'!$AG$33>0,INDEX('Matrice EPRO Unitaire'!$P$4:$P$503,'Référentiel unitaire'!$AG$33),"")) | B32: =IF('Référentiel unitaire'!$AF$33>0,IF(ISBLANK(INDEX('Matrice EPRO Essentielle'!$K$4:$K$1003,'Référentiel unitaire'!$AF$33)),"",INDEX('Matrice EPRO Essentielle'!$L$4:$L$1003,'Référentiel unitaire'!$AF$33)),IF('Référentiel unitaire'!$AG$33>0,IF(INDEX('Matrice EPRO Unitaire'!$E$4:$E$503,'Référentiel unitaire'!$AG$33)="IBC / GRV","",INDEX('Matrice EPRO Unitaire'!$M$4:$M$503,'Référentiel unitaire'!$AG$33)),"")) | C32: =IF('Référentiel unitaire'!$AF$33>0,IF(ISBLANK(INDEX('Matrice EPRO Essentielle'!$K$4:$K$1003,'Référentiel unitaire'!$AF$33)),"",INDEX('Matrice EPRO Essentielle'!$K$4:$K$1003,'Référentiel unitaire'!$AF$33)),IF('Référentiel unitaire'!$AG$33>0,INDEX('Matrice EPRO Unitaire'!$J$4:$J$503,'Référentiel unitaire'!$AG$33),""))
A33: =IF('Référentiel unitaire'!$AF$34>0,IF(ISBLANK(INDEX('Matrice EPRO Essentielle'!$E$4:$E$1003,'Référentiel unitaire'!$AF$34)),"",LEFT(INDEX('Matrice EPRO Essentielle'!$E$4:$E$1003,'Référentiel unitaire'!$AF$34),1)&LEFT(INDEX('Matrice EPRO Essentielle'!$F$4:$F$1003,'Référentiel unitaire'!$AF$34),2)&LEFT(INDEX('Matrice EPRO Essentielle'!$G$4:$G$1003,'Référentiel unitaire'!$AF$34),1)&LEFT(INDEX('Matrice EPRO Essentielle'!$H$4:$H$1003,'Référentiel unitaire'!$AF$34),1)&LEFT(INDEX('Matrice EPRO Essentielle'!$I$4:$I$1003,'Référentiel unitaire'!$AF$34),2)),IF('Référentiel unitaire'!$AG$34>0,INDEX('Matrice EPRO Unitaire'!$P$4:$P$503,'Référentiel unitaire'!$AG$34),"")) | B33: =IF('Référentiel unitaire'!$AF$34>0,IF(ISBLANK(INDEX('Matrice EPRO Essentielle'!$K$4:$K$1003,'Référentiel unitaire'!$AF$34)),"",INDEX('Matrice EPRO Essentielle'!$L$4:$L$1003,'Référentiel unitaire'!$AF$34)),IF('Référentiel unitaire'!$AG$34>0,IF(INDEX('Matrice EPRO Unitaire'!$E$4:$E$503,'Référentiel unitaire'!$AG$34)="IBC / GRV","",INDEX('Matrice EPRO Unitaire'!$M$4:$M$503,'Référentiel unitaire'!$AG$34)),"")) | C33: =IF('Référentiel unitaire'!$AF$34>0,IF(ISBLANK(INDEX('Matrice EPRO Essentielle'!$K$4:$K$1003,'Référentiel unitaire'!$AF$34)),"",INDEX('Matrice EPRO Essentielle'!$K$4:$K$1003,'Référentiel unitaire'!$AF$34)),IF('Référentiel unitaire'!$AG$34>0,INDEX('Matrice EPRO Unitaire'!$J$4:$J$503,'Référentiel unitaire'!$AG$34),""))
A34: =IF('Référentiel unitaire'!$AF$35>0,IF(ISBLANK(INDEX('Matrice EPRO Essentielle'!$E$4:$E$1003,'Référentiel unitaire'!$AF$35)),"",LEFT(INDEX('Matrice EPRO Essentielle'!$E$4:$E$1003,'Référentiel unitaire'!$AF$35),1)&LEFT(INDEX('Matrice EPRO Essentielle'!$F$4:$F$1003,'Référentiel unitaire'!$AF$35),2)&LEFT(INDEX('Matrice EPRO Essentielle'!$G$4:$G$1003,'Référentiel unitaire'!$AF$35),1)&LEFT(INDEX('Matrice EPRO Essentielle'!$H$4:$H$1003,'Référentiel unitaire'!$AF$35),1)&LEFT(INDEX('Matrice EPRO Essentielle'!$I$4:$I$1003,'Référentiel unitaire'!$AF$35),2)),IF('Référentiel unitaire'!$AG$35>0,INDEX('Matrice EPRO Unitaire'!$P$4:$P$503,'Référentiel unitaire'!$AG$35),"")) | B34: =IF('Référentiel unitaire'!$AF$35>0,IF(ISBLANK(INDEX('Matrice EPRO Essentielle'!$K$4:$K$1003,'Référentiel unitaire'!$AF$35)),"",INDEX('Matrice EPRO Essentielle'!$L$4:$L$1003,'Référentiel unitaire'!$AF$35)),IF('Référentiel unitaire'!$AG$35>0,IF(INDEX('Matrice EPRO Unitaire'!$E$4:$E$503,'Référentiel unitaire'!$AG$35)="IBC / GRV","",INDEX('Matrice EPRO Unitaire'!$M$4:$M$503,'Référentiel unitaire'!$AG$35)),"")) | C34: =IF('Référentiel unitaire'!$AF$35>0,IF(ISBLANK(INDEX('Matrice EPRO Essentielle'!$K$4:$K$1003,'Référentiel unitaire'!$AF$35)),"",INDEX('Matrice EPRO Essentielle'!$K$4:$K$1003,'Référentiel unitaire'!$AF$35)),IF('Référentiel unitaire'!$AG$35>0,INDEX('Matrice EPRO Unitaire'!$J$4:$J$503,'Référentiel unitaire'!$AG$35),""))
A35: =IF('Référentiel unitaire'!$AF$36>0,IF(ISBLANK(INDEX('Matrice EPRO Essentielle'!$E$4:$E$1003,'Référentiel unitaire'!$AF$36)),"",LEFT(INDEX('Matrice EPRO Essentielle'!$E$4:$E$1003,'Référentiel unitaire'!$AF$36),1)&LEFT(INDEX('Matrice EPRO Essentielle'!$F$4:$F$1003,'Référentiel unitaire'!$AF$36),2)&LEFT(INDEX('Matrice EPRO Essentielle'!$G$4:$G$1003,'Référentiel unitaire'!$AF$36),1)&LEFT(INDEX('Matrice EPRO Essentielle'!$H$4:$H$1003,'Référentiel unitaire'!$AF$36),1)&LEFT(INDEX('Matrice EPRO Essentielle'!$I$4:$I$1003,'Référentiel unitaire'!$AF$36),2)),IF('Référentiel unitaire'!$AG$36>0,INDEX('Matrice EPRO Unitaire'!$P$4:$P$503,'Référentiel unitaire'!$AG$36),"")) | B35: =IF('Référentiel unitaire'!$AF$36>0,IF(ISBLANK(INDEX('Matrice EPRO Essentielle'!$K$4:$K$1003,'Référentiel unitaire'!$AF$36)),"",INDEX('Matrice EPRO Essentielle'!$L$4:$L$1003,'Référentiel unitaire'!$AF$36)),IF('Référentiel unitaire'!$AG$36>0,IF(INDEX('Matrice EPRO Unitaire'!$E$4:$E$503,'Référentiel unitaire'!$AG$36)="IBC / GRV","",INDEX('Matrice EPRO Unitaire'!$M$4:$M$503,'Référentiel unitaire'!$AG$36)),"")) | C35: =IF('Référentiel unitaire'!$AF$36>0,IF(ISBLANK(INDEX('Matrice EPRO Essentielle'!$K$4:$K$1003,'Référentiel unitaire'!$AF$36)),"",INDEX('Matrice EPRO Essentielle'!$K$4:$K$1003,'Référentiel unitaire'!$AF$36)),IF('Référentiel unitaire'!$AG$36>0,INDEX('Matrice EPRO Unitaire'!$J$4:$J$503,'Référentiel unitaire'!$AG$36),""))
A36: =IF('Référentiel unitaire'!$AF$37>0,IF(ISBLANK(INDEX('Matrice EPRO Essentielle'!$E$4:$E$1003,'Référentiel unitaire'!$AF$37)),"",LEFT(INDEX('Matrice EPRO Essentielle'!$E$4:$E$1003,'Référentiel unitaire'!$AF$37),1)&LEFT(INDEX('Matrice EPRO Essentielle'!$F$4:$F$1003,'Référentiel unitaire'!$AF$37),2)&LEFT(INDEX('Matrice EPRO Essentielle'!$G$4:$G$1003,'Référentiel unitaire'!$AF$37),1)&LEFT(INDEX('Matrice EPRO Essentielle'!$H$4:$H$1003,'Référentiel unitaire'!$AF$37),1)&LEFT(INDEX('Matrice EPRO Essentielle'!$I$4:$I$1003,'Référentiel unitaire'!$AF$37),2)),IF('Référentiel unitaire'!$AG$37>0,INDEX('Matrice EPRO Unitaire'!$P$4:$P$503,'Référentiel unitaire'!$AG$37),"")) | B36: =IF('Référentiel unitaire'!$AF$37>0,IF(ISBLANK(INDEX('Matrice EPRO Essentielle'!$K$4:$K$1003,'Référentiel unitaire'!$AF$37)),"",INDEX('Matrice EPRO Essentielle'!$L$4:$L$1003,'Référentiel unitaire'!$AF$37)),IF('Référentiel unitaire'!$AG$37>0,IF(INDEX('Matrice EPRO Unitaire'!$E$4:$E$503,'Référentiel unitaire'!$AG$37)="IBC / GRV","",INDEX('Matrice EPRO Unitaire'!$M$4:$M$503,'Référentiel unitaire'!$AG$37)),"")) | C36: =IF('Référentiel unitaire'!$AF$37>0,IF(ISBLANK(INDEX('Matrice EPRO Essentielle'!$K$4:$K$1003,'Référentiel unitaire'!$AF$37)),"",INDEX('Matrice EPRO Essentielle'!$K$4:$K$1003,'Référentiel unitaire'!$AF$37)),IF('Référentiel unitaire'!$AG$37>0,INDEX('Matrice EPRO Unitaire'!$J$4:$J$503,'Référentiel unitaire'!$AG$37),""))
A37: =IF('Référentiel unitaire'!$AF$38>0,IF(ISBLANK(INDEX('Matrice EPRO Essentielle'!$E$4:$E$1003,'Référentiel unitaire'!$AF$38)),"",LEFT(INDEX('Matrice EPRO Essentielle'!$E$4:$E$1003,'Référentiel unitaire'!$AF$38),1)&LEFT(INDEX('Matrice EPRO Essentielle'!$F$4:$F$1003,'Référentiel unitaire'!$AF$38),2)&LEFT(INDEX('Matrice EPRO Essentielle'!$G$4:$G$1003,'Référentiel unitaire'!$AF$38),1)&LEFT(INDEX('Matrice EPRO Essentielle'!$H$4:$H$1003,'Référentiel unitaire'!$AF$38),1)&LEFT(INDEX('Matrice EPRO Essentielle'!$I$4:$I$1003,'Référentiel unitaire'!$AF$38),2)),IF('Référentiel unitaire'!$AG$38>0,INDEX('Matrice EPRO Unitaire'!$P$4:$P$503,'Référentiel unitaire'!$AG$38),"")) | B37: =IF('Référentiel unitaire'!$AF$38>0,IF(ISBLANK(INDEX('Matrice EPRO Essentielle'!$K$4:$K$1003,'Référentiel unitaire'!$AF$38)),"",INDEX('Matrice EPRO Essentielle'!$L$4:$L$1003,'Référentiel unitaire'!$AF$38)),IF('Référentiel unitaire'!$AG$38>0,IF(INDEX('Matrice EPRO Unitaire'!$E$4:$E$503,'Référentiel unitaire'!$AG$38)="IBC / GRV","",INDEX('Matrice EPRO Unitaire'!$M$4:$M$503,'Référentiel unitaire'!$AG$38)),"")) | C37: =IF('Référentiel unitaire'!$AF$38>0,IF(ISBLANK(INDEX('Matrice EPRO Essentielle'!$K$4:$K$1003,'Référentiel unitaire'!$AF$38)),"",INDEX('Matrice EPRO Essentielle'!$K$4:$K$1003,'Référentiel unitaire'!$AF$38)),IF('Référentiel unitaire'!$AG$38>0,INDEX('Matrice EPRO Unitaire'!$J$4:$J$503,'Référentiel unitaire'!$AG$38),""))
A38: =IF('Référentiel unitaire'!$AF$39>0,IF(ISBLANK(INDEX('Matrice EPRO Essentielle'!$E$4:$E$1003,'Référentiel unitaire'!$AF$39)),"",LEFT(INDEX('Matrice EPRO Essentielle'!$E$4:$E$1003,'Référentiel unitaire'!$AF$39),1)&LEFT(INDEX('Matrice EPRO Essentielle'!$F$4:$F$1003,'Référentiel unitaire'!$AF$39),2)&LEFT(INDEX('Matrice EPRO Essentielle'!$G$4:$G$1003,'Référentiel unitaire'!$AF$39),1)&LEFT(INDEX('Matrice EPRO Essentielle'!$H$4:$H$1003,'Référentiel unitaire'!$AF$39),1)&LEFT(INDEX('Matrice EPRO Essentielle'!$I$4:$I$1003,'Référentiel unitaire'!$AF$39),2)),IF('Référentiel unitaire'!$AG$39>0,INDEX('Matrice EPRO Unitaire'!$P$4:$P$503,'Référentiel unitaire'!$AG$39),"")) | B38: =IF('Référentiel unitaire'!$AF$39>0,IF(ISBLANK(INDEX('Matrice EPRO Essentielle'!$K$4:$K$1003,'Référentiel unitaire'!$AF$39)),"",INDEX('Matrice EPRO Essentielle'!$L$4:$L$1003,'Référentiel unitaire'!$AF$39)),IF('Référentiel unitaire'!$AG$39>0,IF(INDEX('Matrice EPRO Unitaire'!$E$4:$E$503,'Référentiel unitaire'!$AG$39)="IBC / GRV","",INDEX('Matrice EPRO Unitaire'!$M$4:$M$503,'Référentiel unitaire'!$AG$39)),"")) | C38: =IF('Référentiel unitaire'!$AF$39>0,IF(ISBLANK(INDEX('Matrice EPRO Essentielle'!$K$4:$K$1003,'Référentiel unitaire'!$AF$39)),"",INDEX('Matrice EPRO Essentielle'!$K$4:$K$1003,'Référentiel unitaire'!$AF$39)),IF('Référentiel unitaire'!$AG$39>0,INDEX('Matrice EPRO Unitaire'!$J$4:$J$503,'Référentiel unitaire'!$AG$39),""))
A39: =IF('Référentiel unitaire'!$AF$40>0,IF(ISBLANK(INDEX('Matrice EPRO Essentielle'!$E$4:$E$1003,'Référentiel unitaire'!$AF$40)),"",LEFT(INDEX('Matrice EPRO Essentielle'!$E$4:$E$1003,'Référentiel unitaire'!$AF$40),1)&LEFT(INDEX('Matrice EPRO Essentielle'!$F$4:$F$1003,'Référentiel unitaire'!$AF$40),2)&LEFT(INDEX('Matrice EPRO Essentielle'!$G$4:$G$1003,'Référentiel unitaire'!$AF$40),1)&LEFT(INDEX('Matrice EPRO Essentielle'!$H$4:$H$1003,'Référentiel unitaire'!$AF$40),1)&LEFT(INDEX('Matrice EPRO Essentielle'!$I$4:$I$1003,'Référentiel unitaire'!$AF$40),2)),IF('Référentiel unitaire'!$AG$40>0,INDEX('Matrice EPRO Unitaire'!$P$4:$P$503,'Référentiel unitaire'!$AG$40),"")) | B39: =IF('Référentiel unitaire'!$AF$40>0,IF(ISBLANK(INDEX('Matrice EPRO Essentielle'!$K$4:$K$1003,'Référentiel unitaire'!$AF$40)),"",INDEX('Matrice EPRO Essentielle'!$L$4:$L$1003,'Référentiel unitaire'!$AF$40)),IF('Référentiel unitaire'!$AG$40>0,IF(INDEX('Matrice EPRO Unitaire'!$E$4:$E$503,'Référentiel unitaire'!$AG$40)="IBC / GRV","",INDEX('Matrice EPRO Unitaire'!$M$4:$M$503,'Référentiel unitaire'!$AG$40)),"")) | C39: =IF('Référentiel unitaire'!$AF$40>0,IF(ISBLANK(INDEX('Matrice EPRO Essentielle'!$K$4:$K$1003,'Référentiel unitaire'!$AF$40)),"",INDEX('Matrice EPRO Essentielle'!$K$4:$K$1003,'Référentiel unitaire'!$AF$40)),IF('Référentiel unitaire'!$AG$40>0,INDEX('Matrice EPRO Unitaire'!$J$4:$J$503,'Référentiel unitaire'!$AG$40),""))
A40: =IF('Référentiel unitaire'!$AF$41>0,IF(ISBLANK(INDEX('Matrice EPRO Essentielle'!$E$4:$E$1003,'Référentiel unitaire'!$AF$41)),"",LEFT(INDEX('Matrice EPRO Essentielle'!$E$4:$E$1003,'Référentiel unitaire'!$AF$41),1)&LEFT(INDEX('Matrice EPRO Essentielle'!$F$4:$F$1003,'Référentiel unitaire'!$AF$41),2)&LEFT(INDEX('Matrice EPRO Essentielle'!$G$4:$G$1003,'Référentiel unitaire'!$AF$41),1)&LEFT(INDEX('Matrice EPRO Essentielle'!$H$4:$H$1003,'Référentiel unitaire'!$AF$41),1)&LEFT(INDEX('Matrice EPRO Essentielle'!$I$4:$I$1003,'Référentiel unitaire'!$AF$41),2)),IF('Référentiel unitaire'!$AG$41>0,INDEX('Matrice EPRO Unitaire'!$P$4:$P$503,'Référentiel unitaire'!$AG$41),"")) | B40: =IF('Référentiel unitaire'!$AF$41>0,IF(ISBLANK(INDEX('Matrice EPRO Essentielle'!$K$4:$K$1003,'Référentiel unitaire'!$AF$41)),"",INDEX('Matrice EPRO Essentielle'!$L$4:$L$1003,'Référentiel unitaire'!$AF$41)),IF('Référentiel unitaire'!$AG$41>0,IF(INDEX('Matrice EPRO Unitaire'!$E$4:$E$503,'Référentiel unitaire'!$AG$41)="IBC / GRV","",INDEX('Matrice EPRO Unitaire'!$M$4:$M$503,'Référentiel unitaire'!$AG$41)),"")) | C40: =IF('Référentiel unitaire'!$AF$41>0,IF(ISBLANK(INDEX('Matrice EPRO Essentielle'!$K$4:$K$1003,'Référentiel unitaire'!$AF$41)),"",INDEX('Matrice EPRO Essentielle'!$K$4:$K$1003,'Référentiel unitaire'!$AF$41)),IF('Référentiel unitaire'!$AG$41>0,INDEX('Matrice EPRO Unitaire'!$J$4:$J$503,'Référentiel unitaire'!$AG$41),""))
A41: =IF('Référentiel unitaire'!$AF$42>0,IF(ISBLANK(INDEX('Matrice EPRO Essentielle'!$E$4:$E$1003,'Référentiel unitaire'!$AF$42)),"",LEFT(INDEX('Matrice EPRO Essentielle'!$E$4:$E$1003,'Référentiel unitaire'!$AF$42),1)&LEFT(INDEX('Matrice EPRO Essentielle'!$F$4:$F$1003,'Référentiel unitaire'!$AF$42),2)&LEFT(INDEX('Matrice EPRO Essentielle'!$G$4:$G$1003,'Référentiel unitaire'!$AF$42),1)&LEFT(INDEX('Matrice EPRO Essentielle'!$H$4:$H$1003,'Référentiel unitaire'!$AF$42),1)&LEFT(INDEX('Matrice EPRO Essentielle'!$I$4:$I$1003,'Référentiel unitaire'!$AF$42),2)),IF('Référentiel unitaire'!$AG$42>0,INDEX('Matrice EPRO Unitaire'!$P$4:$P$503,'Référentiel unitaire'!$AG$42),"")) | B41: =IF('Référentiel unitaire'!$AF$42>0,IF(ISBLANK(INDEX('Matrice EPRO Essentielle'!$K$4:$K$1003,'Référentiel unitaire'!$AF$42)),"",INDEX('Matrice EPRO Essentielle'!$L$4:$L$1003,'Référentiel unitaire'!$AF$42)),IF('Référentiel unitaire'!$AG$42>0,IF(INDEX('Matrice EPRO Unitaire'!$E$4:$E$503,'Référentiel unitaire'!$AG$42)="IBC / GRV","",INDEX('Matrice EPRO Unitaire'!$M$4:$M$503,'Référentiel unitaire'!$AG$42)),"")) | C41: =IF('Référentiel unitaire'!$AF$42>0,IF(ISBLANK(INDEX('Matrice EPRO Essentielle'!$K$4:$K$1003,'Référentiel unitaire'!$AF$42)),"",INDEX('Matrice EPRO Essentielle'!$K$4:$K$1003,'Référentiel unitaire'!$AF$42)),IF('Référentiel unitaire'!$AG$42>0,INDEX('Matrice EPRO Unitaire'!$J$4:$J$503,'Référentiel unitaire'!$AG$42),""))
A42: =IF('Référentiel unitaire'!$AF$43>0,IF(ISBLANK(INDEX('Matrice EPRO Essentielle'!$E$4:$E$1003,'Référentiel unitaire'!$AF$43)),"",LEFT(INDEX('Matrice EPRO Essentielle'!$E$4:$E$1003,'Référentiel unitaire'!$AF$43),1)&LEFT(INDEX('Matrice EPRO Essentielle'!$F$4:$F$1003,'Référentiel unitaire'!$AF$43),2)&LEFT(INDEX('Matrice EPRO Essentielle'!$G$4:$G$1003,'Référentiel unitaire'!$AF$43),1)&LEFT(INDEX('Matrice EPRO Essentielle'!$H$4:$H$1003,'Référentiel unitaire'!$AF$43),1)&LEFT(INDEX('Matrice EPRO Essentielle'!$I$4:$I$1003,'Référentiel unitaire'!$AF$43),2)),IF('Référentiel unitaire'!$AG$43>0,INDEX('Matrice EPRO Unitaire'!$P$4:$P$503,'Référentiel unitaire'!$AG$43),"")) | B42: =IF('Référentiel unitaire'!$AF$43>0,IF(ISBLANK(INDEX('Matrice EPRO Essentielle'!$K$4:$K$1003,'Référentiel unitaire'!$AF$43)),"",INDEX('Matrice EPRO Essentielle'!$L$4:$L$1003,'Référentiel unitaire'!$AF$43)),IF('Référentiel unitaire'!$AG$43>0,IF(INDEX('Matrice EPRO Unitaire'!$E$4:$E$503,'Référentiel unitaire'!$AG$43)="IBC / GRV","",INDEX('Matrice EPRO Unitaire'!$M$4:$M$503,'Référentiel unitaire'!$AG$43)),"")) | C42: =IF('Référentiel unitaire'!$AF$43>0,IF(ISBLANK(INDEX('Matrice EPRO Essentielle'!$K$4:$K$1003,'Référentiel unitaire'!$AF$43)),"",INDEX('Matrice EPRO Essentielle'!$K$4:$K$1003,'Référentiel unitaire'!$AF$43)),IF('Référentiel unitaire'!$AG$43>0,INDEX('Matrice EPRO Unitaire'!$J$4:$J$503,'Référentiel unitaire'!$AG$43),""))
A43: =IF('Référentiel unitaire'!$AF$44>0,IF(ISBLANK(INDEX('Matrice EPRO Essentielle'!$E$4:$E$1003,'Référentiel unitaire'!$AF$44)),"",LEFT(INDEX('Matrice EPRO Essentielle'!$E$4:$E$1003,'Référentiel unitaire'!$AF$44),1)&LEFT(INDEX('Matrice EPRO Essentielle'!$F$4:$F$1003,'Référentiel unitaire'!$AF$44),2)&LEFT(INDEX('Matrice EPRO Essentielle'!$G$4:$G$1003,'Référentiel unitaire'!$AF$44),1)&LEFT(INDEX('Matrice EPRO Essentielle'!$H$4:$H$1003,'Référentiel unitaire'!$AF$44),1)&LEFT(INDEX('Matrice EPRO Essentielle'!$I$4:$I$1003,'Référentiel unitaire'!$AF$44),2)),IF('Référentiel unitaire'!$AG$44>0,INDEX('Matrice EPRO Unitaire'!$P$4:$P$503,'Référentiel unitaire'!$AG$44),"")) | B43: =IF('Référentiel unitaire'!$AF$44>0,IF(ISBLANK(INDEX('Matrice EPRO Essentielle'!$K$4:$K$1003,'Référentiel unitaire'!$AF$44)),"",INDEX('Matrice EPRO Essentielle'!$L$4:$L$1003,'Référentiel unitaire'!$AF$44)),IF('Référentiel unitaire'!$AG$44>0,IF(INDEX('Matrice EPRO Unitaire'!$E$4:$E$503,'Référentiel unitaire'!$AG$44)="IBC / GRV","",INDEX('Matrice EPRO Unitaire'!$M$4:$M$503,'Référentiel unitaire'!$AG$44)),"")) | C43: =IF('Référentiel unitaire'!$AF$44>0,IF(ISBLANK(INDEX('Matrice EPRO Essentielle'!$K$4:$K$1003,'Référentiel unitaire'!$AF$44)),"",INDEX('Matrice EPRO Essentielle'!$K$4:$K$1003,'Référentiel unitaire'!$AF$44)),IF('Référentiel unitaire'!$AG$44>0,INDEX('Matrice EPRO Unitaire'!$J$4:$J$503,'Référentiel unitaire'!$AG$44),""))
A44: =IF('Référentiel unitaire'!$AF$45>0,IF(ISBLANK(INDEX('Matrice EPRO Essentielle'!$E$4:$E$1003,'Référentiel unitaire'!$AF$45)),"",LEFT(INDEX('Matrice EPRO Essentielle'!$E$4:$E$1003,'Référentiel unitaire'!$AF$45),1)&LEFT(INDEX('Matrice EPRO Essentielle'!$F$4:$F$1003,'Référentiel unitaire'!$AF$45),2)&LEFT(INDEX('Matrice EPRO Essentielle'!$G$4:$G$1003,'Référentiel unitaire'!$AF$45),1)&LEFT(INDEX('Matrice EPRO Essentielle'!$H$4:$H$1003,'Référentiel unitaire'!$AF$45),1)&LEFT(INDEX('Matrice EPRO Essentielle'!$I$4:$I$1003,'Référentiel unitaire'!$AF$45),2)),IF('Référentiel unitaire'!$AG$45>0,INDEX('Matrice EPRO Unitaire'!$P$4:$P$503,'Référentiel unitaire'!$AG$45),"")) | B44: =IF('Référentiel unitaire'!$AF$45>0,IF(ISBLANK(INDEX('Matrice EPRO Essentielle'!$K$4:$K$1003,'Référentiel unitaire'!$AF$45)),"",INDEX('Matrice EPRO Essentielle'!$L$4:$L$1003,'Référentiel unitaire'!$AF$45)),IF('Référentiel unitaire'!$AG$45>0,IF(INDEX('Matrice EPRO Unitaire'!$E$4:$E$503,'Référentiel unitaire'!$AG$45)="IBC / GRV","",INDEX('Matrice EPRO Unitaire'!$M$4:$M$503,'Référentiel unitaire'!$AG$45)),"")) | C44: =IF('Référentiel unitaire'!$AF$45>0,IF(ISBLANK(INDEX('Matrice EPRO Essentielle'!$K$4:$K$1003,'Référentiel unitaire'!$AF$45)),"",INDEX('Matrice EPRO Essentielle'!$K$4:$K$1003,'Référentiel unitaire'!$AF$45)),IF('Référentiel unitaire'!$AG$45>0,INDEX('Matrice EPRO Unitaire'!$J$4:$J$503,'Référentiel unitaire'!$AG$45),""))
A45: =IF('Référentiel unitaire'!$AF$46>0,IF(ISBLANK(INDEX('Matrice EPRO Essentielle'!$E$4:$E$1003,'Référentiel unitaire'!$AF$46)),"",LEFT(INDEX('Matrice EPRO Essentielle'!$E$4:$E$1003,'Référentiel unitaire'!$AF$46),1)&LEFT(INDEX('Matrice EPRO Essentielle'!$F$4:$F$1003,'Référentiel unitaire'!$AF$46),2)&LEFT(INDEX('Matrice EPRO Essentielle'!$G$4:$G$1003,'Référentiel unitaire'!$AF$46),1)&LEFT(INDEX('Matrice EPRO Essentielle'!$H$4:$H$1003,'Référentiel unitaire'!$AF$46),1)&LEFT(INDEX('Matrice EPRO Essentielle'!$I$4:$I$1003,'Référentiel unitaire'!$AF$46),2)),IF('Référentiel unitaire'!$AG$46>0,INDEX('Matrice EPRO Unitaire'!$P$4:$P$503,'Référentiel unitaire'!$AG$46),"")) | B45: =IF('Référentiel unitaire'!$AF$46>0,IF(ISBLANK(INDEX('Matrice EPRO Essentielle'!$K$4:$K$1003,'Référentiel unitaire'!$AF$46)),"",INDEX('Matrice EPRO Essentielle'!$L$4:$L$1003,'Référentiel unitaire'!$AF$46)),IF('Référentiel unitaire'!$AG$46>0,IF(INDEX('Matrice EPRO Unitaire'!$E$4:$E$503,'Référentiel unitaire'!$AG$46)="IBC / GRV","",INDEX('Matrice EPRO Unitaire'!$M$4:$M$503,'Référentiel unitaire'!$AG$46)),"")) | C45: =IF('Référentiel unitaire'!$AF$46>0,IF(ISBLANK(INDEX('Matrice EPRO Essentielle'!$K$4:$K$1003,'Référentiel unitaire'!$AF$46)),"",INDEX('Matrice EPRO Essentielle'!$K$4:$K$1003,'Référentiel unitaire'!$AF$46)),IF('Référentiel unitaire'!$AG$46>0,INDEX('Matrice EPRO Unitaire'!$J$4:$J$503,'Référentiel unitaire'!$AG$46),""))
A46: =IF('Référentiel unitaire'!$AF$47>0,IF(ISBLANK(INDEX('Matrice EPRO Essentielle'!$E$4:$E$1003,'Référentiel unitaire'!$AF$47)),"",LEFT(INDEX('Matrice EPRO Essentielle'!$E$4:$E$1003,'Référentiel unitaire'!$AF$47),1)&LEFT(INDEX('Matrice EPRO Essentielle'!$F$4:$F$1003,'Référentiel unitaire'!$AF$47),2)&LEFT(INDEX('Matrice EPRO Essentielle'!$G$4:$G$1003,'Référentiel unitaire'!$AF$47),1)&LEFT(INDEX('Matrice EPRO Essentielle'!$H$4:$H$1003,'Référentiel unitaire'!$AF$47),1)&LEFT(INDEX('Matrice EPRO Essentielle'!$I$4:$I$1003,'Référentiel unitaire'!$AF$47),2)),IF('Référentiel unitaire'!$AG$47>0,INDEX('Matrice EPRO Unitaire'!$P$4:$P$503,'Référentiel unitaire'!$AG$47),"")) | B46: =IF('Référentiel unitaire'!$AF$47>0,IF(ISBLANK(INDEX('Matrice EPRO Essentielle'!$K$4:$K$1003,'Référentiel unitaire'!$AF$47)),"",INDEX('Matrice EPRO Essentielle'!$L$4:$L$1003,'Référentiel unitaire'!$AF$47)),IF('Référentiel unitaire'!$AG$47>0,IF(INDEX('Matrice EPRO Unitaire'!$E$4:$E$503,'Référentiel unitaire'!$AG$47)="IBC / GRV","",INDEX('Matrice EPRO Unitaire'!$M$4:$M$503,'Référentiel unitaire'!$AG$47)),"")) | C46: =IF('Référentiel unitaire'!$AF$47>0,IF(ISBLANK(INDEX('Matrice EPRO Essentielle'!$K$4:$K$1003,'Référentiel unitaire'!$AF$47)),"",INDEX('Matrice EPRO Essentielle'!$K$4:$K$1003,'Référentiel unitaire'!$AF$47)),IF('Référentiel unitaire'!$AG$47>0,INDEX('Matrice EPRO Unitaire'!$J$4:$J$503,'Référentiel unitaire'!$AG$47),""))
A47: =IF('Référentiel unitaire'!$AF$48>0,IF(ISBLANK(INDEX('Matrice EPRO Essentielle'!$E$4:$E$1003,'Référentiel unitaire'!$AF$48)),"",LEFT(INDEX('Matrice EPRO Essentielle'!$E$4:$E$1003,'Référentiel unitaire'!$AF$48),1)&LEFT(INDEX('Matrice EPRO Essentielle'!$F$4:$F$1003,'Référentiel unitaire'!$AF$48),2)&LEFT(INDEX('Matrice EPRO Essentielle'!$G$4:$G$1003,'Référentiel unitaire'!$AF$48),1)&LEFT(INDEX('Matrice EPRO Essentielle'!$H$4:$H$1003,'Référentiel unitaire'!$AF$48),1)&LEFT(INDEX('Matrice EPRO Essentielle'!$I$4:$I$1003,'Référentiel unitaire'!$AF$48),2)),IF('Référentiel unitaire'!$AG$48>0,INDEX('Matrice EPRO Unitaire'!$P$4:$P$503,'Référentiel unitaire'!$AG$48),"")) | B47: =IF('Référentiel unitaire'!$AF$48>0,IF(ISBLANK(INDEX('Matrice EPRO Essentielle'!$K$4:$K$1003,'Référentiel unitaire'!$AF$48)),"",INDEX('Matrice EPRO Essentielle'!$L$4:$L$1003,'Référentiel unitaire'!$AF$48)),IF('Référentiel unitaire'!$AG$48>0,IF(INDEX('Matrice EPRO Unitaire'!$E$4:$E$503,'Référentiel unitaire'!$AG$48)="IBC / GRV","",INDEX('Matrice EPRO Unitaire'!$M$4:$M$503,'Référentiel unitaire'!$AG$48)),"")) | C47: =IF('Référentiel unitaire'!$AF$48>0,IF(ISBLANK(INDEX('Matrice EPRO Essentielle'!$K$4:$K$1003,'Référentiel unitaire'!$AF$48)),"",INDEX('Matrice EPRO Essentielle'!$K$4:$K$1003,'Référentiel unitaire'!$AF$48)),IF('Référentiel unitaire'!$AG$48>0,INDEX('Matrice EPRO Unitaire'!$J$4:$J$503,'Référentiel unitaire'!$AG$48),""))
A48: =IF('Référentiel unitaire'!$AF$49>0,IF(ISBLANK(INDEX('Matrice EPRO Essentielle'!$E$4:$E$1003,'Référentiel unitaire'!$AF$49)),"",LEFT(INDEX('Matrice EPRO Essentielle'!$E$4:$E$1003,'Référentiel unitaire'!$AF$49),1)&LEFT(INDEX('Matrice EPRO Essentielle'!$F$4:$F$1003,'Référentiel unitaire'!$AF$49),2)&LEFT(INDEX('Matrice EPRO Essentielle'!$G$4:$G$1003,'Référentiel unitaire'!$AF$49),1)&LEFT(INDEX('Matrice EPRO Essentielle'!$H$4:$H$1003,'Référentiel unitaire'!$AF$49),1)&LEFT(INDEX('Matrice EPRO Essentielle'!$I$4:$I$1003,'Référentiel unitaire'!$AF$49),2)),IF('Référentiel unitaire'!$AG$49>0,INDEX('Matrice EPRO Unitaire'!$P$4:$P$503,'Référentiel unitaire'!$AG$49),"")) | B48: =IF('Référentiel unitaire'!$AF$49>0,IF(ISBLANK(INDEX('Matrice EPRO Essentielle'!$K$4:$K$1003,'Référentiel unitaire'!$AF$49)),"",INDEX('Matrice EPRO Essentielle'!$L$4:$L$1003,'Référentiel unitaire'!$AF$49)),IF('Référentiel unitaire'!$AG$49>0,IF(INDEX('Matrice EPRO Unitaire'!$E$4:$E$503,'Référentiel unitaire'!$AG$49)="IBC / GRV","",INDEX('Matrice EPRO Unitaire'!$M$4:$M$503,'Référentiel unitaire'!$AG$49)),"")) | C48: =IF('Référentiel unitaire'!$AF$49>0,IF(ISBLANK(INDEX('Matrice EPRO Essentielle'!$K$4:$K$1003,'Référentiel unitaire'!$AF$49)),"",INDEX('Matrice EPRO Essentielle'!$K$4:$K$1003,'Référentiel unitaire'!$AF$49)),IF('Référentiel unitaire'!$AG$49>0,INDEX('Matrice EPRO Unitaire'!$J$4:$J$503,'Référentiel unitaire'!$AG$49),""))
A49: =IF('Référentiel unitaire'!$AF$50>0,IF(ISBLANK(INDEX('Matrice EPRO Essentielle'!$E$4:$E$1003,'Référentiel unitaire'!$AF$50)),"",LEFT(INDEX('Matrice EPRO Essentielle'!$E$4:$E$1003,'Référentiel unitaire'!$AF$50),1)&LEFT(INDEX('Matrice EPRO Essentielle'!$F$4:$F$1003,'Référentiel unitaire'!$AF$50),2)&LEFT(INDEX('Matrice EPRO Essentielle'!$G$4:$G$1003,'Référentiel unitaire'!$AF$50),1)&LEFT(INDEX('Matrice EPRO Essentielle'!$H$4:$H$1003,'Référentiel unitaire'!$AF$50),1)&LEFT(INDEX('Matrice EPRO Essentielle'!$I$4:$I$1003,'Référentiel unitaire'!$AF$50),2)),IF('Référentiel unitaire'!$AG$50>0,INDEX('Matrice EPRO Unitaire'!$P$4:$P$503,'Référentiel unitaire'!$AG$50),"")) | B49: =IF('Référentiel unitaire'!$AF$50>0,IF(ISBLANK(INDEX('Matrice EPRO Essentielle'!$K$4:$K$1003,'Référentiel unitaire'!$AF$50)),"",INDEX('Matrice EPRO Essentielle'!$L$4:$L$1003,'Référentiel unitaire'!$AF$50)),IF('Référentiel unitaire'!$AG$50>0,IF(INDEX('Matrice EPRO Unitaire'!$E$4:$E$503,'Référentiel unitaire'!$AG$50)="IBC / GRV","",INDEX('Matrice EPRO Unitaire'!$M$4:$M$503,'Référentiel unitaire'!$AG$50)),"")) | C49: =IF('Référentiel unitaire'!$AF$50>0,IF(ISBLANK(INDEX('Matrice EPRO Essentielle'!$K$4:$K$1003,'Référentiel unitaire'!$AF$50)),"",INDEX('Matrice EPRO Essentielle'!$K$4:$K$1003,'Référentiel unitaire'!$AF$50)),IF('Référentiel unitaire'!$AG$50>0,INDEX('Matrice EPRO Unitaire'!$J$4:$J$503,'Référentiel unitaire'!$AG$50),""))
A50: =IF('Référentiel unitaire'!$AF$51>0,IF(ISBLANK(INDEX('Matrice EPRO Essentielle'!$E$4:$E$1003,'Référentiel unitaire'!$AF$51)),"",LEFT(INDEX('Matrice EPRO Essentielle'!$E$4:$E$1003,'Référentiel unitaire'!$AF$51),1)&LEFT(INDEX('Matrice EPRO Essentielle'!$F$4:$F$1003,'Référentiel unitaire'!$AF$51),2)&LEFT(INDEX('Matrice EPRO Essentielle'!$G$4:$G$1003,'Référentiel unitaire'!$AF$51),1)&LEFT(INDEX('Matrice EPRO Essentielle'!$H$4:$H$1003,'Référentiel unitaire'!$AF$51),1)&LEFT(INDEX('Matrice EPRO Essentielle'!$I$4:$I$1003,'Référentiel unitaire'!$AF$51),2)),IF('Référentiel unitaire'!$AG$51>0,INDEX('Matrice EPRO Unitaire'!$P$4:$P$503,'Référentiel unitaire'!$AG$51),"")) | B50: =IF('Référentiel unitaire'!$AF$51>0,IF(ISBLANK(INDEX('Matrice EPRO Essentielle'!$K$4:$K$1003,'Référentiel unitaire'!$AF$51)),"",INDEX('Matrice EPRO Essentielle'!$L$4:$L$1003,'Référentiel unitaire'!$AF$51)),IF('Référentiel unitaire'!$AG$51>0,IF(INDEX('Matrice EPRO Unitaire'!$E$4:$E$503,'Référentiel unitaire'!$AG$51)="IBC / GRV","",INDEX('Matrice EPRO Unitaire'!$M$4:$M$503,'Référentiel unitaire'!$AG$51)),"")) | C50: =IF('Référentiel unitaire'!$AF$51>0,IF(ISBLANK(INDEX('Matrice EPRO Essentielle'!$K$4:$K$1003,'Référentiel unitaire'!$AF$51)),"",INDEX('Matrice EPRO Essentielle'!$K$4:$K$1003,'Référentiel unitaire'!$AF$51)),IF('Référentiel unitaire'!$AG$51>0,INDEX('Matrice EPRO Unitaire'!$J$4:$J$503,'Référentiel unitaire'!$AG$51),""))
A51: =IF('Référentiel unitaire'!$AF$52>0,IF(ISBLANK(INDEX('Matrice EPRO Essentielle'!$E$4:$E$1003,'Référentiel unitaire'!$AF$52)),"",LEFT(INDEX('Matrice EPRO Essentielle'!$E$4:$E$1003,'Référentiel unitaire'!$AF$52),1)&LEFT(INDEX('Matrice EPRO Essentielle'!$F$4:$F$1003,'Référentiel unitaire'!$AF$52),2)&LEFT(INDEX('Matrice EPRO Essentielle'!$G$4:$G$1003,'Référentiel unitaire'!$AF$52),1)&LEFT(INDEX('Matrice EPRO Essentielle'!$H$4:$H$1003,'Référentiel unitaire'!$AF$52),1)&LEFT(INDEX('Matrice EPRO Essentielle'!$I$4:$I$1003,'Référentiel unitaire'!$AF$52),2)),IF('Référentiel unitaire'!$AG$52>0,INDEX('Matrice EPRO Unitaire'!$P$4:$P$503,'Référentiel unitaire'!$AG$52),"")) | B51: =IF('Référentiel unitaire'!$AF$52>0,IF(ISBLANK(INDEX('Matrice EPRO Essentielle'!$K$4:$K$1003,'Référentiel unitaire'!$AF$52)),"",INDEX('Matrice EPRO Essentielle'!$L$4:$L$1003,'Référentiel unitaire'!$AF$52)),IF('Référentiel unitaire'!$AG$52>0,IF(INDEX('Matrice EPRO Unitaire'!$E$4:$E$503,'Référentiel unitaire'!$AG$52)="IBC / GRV","",INDEX('Matrice EPRO Unitaire'!$M$4:$M$503,'Référentiel unitaire'!$AG$52)),"")) | C51: =IF('Référentiel unitaire'!$AF$52>0,IF(ISBLANK(INDEX('Matrice EPRO Essentielle'!$K$4:$K$1003,'Référentiel unitaire'!$AF$52)),"",INDEX('Matrice EPRO Essentielle'!$K$4:$K$1003,'Référentiel unitaire'!$AF$52)),IF('Référentiel unitaire'!$AG$52>0,INDEX('Matrice EPRO Unitaire'!$J$4:$J$503,'Référentiel unitaire'!$AG$52),""))
A52: =IF('Référentiel unitaire'!$AF$53>0,IF(ISBLANK(INDEX('Matrice EPRO Essentielle'!$E$4:$E$1003,'Référentiel unitaire'!$AF$53)),"",LEFT(INDEX('Matrice EPRO Essentielle'!$E$4:$E$1003,'Référentiel unitaire'!$AF$53),1)&LEFT(INDEX('Matrice EPRO Essentielle'!$F$4:$F$1003,'Référentiel unitaire'!$AF$53),2)&LEFT(INDEX('Matrice EPRO Essentielle'!$G$4:$G$1003,'Référentiel unitaire'!$AF$53),1)&LEFT(INDEX('Matrice EPRO Essentielle'!$H$4:$H$1003,'Référentiel unitaire'!$AF$53),1)&LEFT(INDEX('Matrice EPRO Essentielle'!$I$4:$I$1003,'Référentiel unitaire'!$AF$53),2)),IF('Référentiel unitaire'!$AG$53>0,INDEX('Matrice EPRO Unitaire'!$P$4:$P$503,'Référentiel unitaire'!$AG$53),"")) | B52: =IF('Référentiel unitaire'!$AF$53>0,IF(ISBLANK(INDEX('Matrice EPRO Essentielle'!$K$4:$K$1003,'Référentiel unitaire'!$AF$53)),"",INDEX('Matrice EPRO Essentielle'!$L$4:$L$1003,'Référentiel unitaire'!$AF$53)),IF('Référentiel unitaire'!$AG$53>0,IF(INDEX('Matrice EPRO Unitaire'!$E$4:$E$503,'Référentiel unitaire'!$AG$53)="IBC / GRV","",INDEX('Matrice EPRO Unitaire'!$M$4:$M$503,'Référentiel unitaire'!$AG$53)),"")) | C52: =IF('Référentiel unitaire'!$AF$53>0,IF(ISBLANK(INDEX('Matrice EPRO Essentielle'!$K$4:$K$1003,'Référentiel unitaire'!$AF$53)),"",INDEX('Matrice EPRO Essentielle'!$K$4:$K$1003,'Référentiel unitaire'!$AF$53)),IF('Référentiel unitaire'!$AG$53>0,INDEX('Matrice EPRO Unitaire'!$J$4:$J$503,'Référentiel unitaire'!$AG$53),""))
A53: =IF('Référentiel unitaire'!$AF$54>0,IF(ISBLANK(INDEX('Matrice EPRO Essentielle'!$E$4:$E$1003,'Référentiel unitaire'!$AF$54)),"",LEFT(INDEX('Matrice EPRO Essentielle'!$E$4:$E$1003,'Référentiel unitaire'!$AF$54),1)&LEFT(INDEX('Matrice EPRO Essentielle'!$F$4:$F$1003,'Référentiel unitaire'!$AF$54),2)&LEFT(INDEX('Matrice EPRO Essentielle'!$G$4:$G$1003,'Référentiel unitaire'!$AF$54),1)&LEFT(INDEX('Matrice EPRO Essentielle'!$H$4:$H$1003,'Référentiel unitaire'!$AF$54),1)&LEFT(INDEX('Matrice EPRO Essentielle'!$I$4:$I$1003,'Référentiel unitaire'!$AF$54),2)),IF('Référentiel unitaire'!$AG$54>0,INDEX('Matrice EPRO Unitaire'!$P$4:$P$503,'Référentiel unitaire'!$AG$54),"")) | B53: =IF('Référentiel unitaire'!$AF$54>0,IF(ISBLANK(INDEX('Matrice EPRO Essentielle'!$K$4:$K$1003,'Référentiel unitaire'!$AF$54)),"",INDEX('Matrice EPRO Essentielle'!$L$4:$L$1003,'Référentiel unitaire'!$AF$54)),IF('Référentiel unitaire'!$AG$54>0,IF(INDEX('Matrice EPRO Unitaire'!$E$4:$E$503,'Référentiel unitaire'!$AG$54)="IBC / GRV","",INDEX('Matrice EPRO Unitaire'!$M$4:$M$503,'Référentiel unitaire'!$AG$54)),"")) | C53: =IF('Référentiel unitaire'!$AF$54>0,IF(ISBLANK(INDEX('Matrice EPRO Essentielle'!$K$4:$K$1003,'Référentiel unitaire'!$AF$54)),"",INDEX('Matrice EPRO Essentielle'!$K$4:$K$1003,'Référentiel unitaire'!$AF$54)),IF('Référentiel unitaire'!$AG$54>0,INDEX('Matrice EPRO Unitaire'!$J$4:$J$503,'Référentiel unitaire'!$AG$54),""))
A54: =IF('Référentiel unitaire'!$AF$55>0,IF(ISBLANK(INDEX('Matrice EPRO Essentielle'!$E$4:$E$1003,'Référentiel unitaire'!$AF$55)),"",LEFT(INDEX('Matrice EPRO Essentielle'!$E$4:$E$1003,'Référentiel unitaire'!$AF$55),1)&LEFT(INDEX('Matrice EPRO Essentielle'!$F$4:$F$1003,'Référentiel unitaire'!$AF$55),2)&LEFT(INDEX('Matrice EPRO Essentielle'!$G$4:$G$1003,'Référentiel unitaire'!$AF$55),1)&LEFT(INDEX('Matrice EPRO Essentielle'!$H$4:$H$1003,'Référentiel unitaire'!$AF$55),1)&LEFT(INDEX('Matrice EPRO Essentielle'!$I$4:$I$1003,'Référentiel unitaire'!$AF$55),2)),IF('Référentiel unitaire'!$AG$55>0,INDEX('Matrice EPRO Unitaire'!$P$4:$P$503,'Référentiel unitaire'!$AG$55),"")) | B54: =IF('Référentiel unitaire'!$AF$55>0,IF(ISBLANK(INDEX('Matrice EPRO Essentielle'!$K$4:$K$1003,'Référentiel unitaire'!$AF$55)),"",INDEX('Matrice EPRO Essentielle'!$L$4:$L$1003,'Référentiel unitaire'!$AF$55)),IF('Référentiel unitaire'!$AG$55>0,IF(INDEX('Matrice EPRO Unitaire'!$E$4:$E$503,'Référentiel unitaire'!$AG$55)="IBC / GRV","",INDEX('Matrice EPRO Unitaire'!$M$4:$M$503,'Référentiel unitaire'!$AG$55)),"")) | C54: =IF('Référentiel unitaire'!$AF$55>0,IF(ISBLANK(INDEX('Matrice EPRO Essentielle'!$K$4:$K$1003,'Référentiel unitaire'!$AF$55)),"",INDEX('Matrice EPRO Essentielle'!$K$4:$K$1003,'Référentiel unitaire'!$AF$55)),IF('Référentiel unitaire'!$AG$55>0,INDEX('Matrice EPRO Unitaire'!$J$4:$J$503,'Référentiel unitaire'!$AG$55),""))
A55: =IF('Référentiel unitaire'!$AF$56>0,IF(ISBLANK(INDEX('Matrice EPRO Essentielle'!$E$4:$E$1003,'Référentiel unitaire'!$AF$56)),"",LEFT(INDEX('Matrice EPRO Essentielle'!$E$4:$E$1003,'Référentiel unitaire'!$AF$56),1)&LEFT(INDEX('Matrice EPRO Essentielle'!$F$4:$F$1003,'Référentiel unitaire'!$AF$56),2)&LEFT(INDEX('Matrice EPRO Essentielle'!$G$4:$G$1003,'Référentiel unitaire'!$AF$56),1)&LEFT(INDEX('Matrice EPRO Essentielle'!$H$4:$H$1003,'Référentiel unitaire'!$AF$56),1)&LEFT(INDEX('Matrice EPRO Essentielle'!$I$4:$I$1003,'Référentiel unitaire'!$AF$56),2)),IF('Référentiel unitaire'!$AG$56>0,INDEX('Matrice EPRO Unitaire'!$P$4:$P$503,'Référentiel unitaire'!$AG$56),"")) | B55: =IF('Référentiel unitaire'!$AF$56>0,IF(ISBLANK(INDEX('Matrice EPRO Essentielle'!$K$4:$K$1003,'Référentiel unitaire'!$AF$56)),"",INDEX('Matrice EPRO Essentielle'!$L$4:$L$1003,'Référentiel unitaire'!$AF$56)),IF('Référentiel unitaire'!$AG$56>0,IF(INDEX('Matrice EPRO Unitaire'!$E$4:$E$503,'Référentiel unitaire'!$AG$56)="IBC / GRV","",INDEX('Matrice EPRO Unitaire'!$M$4:$M$503,'Référentiel unitaire'!$AG$56)),"")) | C55: =IF('Référentiel unitaire'!$AF$56>0,IF(ISBLANK(INDEX('Matrice EPRO Essentielle'!$K$4:$K$1003,'Référentiel unitaire'!$AF$56)),"",INDEX('Matrice EPRO Essentielle'!$K$4:$K$1003,'Référentiel unitaire'!$AF$56)),IF('Référentiel unitaire'!$AG$56>0,INDEX('Matrice EPRO Unitaire'!$J$4:$J$503,'Référentiel unitaire'!$AG$56),""))
A56: =IF('Référentiel unitaire'!$AF$57>0,IF(ISBLANK(INDEX('Matrice EPRO Essentielle'!$E$4:$E$1003,'Référentiel unitaire'!$AF$57)),"",LEFT(INDEX('Matrice EPRO Essentielle'!$E$4:$E$1003,'Référentiel unitaire'!$AF$57),1)&LEFT(INDEX('Matrice EPRO Essentielle'!$F$4:$F$1003,'Référentiel unitaire'!$AF$57),2)&LEFT(INDEX('Matrice EPRO Essentielle'!$G$4:$G$1003,'Référentiel unitaire'!$AF$57),1)&LEFT(INDEX('Matrice EPRO Essentielle'!$H$4:$H$1003,'Référentiel unitaire'!$AF$57),1)&LEFT(INDEX('Matrice EPRO Essentielle'!$I$4:$I$1003,'Référentiel unitaire'!$AF$57),2)),IF('Référentiel unitaire'!$AG$57>0,INDEX('Matrice EPRO Unitaire'!$P$4:$P$503,'Référentiel unitaire'!$AG$57),"")) | B56: =IF('Référentiel unitaire'!$AF$57>0,IF(ISBLANK(INDEX('Matrice EPRO Essentielle'!$K$4:$K$1003,'Référentiel unitaire'!$AF$57)),"",INDEX('Matrice EPRO Essentielle'!$L$4:$L$1003,'Référentiel unitaire'!$AF$57)),IF('Référentiel unitaire'!$AG$57>0,IF(INDEX('Matrice EPRO Unitaire'!$E$4:$E$503,'Référentiel unitaire'!$AG$57)="IBC / GRV","",INDEX('Matrice EPRO Unitaire'!$M$4:$M$503,'Référentiel unitaire'!$AG$57)),"")) | C56: =IF('Référentiel unitaire'!$AF$57>0,IF(ISBLANK(INDEX('Matrice EPRO Essentielle'!$K$4:$K$1003,'Référentiel unitaire'!$AF$57)),"",INDEX('Matrice EPRO Essentielle'!$K$4:$K$1003,'Référentiel unitaire'!$AF$57)),IF('Référentiel unitaire'!$AG$57>0,INDEX('Matrice EPRO Unitaire'!$J$4:$J$503,'Référentiel unitaire'!$AG$57),""))
A57: =IF('Référentiel unitaire'!$AF$58>0,IF(ISBLANK(INDEX('Matrice EPRO Essentielle'!$E$4:$E$1003,'Référentiel unitaire'!$AF$58)),"",LEFT(INDEX('Matrice EPRO Essentielle'!$E$4:$E$1003,'Référentiel unitaire'!$AF$58),1)&LEFT(INDEX('Matrice EPRO Essentielle'!$F$4:$F$1003,'Référentiel unitaire'!$AF$58),2)&LEFT(INDEX('Matrice EPRO Essentielle'!$G$4:$G$1003,'Référentiel unitaire'!$AF$58),1)&LEFT(INDEX('Matrice EPRO Essentielle'!$H$4:$H$1003,'Référentiel unitaire'!$AF$58),1)&LEFT(INDEX('Matrice EPRO Essentielle'!$I$4:$I$1003,'Référentiel unitaire'!$AF$58),2)),IF('Référentiel unitaire'!$AG$58>0,INDEX('Matrice EPRO Unitaire'!$P$4:$P$503,'Référentiel unitaire'!$AG$58),"")) | B57: =IF('Référentiel unitaire'!$AF$58>0,IF(ISBLANK(INDEX('Matrice EPRO Essentielle'!$K$4:$K$1003,'Référentiel unitaire'!$AF$58)),"",INDEX('Matrice EPRO Essentielle'!$L$4:$L$1003,'Référentiel unitaire'!$AF$58)),IF('Référentiel unitaire'!$AG$58>0,IF(INDEX('Matrice EPRO Unitaire'!$E$4:$E$503,'Référentiel unitaire'!$AG$58)="IBC / GRV","",INDEX('Matrice EPRO Unitaire'!$M$4:$M$503,'Référentiel unitaire'!$AG$58)),"")) | C57: =IF('Référentiel unitaire'!$AF$58>0,IF(ISBLANK(INDEX('Matrice EPRO Essentielle'!$K$4:$K$1003,'Référentiel unitaire'!$AF$58)),"",INDEX('Matrice EPRO Essentielle'!$K$4:$K$1003,'Référentiel unitaire'!$AF$58)),IF('Référentiel unitaire'!$AG$58>0,INDEX('Matrice EPRO Unitaire'!$J$4:$J$503,'Référentiel unitaire'!$AG$58),""))
A58: =IF('Référentiel unitaire'!$AF$59>0,IF(ISBLANK(INDEX('Matrice EPRO Essentielle'!$E$4:$E$1003,'Référentiel unitaire'!$AF$59)),"",LEFT(INDEX('Matrice EPRO Essentielle'!$E$4:$E$1003,'Référentiel unitaire'!$AF$59),1)&LEFT(INDEX('Matrice EPRO Essentielle'!$F$4:$F$1003,'Référentiel unitaire'!$AF$59),2)&LEFT(INDEX('Matrice EPRO Essentielle'!$G$4:$G$1003,'Référentiel unitaire'!$AF$59),1)&LEFT(INDEX('Matrice EPRO Essentielle'!$H$4:$H$1003,'Référentiel unitaire'!$AF$59),1)&LEFT(INDEX('Matrice EPRO Essentielle'!$I$4:$I$1003,'Référentiel unitaire'!$AF$59),2)),IF('Référentiel unitaire'!$AG$59>0,INDEX('Matrice EPRO Unitaire'!$P$4:$P$503,'Référentiel unitaire'!$AG$59),"")) | B58: =IF('Référentiel unitaire'!$AF$59>0,IF(ISBLANK(INDEX('Matrice EPRO Essentielle'!$K$4:$K$1003,'Référentiel unitaire'!$AF$59)),"",INDEX('Matrice EPRO Essentielle'!$L$4:$L$1003,'Référentiel unitaire'!$AF$59)),IF('Référentiel unitaire'!$AG$59>0,IF(INDEX('Matrice EPRO Unitaire'!$E$4:$E$503,'Référentiel unitaire'!$AG$59)="IBC / GRV","",INDEX('Matrice EPRO Unitaire'!$M$4:$M$503,'Référentiel unitaire'!$AG$59)),"")) | C58: =IF('Référentiel unitaire'!$AF$59>0,IF(ISBLANK(INDEX('Matrice EPRO Essentielle'!$K$4:$K$1003,'Référentiel unitaire'!$AF$59)),"",INDEX('Matrice EPRO Essentielle'!$K$4:$K$1003,'Référentiel unitaire'!$AF$59)),IF('Référentiel unitaire'!$AG$59>0,INDEX('Matrice EPRO Unitaire'!$J$4:$J$503,'Référentiel unitaire'!$AG$59),""))
A59: =IF('Référentiel unitaire'!$AF$60>0,IF(ISBLANK(INDEX('Matrice EPRO Essentielle'!$E$4:$E$1003,'Référentiel unitaire'!$AF$60)),"",LEFT(INDEX('Matrice EPRO Essentielle'!$E$4:$E$1003,'Référentiel unitaire'!$AF$60),1)&LEFT(INDEX('Matrice EPRO Essentielle'!$F$4:$F$1003,'Référentiel unitaire'!$AF$60),2)&LEFT(INDEX('Matrice EPRO Essentielle'!$G$4:$G$1003,'Référentiel unitaire'!$AF$60),1)&LEFT(INDEX('Matrice EPRO Essentielle'!$H$4:$H$1003,'Référentiel unitaire'!$AF$60),1)&LEFT(INDEX('Matrice EPRO Essentielle'!$I$4:$I$1003,'Référentiel unitaire'!$AF$60),2)),IF('Référentiel unitaire'!$AG$60>0,INDEX('Matrice EPRO Unitaire'!$P$4:$P$503,'Référentiel unitaire'!$AG$60),"")) | B59: =IF('Référentiel unitaire'!$AF$60>0,IF(ISBLANK(INDEX('Matrice EPRO Essentielle'!$K$4:$K$1003,'Référentiel unitaire'!$AF$60)),"",INDEX('Matrice EPRO Essentielle'!$L$4:$L$1003,'Référentiel unitaire'!$AF$60)),IF('Référentiel unitaire'!$AG$60>0,IF(INDEX('Matrice EPRO Unitaire'!$E$4:$E$503,'Référentiel unitaire'!$AG$60)="IBC / GRV","",INDEX('Matrice EPRO Unitaire'!$M$4:$M$503,'Référentiel unitaire'!$AG$60)),"")) | C59: =IF('Référentiel unitaire'!$AF$60>0,IF(ISBLANK(INDEX('Matrice EPRO Essentielle'!$K$4:$K$1003,'Référentiel unitaire'!$AF$60)),"",INDEX('Matrice EPRO Essentielle'!$K$4:$K$1003,'Référentiel unitaire'!$AF$60)),IF('Référentiel unitaire'!$AG$60>0,INDEX('Matrice EPRO Unitaire'!$J$4:$J$503,'Référentiel unitaire'!$AG$60),""))
A60: =IF('Référentiel unitaire'!$AF$61>0,IF(ISBLANK(INDEX('Matrice EPRO Essentielle'!$E$4:$E$1003,'Référentiel unitaire'!$AF$61)),"",LEFT(INDEX('Matrice EPRO Essentielle'!$E$4:$E$1003,'Référentiel unitaire'!$AF$61),1)&LEFT(INDEX('Matrice EPRO Essentielle'!$F$4:$F$1003,'Référentiel unitaire'!$AF$61),2)&LEFT(INDEX('Matrice EPRO Essentielle'!$G$4:$G$1003,'Référentiel unitaire'!$AF$61),1)&LEFT(INDEX('Matrice EPRO Essentielle'!$H$4:$H$1003,'Référentiel unitaire'!$AF$61),1)&LEFT(INDEX('Matrice EPRO Essentielle'!$I$4:$I$1003,'Référentiel unitaire'!$AF$61),2)),IF('Référentiel unitaire'!$AG$61>0,INDEX('Matrice EPRO Unitaire'!$P$4:$P$503,'Référentiel unitaire'!$AG$61),"")) | B60: =IF('Référentiel unitaire'!$AF$61>0,IF(ISBLANK(INDEX('Matrice EPRO Essentielle'!$K$4:$K$1003,'Référentiel unitaire'!$AF$61)),"",INDEX('Matrice EPRO Essentielle'!$L$4:$L$1003,'Référentiel unitaire'!$AF$61)),IF('Référentiel unitaire'!$AG$61>0,IF(INDEX('Matrice EPRO Unitaire'!$E$4:$E$503,'Référentiel unitaire'!$AG$61)="IBC / GRV","",INDEX('Matrice EPRO Unitaire'!$M$4:$M$503,'Référentiel unitaire'!$AG$61)),"")) | C60: =IF('Référentiel unitaire'!$AF$61>0,IF(ISBLANK(INDEX('Matrice EPRO Essentielle'!$K$4:$K$1003,'Référentiel unitaire'!$AF$61)),"",INDEX('Matrice EPRO Essentielle'!$K$4:$K$1003,'Référentiel unitaire'!$AF$61)),IF('Référentiel unitaire'!$AG$61>0,INDEX('Matrice EPRO Unitaire'!$J$4:$J$503,'Référentiel unitaire'!$AG$61),""))
A61: =IF('Référentiel unitaire'!$AF$62>0,IF(ISBLANK(INDEX('Matrice EPRO Essentielle'!$E$4:$E$1003,'Référentiel unitaire'!$AF$62)),"",LEFT(INDEX('Matrice EPRO Essentielle'!$E$4:$E$1003,'Référentiel unitaire'!$AF$62),1)&LEFT(INDEX('Matrice EPRO Essentielle'!$F$4:$F$1003,'Référentiel unitaire'!$AF$62),2)&LEFT(INDEX('Matrice EPRO Essentielle'!$G$4:$G$1003,'Référentiel unitaire'!$AF$62),1)&LEFT(INDEX('Matrice EPRO Essentielle'!$H$4:$H$1003,'Référentiel unitaire'!$AF$62),1)&LEFT(INDEX('Matrice EPRO Essentielle'!$I$4:$I$1003,'Référentiel unitaire'!$AF$62),2)),IF('Référentiel unitaire'!$AG$62>0,INDEX('Matrice EPRO Unitaire'!$P$4:$P$503,'Référentiel unitaire'!$AG$62),"")) | B61: =IF('Référentiel unitaire'!$AF$62>0,IF(ISBLANK(INDEX('Matrice EPRO Essentielle'!$K$4:$K$1003,'Référentiel unitaire'!$AF$62)),"",INDEX('Matrice EPRO Essentielle'!$L$4:$L$1003,'Référentiel unitaire'!$AF$62)),IF('Référentiel unitaire'!$AG$62>0,IF(INDEX('Matrice EPRO Unitaire'!$E$4:$E$503,'Référentiel unitaire'!$AG$62)="IBC / GRV","",INDEX('Matrice EPRO Unitaire'!$M$4:$M$503,'Référentiel unitaire'!$AG$62)),"")) | C61: =IF('Référentiel unitaire'!$AF$62>0,IF(ISBLANK(INDEX('Matrice EPRO Essentielle'!$K$4:$K$1003,'Référentiel unitaire'!$AF$62)),"",INDEX('Matrice EPRO Essentielle'!$K$4:$K$1003,'Référentiel unitaire'!$AF$62)),IF('Référentiel unitaire'!$AG$62>0,INDEX('Matrice EPRO Unitaire'!$J$4:$J$503,'Référentiel unitaire'!$AG$62),""))
A62: =IF('Référentiel unitaire'!$AF$63>0,IF(ISBLANK(INDEX('Matrice EPRO Essentielle'!$E$4:$E$1003,'Référentiel unitaire'!$AF$63)),"",LEFT(INDEX('Matrice EPRO Essentielle'!$E$4:$E$1003,'Référentiel unitaire'!$AF$63),1)&LEFT(INDEX('Matrice EPRO Essentielle'!$F$4:$F$1003,'Référentiel unitaire'!$AF$63),2)&LEFT(INDEX('Matrice EPRO Essentielle'!$G$4:$G$1003,'Référentiel unitaire'!$AF$63),1)&LEFT(INDEX('Matrice EPRO Essentielle'!$H$4:$H$1003,'Référentiel unitaire'!$AF$63),1)&LEFT(INDEX('Matrice EPRO Essentielle'!$I$4:$I$1003,'Référentiel unitaire'!$AF$63),2)),IF('Référentiel unitaire'!$AG$63>0,INDEX('Matrice EPRO Unitaire'!$P$4:$P$503,'Référentiel unitaire'!$AG$63),"")) | B62: =IF('Référentiel unitaire'!$AF$63>0,IF(ISBLANK(INDEX('Matrice EPRO Essentielle'!$K$4:$K$1003,'Référentiel unitaire'!$AF$63)),"",INDEX('Matrice EPRO Essentielle'!$L$4:$L$1003,'Référentiel unitaire'!$AF$63)),IF('Référentiel unitaire'!$AG$63>0,IF(INDEX('Matrice EPRO Unitaire'!$E$4:$E$503,'Référentiel unitaire'!$AG$63)="IBC / GRV","",INDEX('Matrice EPRO Unitaire'!$M$4:$M$503,'Référentiel unitaire'!$AG$63)),"")) | C62: =IF('Référentiel unitaire'!$AF$63>0,IF(ISBLANK(INDEX('Matrice EPRO Essentielle'!$K$4:$K$1003,'Référentiel unitaire'!$AF$63)),"",INDEX('Matrice EPRO Essentielle'!$K$4:$K$1003,'Référentiel unitaire'!$AF$63)),IF('Référentiel unitaire'!$AG$63>0,INDEX('Matrice EPRO Unitaire'!$J$4:$J$503,'Référentiel unitaire'!$AG$63),""))
A63: =IF('Référentiel unitaire'!$AF$64>0,IF(ISBLANK(INDEX('Matrice EPRO Essentielle'!$E$4:$E$1003,'Référentiel unitaire'!$AF$64)),"",LEFT(INDEX('Matrice EPRO Essentielle'!$E$4:$E$1003,'Référentiel unitaire'!$AF$64),1)&LEFT(INDEX('Matrice EPRO Essentielle'!$F$4:$F$1003,'Référentiel unitaire'!$AF$64),2)&LEFT(INDEX('Matrice EPRO Essentielle'!$G$4:$G$1003,'Référentiel unitaire'!$AF$64),1)&LEFT(INDEX('Matrice EPRO Essentielle'!$H$4:$H$1003,'Référentiel unitaire'!$AF$64),1)&LEFT(INDEX('Matrice EPRO Essentielle'!$I$4:$I$1003,'Référentiel unitaire'!$AF$64),2)),IF('Référentiel unitaire'!$AG$64>0,INDEX('Matrice EPRO Unitaire'!$P$4:$P$503,'Référentiel unitaire'!$AG$64),"")) | B63: =IF('Référentiel unitaire'!$AF$64>0,IF(ISBLANK(INDEX('Matrice EPRO Essentielle'!$K$4:$K$1003,'Référentiel unitaire'!$AF$64)),"",INDEX('Matrice EPRO Essentielle'!$L$4:$L$1003,'Référentiel unitaire'!$AF$64)),IF('Référentiel unitaire'!$AG$64>0,IF(INDEX('Matrice EPRO Unitaire'!$E$4:$E$503,'Référentiel unitaire'!$AG$64)="IBC / GRV","",INDEX('Matrice EPRO Unitaire'!$M$4:$M$503,'Référentiel unitaire'!$AG$64)),"")) | C63: =IF('Référentiel unitaire'!$AF$64>0,IF(ISBLANK(INDEX('Matrice EPRO Essentielle'!$K$4:$K$1003,'Référentiel unitaire'!$AF$64)),"",INDEX('Matrice EPRO Essentielle'!$K$4:$K$1003,'Référentiel unitaire'!$AF$64)),IF('Référentiel unitaire'!$AG$64>0,INDEX('Matrice EPRO Unitaire'!$J$4:$J$503,'Référentiel unitaire'!$AG$64),""))
A64: =IF('Référentiel unitaire'!$AF$65>0,IF(ISBLANK(INDEX('Matrice EPRO Essentielle'!$E$4:$E$1003,'Référentiel unitaire'!$AF$65)),"",LEFT(INDEX('Matrice EPRO Essentielle'!$E$4:$E$1003,'Référentiel unitaire'!$AF$65),1)&LEFT(INDEX('Matrice EPRO Essentielle'!$F$4:$F$1003,'Référentiel unitaire'!$AF$65),2)&LEFT(INDEX('Matrice EPRO Essentielle'!$G$4:$G$1003,'Référentiel unitaire'!$AF$65),1)&LEFT(INDEX('Matrice EPRO Essentielle'!$H$4:$H$1003,'Référentiel unitaire'!$AF$65),1)&LEFT(INDEX('Matrice EPRO Essentielle'!$I$4:$I$1003,'Référentiel unitaire'!$AF$65),2)),IF('Référentiel unitaire'!$AG$65>0,INDEX('Matrice EPRO Unitaire'!$P$4:$P$503,'Référentiel unitaire'!$AG$65),"")) | B64: =IF('Référentiel unitaire'!$AF$65>0,IF(ISBLANK(INDEX('Matrice EPRO Essentielle'!$K$4:$K$1003,'Référentiel unitaire'!$AF$65)),"",INDEX('Matrice EPRO Essentielle'!$L$4:$L$1003,'Référentiel unitaire'!$AF$65)),IF('Référentiel unitaire'!$AG$65>0,IF(INDEX('Matrice EPRO Unitaire'!$E$4:$E$503,'Référentiel unitaire'!$AG$65)="IBC / GRV","",INDEX('Matrice EPRO Unitaire'!$M$4:$M$503,'Référentiel unitaire'!$AG$65)),"")) | C64: =IF('Référentiel unitaire'!$AF$65>0,IF(ISBLANK(INDEX('Matrice EPRO Essentielle'!$K$4:$K$1003,'Référentiel unitaire'!$AF$65)),"",INDEX('Matrice EPRO Essentielle'!$K$4:$K$1003,'Référentiel unitaire'!$AF$65)),IF('Référentiel unitaire'!$AG$65>0,INDEX('Matrice EPRO Unitaire'!$J$4:$J$503,'Référentiel unitaire'!$AG$65),""))
A65: =IF('Référentiel unitaire'!$AF$66>0,IF(ISBLANK(INDEX('Matrice EPRO Essentielle'!$E$4:$E$1003,'Référentiel unitaire'!$AF$66)),"",LEFT(INDEX('Matrice EPRO Essentielle'!$E$4:$E$1003,'Référentiel unitaire'!$AF$66),1)&LEFT(INDEX('Matrice EPRO Essentielle'!$F$4:$F$1003,'Référentiel unitaire'!$AF$66),2)&LEFT(INDEX('Matrice EPRO Essentielle'!$G$4:$G$1003,'Référentiel unitaire'!$AF$66),1)&LEFT(INDEX('Matrice EPRO Essentielle'!$H$4:$H$1003,'Référentiel unitaire'!$AF$66),1)&LEFT(INDEX('Matrice EPRO Essentielle'!$I$4:$I$1003,'Référentiel unitaire'!$AF$66),2)),IF('Référentiel unitaire'!$AG$66>0,INDEX('Matrice EPRO Unitaire'!$P$4:$P$503,'Référentiel unitaire'!$AG$66),"")) | B65: =IF('Référentiel unitaire'!$AF$66>0,IF(ISBLANK(INDEX('Matrice EPRO Essentielle'!$K$4:$K$1003,'Référentiel unitaire'!$AF$66)),"",INDEX('Matrice EPRO Essentielle'!$L$4:$L$1003,'Référentiel unitaire'!$AF$66)),IF('Référentiel unitaire'!$AG$66>0,IF(INDEX('Matrice EPRO Unitaire'!$E$4:$E$503,'Référentiel unitaire'!$AG$66)="IBC / GRV","",INDEX('Matrice EPRO Unitaire'!$M$4:$M$503,'Référentiel unitaire'!$AG$66)),"")) | C65: =IF('Référentiel unitaire'!$AF$66>0,IF(ISBLANK(INDEX('Matrice EPRO Essentielle'!$K$4:$K$1003,'Référentiel unitaire'!$AF$66)),"",INDEX('Matrice EPRO Essentielle'!$K$4:$K$1003,'Référentiel unitaire'!$AF$66)),IF('Référentiel unitaire'!$AG$66>0,INDEX('Matrice EPRO Unitaire'!$J$4:$J$503,'Référentiel unitaire'!$AG$66),""))
A66: =IF('Référentiel unitaire'!$AF$67>0,IF(ISBLANK(INDEX('Matrice EPRO Essentielle'!$E$4:$E$1003,'Référentiel unitaire'!$AF$67)),"",LEFT(INDEX('Matrice EPRO Essentielle'!$E$4:$E$1003,'Référentiel unitaire'!$AF$67),1)&LEFT(INDEX('Matrice EPRO Essentielle'!$F$4:$F$1003,'Référentiel unitaire'!$AF$67),2)&LEFT(INDEX('Matrice EPRO Essentielle'!$G$4:$G$1003,'Référentiel unitaire'!$AF$67),1)&LEFT(INDEX('Matrice EPRO Essentielle'!$H$4:$H$1003,'Référentiel unitaire'!$AF$67),1)&LEFT(INDEX('Matrice EPRO Essentielle'!$I$4:$I$1003,'Référentiel unitaire'!$AF$67),2)),IF('Référentiel unitaire'!$AG$67>0,INDEX('Matrice EPRO Unitaire'!$P$4:$P$503,'Référentiel unitaire'!$AG$67),"")) | B66: =IF('Référentiel unitaire'!$AF$67>0,IF(ISBLANK(INDEX('Matrice EPRO Essentielle'!$K$4:$K$1003,'Référentiel unitaire'!$AF$67)),"",INDEX('Matrice EPRO Essentielle'!$L$4:$L$1003,'Référentiel unitaire'!$AF$67)),IF('Référentiel unitaire'!$AG$67>0,IF(INDEX('Matrice EPRO Unitaire'!$E$4:$E$503,'Référentiel unitaire'!$AG$67)="IBC / GRV","",INDEX('Matrice EPRO Unitaire'!$M$4:$M$503,'Référentiel unitaire'!$AG$67)),"")) | C66: =IF('Référentiel unitaire'!$AF$67>0,IF(ISBLANK(INDEX('Matrice EPRO Essentielle'!$K$4:$K$1003,'Référentiel unitaire'!$AF$67)),"",INDEX('Matrice EPRO Essentielle'!$K$4:$K$1003,'Référentiel unitaire'!$AF$67)),IF('Référentiel unitaire'!$AG$67>0,INDEX('Matrice EPRO Unitaire'!$J$4:$J$503,'Référentiel unitaire'!$AG$67),""))
A67: =IF('Référentiel unitaire'!$AF$68>0,IF(ISBLANK(INDEX('Matrice EPRO Essentielle'!$E$4:$E$1003,'Référentiel unitaire'!$AF$68)),"",LEFT(INDEX('Matrice EPRO Essentielle'!$E$4:$E$1003,'Référentiel unitaire'!$AF$68),1)&LEFT(INDEX('Matrice EPRO Essentielle'!$F$4:$F$1003,'Référentiel unitaire'!$AF$68),2)&LEFT(INDEX('Matrice EPRO Essentielle'!$G$4:$G$1003,'Référentiel unitaire'!$AF$68),1)&LEFT(INDEX('Matrice EPRO Essentielle'!$H$4:$H$1003,'Référentiel unitaire'!$AF$68),1)&LEFT(INDEX('Matrice EPRO Essentielle'!$I$4:$I$1003,'Référentiel unitaire'!$AF$68),2)),IF('Référentiel unitaire'!$AG$68>0,INDEX('Matrice EPRO Unitaire'!$P$4:$P$503,'Référentiel unitaire'!$AG$68),"")) | B67: =IF('Référentiel unitaire'!$AF$68>0,IF(ISBLANK(INDEX('Matrice EPRO Essentielle'!$K$4:$K$1003,'Référentiel unitaire'!$AF$68)),"",INDEX('Matrice EPRO Essentielle'!$L$4:$L$1003,'Référentiel unitaire'!$AF$68)),IF('Référentiel unitaire'!$AG$68>0,IF(INDEX('Matrice EPRO Unitaire'!$E$4:$E$503,'Référentiel unitaire'!$AG$68)="IBC / GRV","",INDEX('Matrice EPRO Unitaire'!$M$4:$M$503,'Référentiel unitaire'!$AG$68)),"")) | C67: =IF('Référentiel unitaire'!$AF$68>0,IF(ISBLANK(INDEX('Matrice EPRO Essentielle'!$K$4:$K$1003,'Référentiel unitaire'!$AF$68)),"",INDEX('Matrice EPRO Essentielle'!$K$4:$K$1003,'Référentiel unitaire'!$AF$68)),IF('Référentiel unitaire'!$AG$68>0,INDEX('Matrice EPRO Unitaire'!$J$4:$J$503,'Référentiel unitaire'!$AG$68),""))
A68: =IF('Référentiel unitaire'!$AF$69>0,IF(ISBLANK(INDEX('Matrice EPRO Essentielle'!$E$4:$E$1003,'Référentiel unitaire'!$AF$69)),"",LEFT(INDEX('Matrice EPRO Essentielle'!$E$4:$E$1003,'Référentiel unitaire'!$AF$69),1)&LEFT(INDEX('Matrice EPRO Essentielle'!$F$4:$F$1003,'Référentiel unitaire'!$AF$69),2)&LEFT(INDEX('Matrice EPRO Essentielle'!$G$4:$G$1003,'Référentiel unitaire'!$AF$69),1)&LEFT(INDEX('Matrice EPRO Essentielle'!$H$4:$H$1003,'Référentiel unitaire'!$AF$69),1)&LEFT(INDEX('Matrice EPRO Essentielle'!$I$4:$I$1003,'Référentiel unitaire'!$AF$69),2)),IF('Référentiel unitaire'!$AG$69>0,INDEX('Matrice EPRO Unitaire'!$P$4:$P$503,'Référentiel unitaire'!$AG$69),"")) | B68: =IF('Référentiel unitaire'!$AF$69>0,IF(ISBLANK(INDEX('Matrice EPRO Essentielle'!$K$4:$K$1003,'Référentiel unitaire'!$AF$69)),"",INDEX('Matrice EPRO Essentielle'!$L$4:$L$1003,'Référentiel unitaire'!$AF$69)),IF('Référentiel unitaire'!$AG$69>0,IF(INDEX('Matrice EPRO Unitaire'!$E$4:$E$503,'Référentiel unitaire'!$AG$69)="IBC / GRV","",INDEX('Matrice EPRO Unitaire'!$M$4:$M$503,'Référentiel unitaire'!$AG$69)),"")) | C68: =IF('Référentiel unitaire'!$AF$69>0,IF(ISBLANK(INDEX('Matrice EPRO Essentielle'!$K$4:$K$1003,'Référentiel unitaire'!$AF$69)),"",INDEX('Matrice EPRO Essentielle'!$K$4:$K$1003,'Référentiel unitaire'!$AF$69)),IF('Référentiel unitaire'!$AG$69>0,INDEX('Matrice EPRO Unitaire'!$J$4:$J$503,'Référentiel unitaire'!$AG$69),""))
A69: =IF('Référentiel unitaire'!$AF$70>0,IF(ISBLANK(INDEX('Matrice EPRO Essentielle'!$E$4:$E$1003,'Référentiel unitaire'!$AF$70)),"",LEFT(INDEX('Matrice EPRO Essentielle'!$E$4:$E$1003,'Référentiel unitaire'!$AF$70),1)&LEFT(INDEX('Matrice EPRO Essentielle'!$F$4:$F$1003,'Référentiel unitaire'!$AF$70),2)&LEFT(INDEX('Matrice EPRO Essentielle'!$G$4:$G$1003,'Référentiel unitaire'!$AF$70),1)&LEFT(INDEX('Matrice EPRO Essentielle'!$H$4:$H$1003,'Référentiel unitaire'!$AF$70),1)&LEFT(INDEX('Matrice EPRO Essentielle'!$I$4:$I$1003,'Référentiel unitaire'!$AF$70),2)),IF('Référentiel unitaire'!$AG$70>0,INDEX('Matrice EPRO Unitaire'!$P$4:$P$503,'Référentiel unitaire'!$AG$70),"")) | B69: =IF('Référentiel unitaire'!$AF$70>0,IF(ISBLANK(INDEX('Matrice EPRO Essentielle'!$K$4:$K$1003,'Référentiel unitaire'!$AF$70)),"",INDEX('Matrice EPRO Essentielle'!$L$4:$L$1003,'Référentiel unitaire'!$AF$70)),IF('Référentiel unitaire'!$AG$70>0,IF(INDEX('Matrice EPRO Unitaire'!$E$4:$E$503,'Référentiel unitaire'!$AG$70)="IBC / GRV","",INDEX('Matrice EPRO Unitaire'!$M$4:$M$503,'Référentiel unitaire'!$AG$70)),"")) | C69: =IF('Référentiel unitaire'!$AF$70>0,IF(ISBLANK(INDEX('Matrice EPRO Essentielle'!$K$4:$K$1003,'Référentiel unitaire'!$AF$70)),"",INDEX('Matrice EPRO Essentielle'!$K$4:$K$1003,'Référentiel unitaire'!$AF$70)),IF('Référentiel unitaire'!$AG$70>0,INDEX('Matrice EPRO Unitaire'!$J$4:$J$503,'Référentiel unitaire'!$AG$70),""))
A70: =IF('Référentiel unitaire'!$AF$71>0,IF(ISBLANK(INDEX('Matrice EPRO Essentielle'!$E$4:$E$1003,'Référentiel unitaire'!$AF$71)),"",LEFT(INDEX('Matrice EPRO Essentielle'!$E$4:$E$1003,'Référentiel unitaire'!$AF$71),1)&LEFT(INDEX('Matrice EPRO Essentielle'!$F$4:$F$1003,'Référentiel unitaire'!$AF$71),2)&LEFT(INDEX('Matrice EPRO Essentielle'!$G$4:$G$1003,'Référentiel unitaire'!$AF$71),1)&LEFT(INDEX('Matrice EPRO Essentielle'!$H$4:$H$1003,'Référentiel unitaire'!$AF$71),1)&LEFT(INDEX('Matrice EPRO Essentielle'!$I$4:$I$1003,'Référentiel unitaire'!$AF$71),2)),IF('Référentiel unitaire'!$AG$71>0,INDEX('Matrice EPRO Unitaire'!$P$4:$P$503,'Référentiel unitaire'!$AG$71),"")) | B70: =IF('Référentiel unitaire'!$AF$71>0,IF(ISBLANK(INDEX('Matrice EPRO Essentielle'!$K$4:$K$1003,'Référentiel unitaire'!$AF$71)),"",INDEX('Matrice EPRO Essentielle'!$L$4:$L$1003,'Référentiel unitaire'!$AF$71)),IF('Référentiel unitaire'!$AG$71>0,IF(INDEX('Matrice EPRO Unitaire'!$E$4:$E$503,'Référentiel unitaire'!$AG$71)="IBC / GRV","",INDEX('Matrice EPRO Unitaire'!$M$4:$M$503,'Référentiel unitaire'!$AG$71)),"")) | C70: =IF('Référentiel unitaire'!$AF$71>0,IF(ISBLANK(INDEX('Matrice EPRO Essentielle'!$K$4:$K$1003,'Référentiel unitaire'!$AF$71)),"",INDEX('Matrice EPRO Essentielle'!$K$4:$K$1003,'Référentiel unitaire'!$AF$71)),IF('Référentiel unitaire'!$AG$71>0,INDEX('Matrice EPRO Unitaire'!$J$4:$J$503,'Référentiel unitaire'!$AG$71),""))
A71: =IF('Référentiel unitaire'!$AF$72>0,IF(ISBLANK(INDEX('Matrice EPRO Essentielle'!$E$4:$E$1003,'Référentiel unitaire'!$AF$72)),"",LEFT(INDEX('Matrice EPRO Essentielle'!$E$4:$E$1003,'Référentiel unitaire'!$AF$72),1)&LEFT(INDEX('Matrice EPRO Essentielle'!$F$4:$F$1003,'Référentiel unitaire'!$AF$72),2)&LEFT(INDEX('Matrice EPRO Essentielle'!$G$4:$G$1003,'Référentiel unitaire'!$AF$72),1)&LEFT(INDEX('Matrice EPRO Essentielle'!$H$4:$H$1003,'Référentiel unitaire'!$AF$72),1)&LEFT(INDEX('Matrice EPRO Essentielle'!$I$4:$I$1003,'Référentiel unitaire'!$AF$72),2)),IF('Référentiel unitaire'!$AG$72>0,INDEX('Matrice EPRO Unitaire'!$P$4:$P$503,'Référentiel unitaire'!$AG$72),"")) | B71: =IF('Référentiel unitaire'!$AF$72>0,IF(ISBLANK(INDEX('Matrice EPRO Essentielle'!$K$4:$K$1003,'Référentiel unitaire'!$AF$72)),"",INDEX('Matrice EPRO Essentielle'!$L$4:$L$1003,'Référentiel unitaire'!$AF$72)),IF('Référentiel unitaire'!$AG$72>0,IF(INDEX('Matrice EPRO Unitaire'!$E$4:$E$503,'Référentiel unitaire'!$AG$72)="IBC / GRV","",INDEX('Matrice EPRO Unitaire'!$M$4:$M$503,'Référentiel unitaire'!$AG$72)),"")) | C71: =IF('Référentiel unitaire'!$AF$72>0,IF(ISBLANK(INDEX('Matrice EPRO Essentielle'!$K$4:$K$1003,'Référentiel unitaire'!$AF$72)),"",INDEX('Matrice EPRO Essentielle'!$K$4:$K$1003,'Référentiel unitaire'!$AF$72)),IF('Référentiel unitaire'!$AG$72>0,INDEX('Matrice EPRO Unitaire'!$J$4:$J$503,'Référentiel unitaire'!$AG$72),""))
A72: =IF('Référentiel unitaire'!$AF$73>0,IF(ISBLANK(INDEX('Matrice EPRO Essentielle'!$E$4:$E$1003,'Référentiel unitaire'!$AF$73)),"",LEFT(INDEX('Matrice EPRO Essentielle'!$E$4:$E$1003,'Référentiel unitaire'!$AF$73),1)&LEFT(INDEX('Matrice EPRO Essentielle'!$F$4:$F$1003,'Référentiel unitaire'!$AF$73),2)&LEFT(INDEX('Matrice EPRO Essentielle'!$G$4:$G$1003,'Référentiel unitaire'!$AF$73),1)&LEFT(INDEX('Matrice EPRO Essentielle'!$H$4:$H$1003,'Référentiel unitaire'!$AF$73),1)&LEFT(INDEX('Matrice EPRO Essentielle'!$I$4:$I$1003,'Référentiel unitaire'!$AF$73),2)),IF('Référentiel unitaire'!$AG$73>0,INDEX('Matrice EPRO Unitaire'!$P$4:$P$503,'Référentiel unitaire'!$AG$73),"")) | B72: =IF('Référentiel unitaire'!$AF$73>0,IF(ISBLANK(INDEX('Matrice EPRO Essentielle'!$K$4:$K$1003,'Référentiel unitaire'!$AF$73)),"",INDEX('Matrice EPRO Essentielle'!$L$4:$L$1003,'Référentiel unitaire'!$AF$73)),IF('Référentiel unitaire'!$AG$73>0,IF(INDEX('Matrice EPRO Unitaire'!$E$4:$E$503,'Référentiel unitaire'!$AG$73)="IBC / GRV","",INDEX('Matrice EPRO Unitaire'!$M$4:$M$503,'Référentiel unitaire'!$AG$73)),"")) | C72: =IF('Référentiel unitaire'!$AF$73>0,IF(ISBLANK(INDEX('Matrice EPRO Essentielle'!$K$4:$K$1003,'Référentiel unitaire'!$AF$73)),"",INDEX('Matrice EPRO Essentielle'!$K$4:$K$1003,'Référentiel unitaire'!$AF$73)),IF('Référentiel unitaire'!$AG$73>0,INDEX('Matrice EPRO Unitaire'!$J$4:$J$503,'Référentiel unitaire'!$AG$73),""))
A73: =IF('Référentiel unitaire'!$AF$74>0,IF(ISBLANK(INDEX('Matrice EPRO Essentielle'!$E$4:$E$1003,'Référentiel unitaire'!$AF$74)),"",LEFT(INDEX('Matrice EPRO Essentielle'!$E$4:$E$1003,'Référentiel unitaire'!$AF$74),1)&LEFT(INDEX('Matrice EPRO Essentielle'!$F$4:$F$1003,'Référentiel unitaire'!$AF$74),2)&LEFT(INDEX('Matrice EPRO Essentielle'!$G$4:$G$1003,'Référentiel unitaire'!$AF$74),1)&LEFT(INDEX('Matrice EPRO Essentielle'!$H$4:$H$1003,'Référentiel unitaire'!$AF$74),1)&LEFT(INDEX('Matrice EPRO Essentielle'!$I$4:$I$1003,'Référentiel unitaire'!$AF$74),2)),IF('Référentiel unitaire'!$AG$74>0,INDEX('Matrice EPRO Unitaire'!$P$4:$P$503,'Référentiel unitaire'!$AG$74),"")) | B73: =IF('Référentiel unitaire'!$AF$74>0,IF(ISBLANK(INDEX('Matrice EPRO Essentielle'!$K$4:$K$1003,'Référentiel unitaire'!$AF$74)),"",INDEX('Matrice EPRO Essentielle'!$L$4:$L$1003,'Référentiel unitaire'!$AF$74)),IF('Référentiel unitaire'!$AG$74>0,IF(INDEX('Matrice EPRO Unitaire'!$E$4:$E$503,'Référentiel unitaire'!$AG$74)="IBC / GRV","",INDEX('Matrice EPRO Unitaire'!$M$4:$M$503,'Référentiel unitaire'!$AG$74)),"")) | C73: =IF('Référentiel unitaire'!$AF$74>0,IF(ISBLANK(INDEX('Matrice EPRO Essentielle'!$K$4:$K$1003,'Référentiel unitaire'!$AF$74)),"",INDEX('Matrice EPRO Essentielle'!$K$4:$K$1003,'Référentiel unitaire'!$AF$74)),IF('Référentiel unitaire'!$AG$74>0,INDEX('Matrice EPRO Unitaire'!$J$4:$J$503,'Référentiel unitaire'!$AG$74),""))
A74: =IF('Référentiel unitaire'!$AF$75>0,IF(ISBLANK(INDEX('Matrice EPRO Essentielle'!$E$4:$E$1003,'Référentiel unitaire'!$AF$75)),"",LEFT(INDEX('Matrice EPRO Essentielle'!$E$4:$E$1003,'Référentiel unitaire'!$AF$75),1)&LEFT(INDEX('Matrice EPRO Essentielle'!$F$4:$F$1003,'Référentiel unitaire'!$AF$75),2)&LEFT(INDEX('Matrice EPRO Essentielle'!$G$4:$G$1003,'Référentiel unitaire'!$AF$75),1)&LEFT(INDEX('Matrice EPRO Essentielle'!$H$4:$H$1003,'Référentiel unitaire'!$AF$75),1)&LEFT(INDEX('Matrice EPRO Essentielle'!$I$4:$I$1003,'Référentiel unitaire'!$AF$75),2)),IF('Référentiel unitaire'!$AG$75>0,INDEX('Matrice EPRO Unitaire'!$P$4:$P$503,'Référentiel unitaire'!$AG$75),"")) | B74: =IF('Référentiel unitaire'!$AF$75>0,IF(ISBLANK(INDEX('Matrice EPRO Essentielle'!$K$4:$K$1003,'Référentiel unitaire'!$AF$75)),"",INDEX('Matrice EPRO Essentielle'!$L$4:$L$1003,'Référentiel unitaire'!$AF$75)),IF('Référentiel unitaire'!$AG$75>0,IF(INDEX('Matrice EPRO Unitaire'!$E$4:$E$503,'Référentiel unitaire'!$AG$75)="IBC / GRV","",INDEX('Matrice EPRO Unitaire'!$M$4:$M$503,'Référentiel unitaire'!$AG$75)),"")) | C74: =IF('Référentiel unitaire'!$AF$75>0,IF(ISBLANK(INDEX('Matrice EPRO Essentielle'!$K$4:$K$1003,'Référentiel unitaire'!$AF$75)),"",INDEX('Matrice EPRO Essentielle'!$K$4:$K$1003,'Référentiel unitaire'!$AF$75)),IF('Référentiel unitaire'!$AG$75>0,INDEX('Matrice EPRO Unitaire'!$J$4:$J$503,'Référentiel unitaire'!$AG$75),""))
A75: =IF('Référentiel unitaire'!$AF$76>0,IF(ISBLANK(INDEX('Matrice EPRO Essentielle'!$E$4:$E$1003,'Référentiel unitaire'!$AF$76)),"",LEFT(INDEX('Matrice EPRO Essentielle'!$E$4:$E$1003,'Référentiel unitaire'!$AF$76),1)&LEFT(INDEX('Matrice EPRO Essentielle'!$F$4:$F$1003,'Référentiel unitaire'!$AF$76),2)&LEFT(INDEX('Matrice EPRO Essentielle'!$G$4:$G$1003,'Référentiel unitaire'!$AF$76),1)&LEFT(INDEX('Matrice EPRO Essentielle'!$H$4:$H$1003,'Référentiel unitaire'!$AF$76),1)&LEFT(INDEX('Matrice EPRO Essentielle'!$I$4:$I$1003,'Référentiel unitaire'!$AF$76),2)),IF('Référentiel unitaire'!$AG$76>0,INDEX('Matrice EPRO Unitaire'!$P$4:$P$503,'Référentiel unitaire'!$AG$76),"")) | B75: =IF('Référentiel unitaire'!$AF$76>0,IF(ISBLANK(INDEX('Matrice EPRO Essentielle'!$K$4:$K$1003,'Référentiel unitaire'!$AF$76)),"",INDEX('Matrice EPRO Essentielle'!$L$4:$L$1003,'Référentiel unitaire'!$AF$76)),IF('Référentiel unitaire'!$AG$76>0,IF(INDEX('Matrice EPRO Unitaire'!$E$4:$E$503,'Référentiel unitaire'!$AG$76)="IBC / GRV","",INDEX('Matrice EPRO Unitaire'!$M$4:$M$503,'Référentiel unitaire'!$AG$76)),"")) | C75: =IF('Référentiel unitaire'!$AF$76>0,IF(ISBLANK(INDEX('Matrice EPRO Essentielle'!$K$4:$K$1003,'Référentiel unitaire'!$AF$76)),"",INDEX('Matrice EPRO Essentielle'!$K$4:$K$1003,'Référentiel unitaire'!$AF$76)),IF('Référentiel unitaire'!$AG$76>0,INDEX('Matrice EPRO Unitaire'!$J$4:$J$503,'Référentiel unitaire'!$AG$76),""))
A76: =IF('Référentiel unitaire'!$AF$77>0,IF(ISBLANK(INDEX('Matrice EPRO Essentielle'!$E$4:$E$1003,'Référentiel unitaire'!$AF$77)),"",LEFT(INDEX('Matrice EPRO Essentielle'!$E$4:$E$1003,'Référentiel unitaire'!$AF$77),1)&LEFT(INDEX('Matrice EPRO Essentielle'!$F$4:$F$1003,'Référentiel unitaire'!$AF$77),2)&LEFT(INDEX('Matrice EPRO Essentielle'!$G$4:$G$1003,'Référentiel unitaire'!$AF$77),1)&LEFT(INDEX('Matrice EPRO Essentielle'!$H$4:$H$1003,'Référentiel unitaire'!$AF$77),1)&LEFT(INDEX('Matrice EPRO Essentielle'!$I$4:$I$1003,'Référentiel unitaire'!$AF$77),2)),IF('Référentiel unitaire'!$AG$77>0,INDEX('Matrice EPRO Unitaire'!$P$4:$P$503,'Référentiel unitaire'!$AG$77),"")) | B76: =IF('Référentiel unitaire'!$AF$77>0,IF(ISBLANK(INDEX('Matrice EPRO Essentielle'!$K$4:$K$1003,'Référentiel unitaire'!$AF$77)),"",INDEX('Matrice EPRO Essentielle'!$L$4:$L$1003,'Référentiel unitaire'!$AF$77)),IF('Référentiel unitaire'!$AG$77>0,IF(INDEX('Matrice EPRO Unitaire'!$E$4:$E$503,'Référentiel unitaire'!$AG$77)="IBC / GRV","",INDEX('Matrice EPRO Unitaire'!$M$4:$M$503,'Référentiel unitaire'!$AG$77)),"")) | C76: =IF('Référentiel unitaire'!$AF$77>0,IF(ISBLANK(INDEX('Matrice EPRO Essentielle'!$K$4:$K$1003,'Référentiel unitaire'!$AF$77)),"",INDEX('Matrice EPRO Essentielle'!$K$4:$K$1003,'Référentiel unitaire'!$AF$77)),IF('Référentiel unitaire'!$AG$77>0,INDEX('Matrice EPRO Unitaire'!$J$4:$J$503,'Référentiel unitaire'!$AG$77),""))
A77: =IF('Référentiel unitaire'!$AF$78>0,IF(ISBLANK(INDEX('Matrice EPRO Essentielle'!$E$4:$E$1003,'Référentiel unitaire'!$AF$78)),"",LEFT(INDEX('Matrice EPRO Essentielle'!$E$4:$E$1003,'Référentiel unitaire'!$AF$78),1)&LEFT(INDEX('Matrice EPRO Essentielle'!$F$4:$F$1003,'Référentiel unitaire'!$AF$78),2)&LEFT(INDEX('Matrice EPRO Essentielle'!$G$4:$G$1003,'Référentiel unitaire'!$AF$78),1)&LEFT(INDEX('Matrice EPRO Essentielle'!$H$4:$H$1003,'Référentiel unitaire'!$AF$78),1)&LEFT(INDEX('Matrice EPRO Essentielle'!$I$4:$I$1003,'Référentiel unitaire'!$AF$78),2)),IF('Référentiel unitaire'!$AG$78>0,INDEX('Matrice EPRO Unitaire'!$P$4:$P$503,'Référentiel unitaire'!$AG$78),"")) | B77: =IF('Référentiel unitaire'!$AF$78>0,IF(ISBLANK(INDEX('Matrice EPRO Essentielle'!$K$4:$K$1003,'Référentiel unitaire'!$AF$78)),"",INDEX('Matrice EPRO Essentielle'!$L$4:$L$1003,'Référentiel unitaire'!$AF$78)),IF('Référentiel unitaire'!$AG$78>0,IF(INDEX('Matrice EPRO Unitaire'!$E$4:$E$503,'Référentiel unitaire'!$AG$78)="IBC / GRV","",INDEX('Matrice EPRO Unitaire'!$M$4:$M$503,'Référentiel unitaire'!$AG$78)),"")) | C77: =IF('Référentiel unitaire'!$AF$78>0,IF(ISBLANK(INDEX('Matrice EPRO Essentielle'!$K$4:$K$1003,'Référentiel unitaire'!$AF$78)),"",INDEX('Matrice EPRO Essentielle'!$K$4:$K$1003,'Référentiel unitaire'!$AF$78)),IF('Référentiel unitaire'!$AG$78>0,INDEX('Matrice EPRO Unitaire'!$J$4:$J$503,'Référentiel unitaire'!$AG$78),""))
A78: =IF('Référentiel unitaire'!$AF$79>0,IF(ISBLANK(INDEX('Matrice EPRO Essentielle'!$E$4:$E$1003,'Référentiel unitaire'!$AF$79)),"",LEFT(INDEX('Matrice EPRO Essentielle'!$E$4:$E$1003,'Référentiel unitaire'!$AF$79),1)&LEFT(INDEX('Matrice EPRO Essentielle'!$F$4:$F$1003,'Référentiel unitaire'!$AF$79),2)&LEFT(INDEX('Matrice EPRO Essentielle'!$G$4:$G$1003,'Référentiel unitaire'!$AF$79),1)&LEFT(INDEX('Matrice EPRO Essentielle'!$H$4:$H$1003,'Référentiel unitaire'!$AF$79),1)&LEFT(INDEX('Matrice EPRO Essentielle'!$I$4:$I$1003,'Référentiel unitaire'!$AF$79),2)),IF('Référentiel unitaire'!$AG$79>0,INDEX('Matrice EPRO Unitaire'!$P$4:$P$503,'Référentiel unitaire'!$AG$79),"")) | B78: =IF('Référentiel unitaire'!$AF$79>0,IF(ISBLANK(INDEX('Matrice EPRO Essentielle'!$K$4:$K$1003,'Référentiel unitaire'!$AF$79)),"",INDEX('Matrice EPRO Essentielle'!$L$4:$L$1003,'Référentiel unitaire'!$AF$79)),IF('Référentiel unitaire'!$AG$79>0,IF(INDEX('Matrice EPRO Unitaire'!$E$4:$E$503,'Référentiel unitaire'!$AG$79)="IBC / GRV","",INDEX('Matrice EPRO Unitaire'!$M$4:$M$503,'Référentiel unitaire'!$AG$79)),"")) | C78: =IF('Référentiel unitaire'!$AF$79>0,IF(ISBLANK(INDEX('Matrice EPRO Essentielle'!$K$4:$K$1003,'Référentiel unitaire'!$AF$79)),"",INDEX('Matrice EPRO Essentielle'!$K$4:$K$1003,'Référentiel unitaire'!$AF$79)),IF('Référentiel unitaire'!$AG$79>0,INDEX('Matrice EPRO Unitaire'!$J$4:$J$503,'Référentiel unitaire'!$AG$79),""))
A79: =IF('Référentiel unitaire'!$AF$80>0,IF(ISBLANK(INDEX('Matrice EPRO Essentielle'!$E$4:$E$1003,'Référentiel unitaire'!$AF$80)),"",LEFT(INDEX('Matrice EPRO Essentielle'!$E$4:$E$1003,'Référentiel unitaire'!$AF$80),1)&LEFT(INDEX('Matrice EPRO Essentielle'!$F$4:$F$1003,'Référentiel unitaire'!$AF$80),2)&LEFT(INDEX('Matrice EPRO Essentielle'!$G$4:$G$1003,'Référentiel unitaire'!$AF$80),1)&LEFT(INDEX('Matrice EPRO Essentielle'!$H$4:$H$1003,'Référentiel unitaire'!$AF$80),1)&LEFT(INDEX('Matrice EPRO Essentielle'!$I$4:$I$1003,'Référentiel unitaire'!$AF$80),2)),IF('Référentiel unitaire'!$AG$80>0,INDEX('Matrice EPRO Unitaire'!$P$4:$P$503,'Référentiel unitaire'!$AG$80),"")) | B79: =IF('Référentiel unitaire'!$AF$80>0,IF(ISBLANK(INDEX('Matrice EPRO Essentielle'!$K$4:$K$1003,'Référentiel unitaire'!$AF$80)),"",INDEX('Matrice EPRO Essentielle'!$L$4:$L$1003,'Référentiel unitaire'!$AF$80)),IF('Référentiel unitaire'!$AG$80>0,IF(INDEX('Matrice EPRO Unitaire'!$E$4:$E$503,'Référentiel unitaire'!$AG$80)="IBC / GRV","",INDEX('Matrice EPRO Unitaire'!$M$4:$M$503,'Référentiel unitaire'!$AG$80)),"")) | C79: =IF('Référentiel unitaire'!$AF$80>0,IF(ISBLANK(INDEX('Matrice EPRO Essentielle'!$K$4:$K$1003,'Référentiel unitaire'!$AF$80)),"",INDEX('Matrice EPRO Essentielle'!$K$4:$K$1003,'Référentiel unitaire'!$AF$80)),IF('Référentiel unitaire'!$AG$80>0,INDEX('Matrice EPRO Unitaire'!$J$4:$J$503,'Référentiel unitaire'!$AG$80),""))
A80: =IF('Référentiel unitaire'!$AF$81>0,IF(ISBLANK(INDEX('Matrice EPRO Essentielle'!$E$4:$E$1003,'Référentiel unitaire'!$AF$81)),"",LEFT(INDEX('Matrice EPRO Essentielle'!$E$4:$E$1003,'Référentiel unitaire'!$AF$81),1)&LEFT(INDEX('Matrice EPRO Essentielle'!$F$4:$F$1003,'Référentiel unitaire'!$AF$81),2)&LEFT(INDEX('Matrice EPRO Essentielle'!$G$4:$G$1003,'Référentiel unitaire'!$AF$81),1)&LEFT(INDEX('Matrice EPRO Essentielle'!$H$4:$H$1003,'Référentiel unitaire'!$AF$81),1)&LEFT(INDEX('Matrice EPRO Essentielle'!$I$4:$I$1003,'Référentiel unitaire'!$AF$81),2)),IF('Référentiel unitaire'!$AG$81>0,INDEX('Matrice EPRO Unitaire'!$P$4:$P$503,'Référentiel unitaire'!$AG$81),"")) | B80: =IF('Référentiel unitaire'!$AF$81>0,IF(ISBLANK(INDEX('Matrice EPRO Essentielle'!$K$4:$K$1003,'Référentiel unitaire'!$AF$81)),"",INDEX('Matrice EPRO Essentielle'!$L$4:$L$1003,'Référentiel unitaire'!$AF$81)),IF('Référentiel unitaire'!$AG$81>0,IF(INDEX('Matrice EPRO Unitaire'!$E$4:$E$503,'Référentiel unitaire'!$AG$81)="IBC / GRV","",INDEX('Matrice EPRO Unitaire'!$M$4:$M$503,'Référentiel unitaire'!$AG$81)),"")) | C80: =IF('Référentiel unitaire'!$AF$81>0,IF(ISBLANK(INDEX('Matrice EPRO Essentielle'!$K$4:$K$1003,'Référentiel unitaire'!$AF$81)),"",INDEX('Matrice EPRO Essentielle'!$K$4:$K$1003,'Référentiel unitaire'!$AF$81)),IF('Référentiel unitaire'!$AG$81>0,INDEX('Matrice EPRO Unitaire'!$J$4:$J$503,'Référentiel unitaire'!$AG$81),""))
A81: =IF('Référentiel unitaire'!$AF$82>0,IF(ISBLANK(INDEX('Matrice EPRO Essentielle'!$E$4:$E$1003,'Référentiel unitaire'!$AF$82)),"",LEFT(INDEX('Matrice EPRO Essentielle'!$E$4:$E$1003,'Référentiel unitaire'!$AF$82),1)&LEFT(INDEX('Matrice EPRO Essentielle'!$F$4:$F$1003,'Référentiel unitaire'!$AF$82),2)&LEFT(INDEX('Matrice EPRO Essentielle'!$G$4:$G$1003,'Référentiel unitaire'!$AF$82),1)&LEFT(INDEX('Matrice EPRO Essentielle'!$H$4:$H$1003,'Référentiel unitaire'!$AF$82),1)&LEFT(INDEX('Matrice EPRO Essentielle'!$I$4:$I$1003,'Référentiel unitaire'!$AF$82),2)),IF('Référentiel unitaire'!$AG$82>0,INDEX('Matrice EPRO Unitaire'!$P$4:$P$503,'Référentiel unitaire'!$AG$82),"")) | B81: =IF('Référentiel unitaire'!$AF$82>0,IF(ISBLANK(INDEX('Matrice EPRO Essentielle'!$K$4:$K$1003,'Référentiel unitaire'!$AF$82)),"",INDEX('Matrice EPRO Essentielle'!$L$4:$L$1003,'Référentiel unitaire'!$AF$82)),IF('Référentiel unitaire'!$AG$82>0,IF(INDEX('Matrice EPRO Unitaire'!$E$4:$E$503,'Référentiel unitaire'!$AG$82)="IBC / GRV","",INDEX('Matrice EPRO Unitaire'!$M$4:$M$503,'Référentiel unitaire'!$AG$82)),"")) | C81: =IF('Référentiel unitaire'!$AF$82>0,IF(ISBLANK(INDEX('Matrice EPRO Essentielle'!$K$4:$K$1003,'Référentiel unitaire'!$AF$82)),"",INDEX('Matrice EPRO Essentielle'!$K$4:$K$1003,'Référentiel unitaire'!$AF$82)),IF('Référentiel unitaire'!$AG$82>0,INDEX('Matrice EPRO Unitaire'!$J$4:$J$503,'Référentiel unitaire'!$AG$82),""))
A82: =IF('Référentiel unitaire'!$AF$83>0,IF(ISBLANK(INDEX('Matrice EPRO Essentielle'!$E$4:$E$1003,'Référentiel unitaire'!$AF$83)),"",LEFT(INDEX('Matrice EPRO Essentielle'!$E$4:$E$1003,'Référentiel unitaire'!$AF$83),1)&LEFT(INDEX('Matrice EPRO Essentielle'!$F$4:$F$1003,'Référentiel unitaire'!$AF$83),2)&LEFT(INDEX('Matrice EPRO Essentielle'!$G$4:$G$1003,'Référentiel unitaire'!$AF$83),1)&LEFT(INDEX('Matrice EPRO Essentielle'!$H$4:$H$1003,'Référentiel unitaire'!$AF$83),1)&LEFT(INDEX('Matrice EPRO Essentielle'!$I$4:$I$1003,'Référentiel unitaire'!$AF$83),2)),IF('Référentiel unitaire'!$AG$83>0,INDEX('Matrice EPRO Unitaire'!$P$4:$P$503,'Référentiel unitaire'!$AG$83),"")) | B82: =IF('Référentiel unitaire'!$AF$83>0,IF(ISBLANK(INDEX('Matrice EPRO Essentielle'!$K$4:$K$1003,'Référentiel unitaire'!$AF$83)),"",INDEX('Matrice EPRO Essentielle'!$L$4:$L$1003,'Référentiel unitaire'!$AF$83)),IF('Référentiel unitaire'!$AG$83>0,IF(INDEX('Matrice EPRO Unitaire'!$E$4:$E$503,'Référentiel unitaire'!$AG$83)="IBC / GRV","",INDEX('Matrice EPRO Unitaire'!$M$4:$M$503,'Référentiel unitaire'!$AG$83)),"")) | C82: =IF('Référentiel unitaire'!$AF$83>0,IF(ISBLANK(INDEX('Matrice EPRO Essentielle'!$K$4:$K$1003,'Référentiel unitaire'!$AF$83)),"",INDEX('Matrice EPRO Essentielle'!$K$4:$K$1003,'Référentiel unitaire'!$AF$83)),IF('Référentiel unitaire'!$AG$83>0,INDEX('Matrice EPRO Unitaire'!$J$4:$J$503,'Référentiel unitaire'!$AG$83),""))
